BEGIN:VCALENDAR
VERSION:2.0
PRODID:-//Dallas County Republican Party - ECPv6.10.1//NONSGML v1.0//EN
CALSCALE:GREGORIAN
METHOD:PUBLISH
X-ORIGINAL-URL:https://dallasgop.org
X-WR-CALDESC:Events for Dallas County Republican Party
REFRESH-INTERVAL;VALUE=DURATION:PT1H
X-Robots-Tag:noindex
X-PUBLISHED-TTL:PT1H
BEGIN:VTIMEZONE
TZID:America/Chicago
BEGIN:DAYLIGHT
TZOFFSETFROM:-0600
TZOFFSETTO:-0500
TZNAME:CDT
DTSTART:20250309T080000
END:DAYLIGHT
BEGIN:STANDARD
TZOFFSETFROM:-0500
TZOFFSETTO:-0600
TZNAME:CST
DTSTART:20251102T070000
END:STANDARD
END:VTIMEZONE
BEGIN:VEVENT
DTSTART;TZID=America/Chicago:20250218T173000
DTEND;TZID=America/Chicago:20250218T193000
DTSTAMP:20260420T142155
CREATED:20250213T160424Z
LAST-MODIFIED:20250213T160934Z
UID:10002156-1739899800-1739907000@dallasgop.org
SUMMARY:Park Cities Republican Women (PCRW) February General Meeting: Energy Under Threat
DESCRIPTION:PCRW is excited to host Sanjay Narayan at our February General Meeting. Sanjay is a dedicated attorney based in Dallas\, Texas. In 2019\, Governor Greg Abbott appointed Sanjay to the Texas Radiation Advisory Board\, where he fights to shift Texas’s focus to fossil fuel and nuclear development. He will address the critical need for an energy policy that prioritizes reliability and abundance\, discussing how we can leverage our state’s resources to ensure energy security. \nKey takeaways will include understanding the strategic importance of fossil fuels and nuclear energy in our energy mix\, the policies currently standing in the way\, and how we can advocate for policies that support these sources for a stable and prosperous future.
URL:https://dallasgop.org/event/park-cities-republican-women-3-2/
LOCATION:Museum of Biblical Art\, 7500 Park Lane\, Dallas\, TX\, TX 75225\, United States
ATTACH;FMTTYPE=image/jpeg:https://dallasgop.org/wp-content/uploads/2025/02/PCRW-February-Event.jpg
END:VEVENT
END:VCALENDAR