BEGIN:VCALENDAR
VERSION:2.0
PRODID:-//Dallas County Republican Party - ECPv6.10.1//NONSGML v1.0//EN
CALSCALE:GREGORIAN
METHOD:PUBLISH
X-WR-CALNAME:Dallas County Republican Party
X-ORIGINAL-URL:https://dallasgop.org
X-WR-CALDESC:Events for Dallas County Republican Party
REFRESH-INTERVAL;VALUE=DURATION:PT1H
X-Robots-Tag:noindex
X-PUBLISHED-TTL:PT1H
BEGIN:VTIMEZONE
TZID:America/Chicago
BEGIN:DAYLIGHT
TZOFFSETFROM:-0600
TZOFFSETTO:-0500
TZNAME:CDT
DTSTART:20250309T080000
END:DAYLIGHT
BEGIN:STANDARD
TZOFFSETFROM:-0500
TZOFFSETTO:-0600
TZNAME:CST
DTSTART:20251102T070000
END:STANDARD
END:VTIMEZONE
BEGIN:VEVENT
DTSTART;TZID=America/Chicago:20250414T180000
DTEND;TZID=America/Chicago:20250414T200000
DTSTAMP:20260420T130109
CREATED:20250414T140615Z
LAST-MODIFIED:20250414T140615Z
UID:10003183-1744653600-1744660800@dallasgop.org
SUMMARY:Dallas City Council Candidate Forum
DESCRIPTION:Join Us At The DX Dallas City Council Candidates Forum on April 14th!
URL:https://dallasgop.org/event/dallas-city-council-candidate-forum/
LOCATION:Community Beer Company\, 3110 Commonwealth Dr\, Dallas\, TX\, 75247
END:VEVENT
BEGIN:VEVENT
DTSTART;TZID=America/Chicago:20250414T183000
DTEND;TZID=America/Chicago:20250414T200000
DTSTAMP:20260420T130109
CREATED:20240710T180713Z
LAST-MODIFIED:20240710T181114Z
UID:10000505-1744655400-1744660800@dallasgop.org
SUMMARY:Rowlett Area Republican Women's Club
DESCRIPTION:Come join us for our monthly meeting!
URL:https://dallasgop.org/event/rowlett-area-republican-womens-club/2025-04-14/
LOCATION:Freedom Place Church\, 4111 Main Street\, Rowlett\, TX\, 75088
ATTACH;FMTTYPE=image/jpeg:https://dallasgop.org/wp-content/uploads/2024/07/RRWC-LOGO.jpeg
END:VEVENT
BEGIN:VEVENT
DTSTART;TZID=America/Chicago:20250414T190000
DTEND;TZID=America/Chicago:20250414T213000
DTSTAMP:20260420T130109
CREATED:20250319T191209Z
LAST-MODIFIED:20250319T191209Z
UID:10003109-1744657200-1744666200@dallasgop.org
SUMMARY:Irving Republican Women April 14th Meeting
DESCRIPTION:IRW’s monthly meeting will feature guest speaker\, Steve Kinard\, President of AI Innovation Association on Monday\, 4/14/25\, at 7:00 PM at\nValley Centre (Darwin German Building)\,\n9901 Valley Ranch Parkway E\,\nIrving Texas 75063.\nRSVP to: https://form.jotform.com/241968325118057
URL:https://dallasgop.org/event/irving-republican-women-april-14th-meeting/
LOCATION:Valley Centre\, 9901 Valley Ranch Pkwy E\, Irving\, Texas\, 75039
ATTACH;FMTTYPE=image/jpeg:https://dallasgop.org/wp-content/uploads/2025/03/IRW-DCRP.jpg
END:VEVENT
END:VCALENDAR