BEGIN:VCALENDAR
VERSION:2.0
PRODID:-//Dallas County Republican Party - ECPv6.10.1//NONSGML v1.0//EN
CALSCALE:GREGORIAN
METHOD:PUBLISH
X-WR-CALNAME:Dallas County Republican Party
X-ORIGINAL-URL:https://dallasgop.org
X-WR-CALDESC:Events for Dallas County Republican Party
REFRESH-INTERVAL;VALUE=DURATION:PT1H
X-Robots-Tag:noindex
X-PUBLISHED-TTL:PT1H
BEGIN:VTIMEZONE
TZID:America/Chicago
BEGIN:DAYLIGHT
TZOFFSETFROM:-0600
TZOFFSETTO:-0500
TZNAME:CDT
DTSTART:20250309T080000
END:DAYLIGHT
BEGIN:STANDARD
TZOFFSETFROM:-0500
TZOFFSETTO:-0600
TZNAME:CST
DTSTART:20251102T070000
END:STANDARD
END:VTIMEZONE
BEGIN:VEVENT
DTSTART;TZID=America/Chicago:20250516T090000
DTEND;TZID=America/Chicago:20250516T103000
DTSTAMP:20260420T102315
CREATED:20250512T180526Z
LAST-MODIFIED:20250512T180526Z
UID:10003473-1747386000-1747391400@dallasgop.org
SUMMARY:Mornings with North Dallas Republicans
DESCRIPTION:Join us this Friday morning with special guest Everett Jackson\, DeSoto City Council candidate\, as he discusses his runoff election\, the challenges he’s facing from opponents\, and his push to the finish line.
URL:https://dallasgop.org/event/mornings-with-north-dallas-republicans/
LOCATION:Dallas County Republican Party HQ\, 11617 No. Central Expy\, Ste 240\, Dallas\, TX\, 75243
ATTACH;FMTTYPE=image/jpeg:https://dallasgop.org/wp-content/uploads/2025/05/North-Dallas.jpeg
ORGANIZER;CN="North Dallas Republicans":MAILTO:northdallasrepublicans@gmail.com
END:VEVENT
END:VCALENDAR