BEGIN:VCALENDAR
VERSION:2.0
PRODID:-//Dallas County Republican Party - ECPv6.10.1//NONSGML v1.0//EN
CALSCALE:GREGORIAN
METHOD:PUBLISH
X-ORIGINAL-URL:https://dallasgop.org
X-WR-CALDESC:Events for Dallas County Republican Party
REFRESH-INTERVAL;VALUE=DURATION:PT1H
X-Robots-Tag:noindex
X-PUBLISHED-TTL:PT1H
BEGIN:VTIMEZONE
TZID:America/Chicago
BEGIN:DAYLIGHT
TZOFFSETFROM:-0600
TZOFFSETTO:-0500
TZNAME:CDT
DTSTART:20250309T080000
END:DAYLIGHT
BEGIN:STANDARD
TZOFFSETFROM:-0500
TZOFFSETTO:-0600
TZNAME:CST
DTSTART:20251102T070000
END:STANDARD
END:VTIMEZONE
BEGIN:VEVENT
DTSTART;TZID=America/Chicago:20250518T180000
DTEND;TZID=America/Chicago:20250518T213000
DTSTAMP:20260422T135205
CREATED:20250505T150522Z
LAST-MODIFIED:20250505T150522Z
UID:10003469-1747591200-1747603800@dallasgop.org
SUMMARY:Follow The Silenced - Dallas Film Premiere and Discussion!
DESCRIPTION:We are thrilled to announce the Dallas Premiere of the ground-breaking and award-winning documentary ‘Follow The Silenced’! Join us on Sunday\, May 18th @ 6PM at the Angelika Film Center & Cafe in Dallas! \nWe will be joined by Executive Producer and Creator of the Plandemic Series Mikki Willis\, Director Matthew Guthrie\, Editor Tyler Lindsay\, President of Texans for Vaccine Choice Rebecca Hardy and several other special guests! \nEvent Schedule:\n6:00PM – Doors Open. Guest Check-In \n6:15PM – VIP Photo Opp with Mikki Willis & Special Guests \n7:00PM – Film Screening Begins \n8:45PM – Panel and Q&A with Mikki Willis\, Matthew Guthrie\, Tyler Lindsay\, Rebecca Hardy & More! \nThis documentary expertly exposes the corruption of Big Pharma and government authorities during the COVID-19 hysteria and their coverup of the tragic findings from the experimental vaccine trial programs. Most importantly\, it gives a voice to the real people whose lives have been forever changed by being the first to say yes to the Covid-19 vaccine trials. \nIn March\, Follow the Silenced won the 2025 Santa Monica International Film Festival’s “Best of Festival” and “Best Director.” and now we are excited to introduce the film to y’all in Dallas\, TX! \nJoin us for this impactful and eye-opening event!
URL:https://dallasgop.org/event/follow-the-silenced-dallas-film-premiere-and-discussion/
LOCATION:Angelika Film Center\, 5321 E. Mockingbird Ln #230\, Dallas\, TX\, 75206
ATTACH;FMTTYPE=image/jpeg:https://dallasgop.org/wp-content/uploads/2025/05/DCRP-Version-Follow-the-Silenced-1080-x-1080-px.jpg
END:VEVENT
END:VCALENDAR