BEGIN:VCALENDAR
VERSION:2.0
PRODID:-//Dallas County Republican Party - ECPv6.10.1//NONSGML v1.0//EN
CALSCALE:GREGORIAN
METHOD:PUBLISH
X-WR-CALNAME:Dallas County Republican Party
X-ORIGINAL-URL:https://dallasgop.org
X-WR-CALDESC:Events for Dallas County Republican Party
REFRESH-INTERVAL;VALUE=DURATION:PT1H
X-Robots-Tag:noindex
X-PUBLISHED-TTL:PT1H
BEGIN:VTIMEZONE
TZID:America/Chicago
BEGIN:DAYLIGHT
TZOFFSETFROM:-0600
TZOFFSETTO:-0500
TZNAME:CDT
DTSTART:20250309T080000
END:DAYLIGHT
BEGIN:STANDARD
TZOFFSETFROM:-0500
TZOFFSETTO:-0600
TZNAME:CST
DTSTART:20251102T070000
END:STANDARD
END:VTIMEZONE
BEGIN:VEVENT
DTSTART;TZID=America/Chicago:20250604T183000
DTEND;TZID=America/Chicago:20250604T200000
DTSTAMP:20260420T153643
CREATED:20250602T182123Z
LAST-MODIFIED:20250602T190216Z
UID:10003773-1749061800-1749067200@dallasgop.org
SUMMARY:Joe Allen Event
DESCRIPTION:Make sure you RSVP soon as we have limited seating. People will be coming from Collin\, Denton\, and Dallas Counties so seats will fill fast. \nRSVP at info@dallasgop.org
URL:https://dallasgop.org/event/joe-allen-event/
LOCATION:Dallas County Republican Party HQ\, 11617 No. Central Expy\, Ste 240\, Dallas\, TX\, 75243
ATTACH;FMTTYPE=image/jpeg:https://dallasgop.org/wp-content/uploads/2025/06/unnamed-1.jpg
ORGANIZER;CN="North Dallas Republicans":MAILTO:northdallasrepublicans@gmail.com
END:VEVENT
END:VCALENDAR