BEGIN:VCALENDAR
VERSION:2.0
PRODID:-//Dallas County Republican Party - ECPv6.10.1//NONSGML v1.0//EN
CALSCALE:GREGORIAN
METHOD:PUBLISH
X-WR-CALNAME:Dallas County Republican Party
X-ORIGINAL-URL:https://dallasgop.org
X-WR-CALDESC:Events for Dallas County Republican Party
REFRESH-INTERVAL;VALUE=DURATION:PT1H
X-Robots-Tag:noindex
X-PUBLISHED-TTL:PT1H
BEGIN:VTIMEZONE
TZID:America/Chicago
BEGIN:DAYLIGHT
TZOFFSETFROM:-0600
TZOFFSETTO:-0500
TZNAME:CDT
DTSTART:20250309T080000
END:DAYLIGHT
BEGIN:STANDARD
TZOFFSETFROM:-0500
TZOFFSETTO:-0600
TZNAME:CST
DTSTART:20251102T070000
END:STANDARD
TZID:UTC
BEGIN:STANDARD
TZOFFSETFROM:+0000
TZOFFSETTO:+0000
TZNAME:UTC
DTSTART:20250101T000000
END:STANDARD
END:VTIMEZONE
BEGIN:VEVENT
DTSTART;TZID=America/Chicago:20250610T090000
DTEND;TZID=America/Chicago:20250610T100000
DTSTAMP:20260420T141438
CREATED:20250602T174412Z
LAST-MODIFIED:20250602T174412Z
UID:10003511-1749546000-1749549600@dallasgop.org
SUMMARY:Pancake House Republicans
DESCRIPTION:Tuesday mornings at 9:00 every week. \nThe Original Pancake House in Addison\, Texas \n5220 Beltline Road\, Dallas\, TX 75254-7530. \nPlease invite a friend or neighbor to join you!
URL:https://dallasgop.org/event/pancake-house-republicans/2025-06-10/
LOCATION:Original Pancake House\, 5220 Belt Line Rd\, Dallas\, TX\, 75254
ORGANIZER;CN="The Pancake House Republicans":MAILTO:moore.kathleen@tx.rr.com
END:VEVENT
BEGIN:VEVENT
DTSTART;TZID=America/Chicago:20250610T180000
DTEND;TZID=America/Chicago:20250610T200000
DTSTAMP:20260420T141438
CREATED:20250603T170924Z
LAST-MODIFIED:20250610T181037Z
UID:10003806-1749578400-1749585600@dallasgop.org
SUMMARY:Coppell Republican Club - Taco Tuesday Social @ Am. Legion Post 597 Carrollton
DESCRIPTION:Coppell Republican Club – Taco Tuesday and Happy Hour Social – June 10\, 2025\, 6-8pm: \nTACO TUESDAY!\n1 for $2 or 3 for $5 Tacos\n$3 Small Margaritas \nJoin us on June 10th for a festive evening with our awesome Carrollton friends. Good Food – Better Company!\nDon’t miss this fun outing! \nJune 10\, 6:00pm – 8:00pm\nAmerican Legion Post 597 Carrollton\n1024 Elm Street\nCarrollton\, TX \n#CoppellRepublicanClub \nFor planning purposes\, please RSVP on the jotform link below if you know you’re attending:\nRSVP Here: https://form.jotform.com/221697409530156
URL:https://dallasgop.org/event/coppell-republican-club-meeting-june-2025/
LOCATION:American Legion Post 597 in Carrollton\, 1024 Elm Street\, Carrollton\, TX\, 75006
ATTACH;FMTTYPE=image/jpeg:https://dallasgop.org/wp-content/uploads/2025/06/2025-06-10-Coppell-Republican-Club-Taco-Tuesday-Social.jpg
END:VEVENT
BEGIN:VEVENT
DTSTART;TZID=America/Chicago:20250610T180000
DTEND;TZID=America/Chicago:20250610T200000
DTSTAMP:20260420T141438
CREATED:20250609T144903Z
LAST-MODIFIED:20250609T144903Z
UID:10003771-1749578400-1749585600@dallasgop.org
SUMMARY:North Texas Sentinel Dinner - Heritage Foundation
DESCRIPTION:Heritage Action is excited to host a complimentary dinner for Texas Sentinels on June 10th! This event is located in Hurst. \nIt’s more than just a meal: it’s a gathering of passionate conservatives like you coming together to connect\, share ideas\, and fuel our shared commitment to advancing conservative principles. \nPlease RSVP by replying to this email: rebekah.warwick@heritageaction.com\n*RSVP is important as a headcount is needed.*
URL:https://dallasgop.org/event/north-texas-sentinel-dinner-heritage-foundation/
LOCATION:Logan’s Roadhouse – Hurst\, 948 NE Loop 820\, Hurst\, TX\, 76053
ORGANIZER;CN="North Dallas Republicans":MAILTO:northdallasrepublicans@gmail.com
END:VEVENT
BEGIN:VEVENT
DTSTART;TZID=UTC:20250610T183000
DTEND;TZID=UTC:20250610T203000
DTSTAMP:20260420T141438
CREATED:20240606T131955Z
LAST-MODIFIED:20240709T182632Z
UID:10000325-1749580200-1749587400@dallasgop.org
SUMMARY:Greater Irving Republican Club
DESCRIPTION:Come and meet with like-minded Republicans for information\, speakers and fellowship.  Arrive at 6:15 – 6:30 pm for some tasty BBQ at Spring Creek BBQ Hwy 183 in Irving.  Meeting begins promptly at 7pm.
URL:https://dallasgop.org/event/greater-irving-republican-club-2/2025-06-10/
LOCATION:Spring Creek BBQ – Irving\, 3514 W Airport Fwy\,\, Irving\, TX\, 75062
END:VEVENT
BEGIN:VEVENT
DTSTART;TZID=America/Chicago:20250610T190000
DTEND;TZID=America/Chicago:20250610T210000
DTSTAMP:20260420T141438
CREATED:20240808T145911Z
LAST-MODIFIED:20241002T210426Z
UID:10000651-1749582000-1749589200@dallasgop.org
SUMMARY:Southwest Dallas County Republicans Monthly Meeting
DESCRIPTION:Southwest Dallas County Republicans meets monthly with informative\, inspiring speakers and great opportunities for interaction with other like-minded people\, and learning more about Republican principles\, platforms and processes. People new to the concepts as well as long-time participants as Republicans are welcome. 6:30 pm: Social and snacks or meal ordering. Business matters are conducted briefly.
URL:https://dallasgop.org/event/southwest-dallas-county-republicans-monthly-meeting/2025-06-10/
LOCATION:Ojeda’s Restaurant – Hampton Rd\, 2109 N Hampton Rd\,\, DeSoto\, TX\, TX 75115\, United States
ATTACH;FMTTYPE=image/png:https://dallasgop.org/wp-content/uploads/2024/08/Screenshot-2024-08-08-095810.png
END:VEVENT
END:VCALENDAR