BEGIN:VCALENDAR
VERSION:2.0
PRODID:-//Dallas County Republican Party - ECPv6.10.1//NONSGML v1.0//EN
CALSCALE:GREGORIAN
METHOD:PUBLISH
X-ORIGINAL-URL:https://dallasgop.org
X-WR-CALDESC:Events for Dallas County Republican Party
REFRESH-INTERVAL;VALUE=DURATION:PT1H
X-Robots-Tag:noindex
X-PUBLISHED-TTL:PT1H
BEGIN:VTIMEZONE
TZID:America/Chicago
BEGIN:DAYLIGHT
TZOFFSETFROM:-0600
TZOFFSETTO:-0500
TZNAME:CDT
DTSTART:20250309T080000
END:DAYLIGHT
BEGIN:STANDARD
TZOFFSETFROM:-0500
TZOFFSETTO:-0600
TZNAME:CST
DTSTART:20251102T070000
END:STANDARD
END:VTIMEZONE
BEGIN:VEVENT
DTSTART;TZID=America/Chicago:20250613T090000
DTEND;TZID=America/Chicago:20250613T100000
DTSTAMP:20260420T125727
CREATED:20250611T200658Z
LAST-MODIFIED:20250611T200658Z
UID:10003812-1749805200-1749808800@dallasgop.org
SUMMARY:Coffee & Conversation at DCRP
DESCRIPTION:Join us as we host special guest Everett Jackson. Mr. Jackson will share his compelling story of his recent election effort in running for DeSoto City Council. Don’t miss this!
URL:https://dallasgop.org/event/coffee-conversation-dcrp-6-13-25/
LOCATION:Dallas County Republican Party HQ\, 11617 No. Central Expy\, Ste 240\, Dallas\, TX\, 75243
ATTACH;FMTTYPE=image/jpeg:https://dallasgop.org/wp-content/uploads/2025/06/Friday-Coffee-6.13.25-Instagram-Post.jpg
END:VEVENT
BEGIN:VEVENT
DTSTART;TZID=America/Chicago:20250613T120000
DTEND;TZID=America/Chicago:20250618T080000
DTSTAMP:20260420T125727
CREATED:20250324T134331Z
LAST-MODIFIED:20250324T134331Z
UID:10003170-1749816000-1750233600@dallasgop.org
SUMMARY:Young Women’s Leadership Summit
DESCRIPTION:Step into a room where your values are celebrated. Surround yourself with unapologetic women united in faith\, family\, and well-being—a sisterhood that has been waiting for you. Join us for the ten-year anniversary of the largest conservative event for women of all ages. Welcome to a place where vitality thrives\, femininity shines\, and truth is upheld.\nYWLS is an event for ALL women\, regardless of your current stage in life! Attendees ages 16-26 may register with our student ticket type\, regardless of enrollment status\, and are eligible for TPUSA-subsidized lodging. Don’t fit the student age range? Adults 27+ and children under 15 have ticket types available for purchase as well. Plus\, any child under 10 can register for our FREE 10 & under ticket type! Please note that all applications are subject to approval by the TPUSA Events Team.
URL:https://dallasgop.org/event/young-womens-leadership-summit/
LOCATION:Gaylord Texan Resort & Convention Center\, Gaylord Trail\, Grapevine\, TX
ATTACH;FMTTYPE=image/jpeg:https://dallasgop.org/wp-content/uploads/2025/03/IMG_8021adj1.jpg
END:VEVENT
BEGIN:VEVENT
DTSTART;TZID=America/Chicago:20250613T130000
DTEND;TZID=America/Chicago:20250613T160000
DTSTAMP:20260420T125727
CREATED:20250603T203318Z
LAST-MODIFIED:20250603T203318Z
UID:10003807-1749819600-1749830400@dallasgop.org
SUMMARY:LU - Servant Leadership: Present and Future
DESCRIPTION:Join us for a special Liberty University reception at the Tower Dallas on Friday\, June 13 with President Dondi E. Costin\, Chancellor Jonathan Falwell\, and executive leadership. \nThe event is by invitation only and RSVP is required. To receive an invitation\, please fill out the form here.
URL:https://dallasgop.org/event/lu-servant-leadership-present-and-future/
LOCATION:Tower Dallas\, 1601 Elm St. - 48th Floor\, Dallas\, TX\, 75201
ATTACH;FMTTYPE=image/jpeg:https://dallasgop.org/wp-content/uploads/2025/06/LUJuneEventCropped.jpg
END:VEVENT
END:VCALENDAR