BEGIN:VCALENDAR
VERSION:2.0
PRODID:-//Dallas County Republican Party - ECPv6.10.1//NONSGML v1.0//EN
CALSCALE:GREGORIAN
METHOD:PUBLISH
X-ORIGINAL-URL:https://dallasgop.org
X-WR-CALDESC:Events for Dallas County Republican Party
REFRESH-INTERVAL;VALUE=DURATION:PT1H
X-Robots-Tag:noindex
X-PUBLISHED-TTL:PT1H
BEGIN:VTIMEZONE
TZID:America/Chicago
BEGIN:DAYLIGHT
TZOFFSETFROM:-0600
TZOFFSETTO:-0500
TZNAME:CDT
DTSTART:20250309T080000
END:DAYLIGHT
BEGIN:STANDARD
TZOFFSETFROM:-0500
TZOFFSETTO:-0600
TZNAME:CST
DTSTART:20251102T070000
END:STANDARD
END:VTIMEZONE
BEGIN:VEVENT
DTSTART;TZID=America/Chicago:20250622T170000
DTEND;TZID=America/Chicago:20250622T200000
DTSTAMP:20260422T121728
CREATED:20250609T150007Z
LAST-MODIFIED:20250609T150007Z
UID:10003809-1750611600-1750622400@dallasgop.org
SUMMARY:Ministry of Truth Film Fest
DESCRIPTION:The documentary “Out of Luck” will be shown on Sunday\, June 22\, 2025\, at 5 pm at Angelika Film Center Dallas.
URL:https://dallasgop.org/event/ministry-of-truth-film-fest/
LOCATION:Angelika Film Center\, 5321 E. Mockingbird Ln #230\, Dallas\, TX\, 75206
ATTACH;FMTTYPE=image/jpeg:https://dallasgop.org/wp-content/uploads/2025/06/Out-of-Luck.jpg
END:VEVENT
END:VCALENDAR