BEGIN:VCALENDAR
VERSION:2.0
PRODID:-//Dallas County Republican Party - ECPv6.10.1//NONSGML v1.0//EN
CALSCALE:GREGORIAN
METHOD:PUBLISH
X-WR-CALNAME:Dallas County Republican Party
X-ORIGINAL-URL:https://dallasgop.org
X-WR-CALDESC:Events for Dallas County Republican Party
REFRESH-INTERVAL;VALUE=DURATION:PT1H
X-Robots-Tag:noindex
X-PUBLISHED-TTL:PT1H
BEGIN:VTIMEZONE
TZID:America/Chicago
BEGIN:DAYLIGHT
TZOFFSETFROM:-0600
TZOFFSETTO:-0500
TZNAME:CDT
DTSTART:20250309T080000
END:DAYLIGHT
BEGIN:STANDARD
TZOFFSETFROM:-0500
TZOFFSETTO:-0600
TZNAME:CST
DTSTART:20251102T070000
END:STANDARD
END:VTIMEZONE
BEGIN:VEVENT
DTSTART;TZID=America/Chicago:20250706T170000
DTEND;TZID=America/Chicago:20250706T190000
DTSTAMP:20260420T153129
CREATED:20250630T140458Z
LAST-MODIFIED:20250630T140458Z
UID:10003839-1751821200-1751828400@dallasgop.org
SUMMARY:Ministry of Truth Film Fest Movie\, Peace\, War and 9/11
DESCRIPTION:To honor Independence Day\, MOT will offer a free showing of “Peace\, War and 9/11” on Sunday\, July 6th. There will be no charge\, but we do ask that you make a reservation in advance at: www.MinistryofTruthFilmFest.com
URL:https://dallasgop.org/event/ministry-of-truth-film-fest-movie-peace-war-and-9-11/
LOCATION:Angelika Film Center\, 5321 E. Mockingbird Ln #230\, Dallas\, TX\, 75206
ATTACH;FMTTYPE=image/jpeg:https://dallasgop.org/wp-content/uploads/2025/06/Peace-War-9-11-DCRP.jpg
END:VEVENT
END:VCALENDAR