BEGIN:VCALENDAR
VERSION:2.0
PRODID:-//Dallas County Republican Party - ECPv6.10.1//NONSGML v1.0//EN
CALSCALE:GREGORIAN
METHOD:PUBLISH
X-ORIGINAL-URL:https://dallasgop.org
X-WR-CALDESC:Events for Dallas County Republican Party
REFRESH-INTERVAL;VALUE=DURATION:PT1H
X-Robots-Tag:noindex
X-PUBLISHED-TTL:PT1H
BEGIN:VTIMEZONE
TZID:America/Chicago
BEGIN:DAYLIGHT
TZOFFSETFROM:-0600
TZOFFSETTO:-0500
TZNAME:CDT
DTSTART:20250309T080000
END:DAYLIGHT
BEGIN:STANDARD
TZOFFSETFROM:-0500
TZOFFSETTO:-0600
TZNAME:CST
DTSTART:20251102T070000
END:STANDARD
END:VTIMEZONE
BEGIN:VEVENT
DTSTART;TZID=America/Chicago:20250709T183000
DTEND;TZID=America/Chicago:20250709T210000
DTSTAMP:20260424T154911
CREATED:20250630T142106Z
LAST-MODIFIED:20250708T185313Z
UID:10003841-1752085800-1752094800@dallasgop.org
SUMMARY:South Dallas Republicans meeting - Desoto TX - Speaker Everett Jackson
DESCRIPTION:A meeting to help develop the south Dallas area\, this will be one of many meetings. This is just a start\, yet we plan to fill the Ojeda’s meeting room. Please attend. \nSpeaker: Everett Jackson \nLocation\nOjeda’s Mexican Restaurant\n2109 N. Hampton Road\nDesoto\, TX 75115
URL:https://dallasgop.org/event/south-dallas-republicans-meeting-desoto-tx-speaker-everett-jackson/
LOCATION:Ojeda’s Restaurant – Hampton Rd\, 2109 N Hampton Rd\,\, DeSoto\, TX\, TX 75115\, United States
ATTACH;FMTTYPE=image/jpeg:https://dallasgop.org/wp-content/uploads/2025/06/Everett-Jackson-2025-07-09.jpeg
ORGANIZER;CN="South Dallas Republicans":MAILTO:SouthDallasRepublicans@proton.me
END:VEVENT
END:VCALENDAR