BEGIN:VCALENDAR
VERSION:2.0
PRODID:-//Dallas County Republican Party - ECPv6.10.1//NONSGML v1.0//EN
CALSCALE:GREGORIAN
METHOD:PUBLISH
X-ORIGINAL-URL:https://dallasgop.org
X-WR-CALDESC:Events for Dallas County Republican Party
REFRESH-INTERVAL;VALUE=DURATION:PT1H
X-Robots-Tag:noindex
X-PUBLISHED-TTL:PT1H
BEGIN:VTIMEZONE
TZID:America/Chicago
BEGIN:DAYLIGHT
TZOFFSETFROM:-0600
TZOFFSETTO:-0500
TZNAME:CDT
DTSTART:20250309T080000
END:DAYLIGHT
BEGIN:STANDARD
TZOFFSETFROM:-0500
TZOFFSETTO:-0600
TZNAME:CST
DTSTART:20251102T070000
END:STANDARD
END:VTIMEZONE
BEGIN:VEVENT
DTSTART;TZID=America/Chicago:20250713T170000
DTEND;TZID=America/Chicago:20250713T200000
DTSTAMP:20260424T093316
CREATED:20250708T184307Z
LAST-MODIFIED:20250708T184307Z
UID:10003845-1752426000-1752436800@dallasgop.org
SUMMARY:Ministry of Truth Film Fest Movie: 7/13/25\, "U.N.Earthing the CO2 Pipeline"
DESCRIPTION:“U.N.Earthing the CO2 Pipeline” will be shown on 7/13/25 at 5 PM at Angelika Film Center Dallas.
URL:https://dallasgop.org/event/ministry-of-truth-film-fest-movie-7-13-25-u-n-earthing-the-co2-pipeline/
LOCATION:Angelika Film Center\, 5321 E. Mockingbird Ln #230\, Dallas\, TX\, 75206
ATTACH;FMTTYPE=image/jpeg:https://dallasgop.org/wp-content/uploads/2025/07/UNEARTHING.jpg
END:VEVENT
BEGIN:VEVENT
DTSTART;TZID=America/Chicago:20250713T180000
DTEND;TZID=America/Chicago:20250713T200000
DTSTAMP:20260424T093316
CREATED:20250712T215853Z
LAST-MODIFIED:20250712T215853Z
UID:10003857-1752429600-1752436800@dallasgop.org
SUMMARY:Jennifer Vidler for Mesquite City Council District 3
DESCRIPTION:Campaign kickoff\, and fundraiser for Mesquite\, City Council\, District 3\, Jennifer Vidler. Location is Alejandro’s at Front Street Station in downtown Mesquite from 6 to 8pm on Sunday\, July 13
URL:https://dallasgop.org/event/jennifer-vidler-for-mesquite-city-council-district-3/
LOCATION:Alejandro’s – Mesquite\, 117 W Main St\, Mesquite\, TX\, 75149
ORGANIZER;CN="Vidler Campaign":MAILTO:vidlerforMesquited3@gmail.com
END:VEVENT
END:VCALENDAR