BEGIN:VCALENDAR
VERSION:2.0
PRODID:-//Dallas County Republican Party - ECPv6.10.1//NONSGML v1.0//EN
CALSCALE:GREGORIAN
METHOD:PUBLISH
X-WR-CALNAME:Dallas County Republican Party
X-ORIGINAL-URL:https://dallasgop.org
X-WR-CALDESC:Events for Dallas County Republican Party
REFRESH-INTERVAL;VALUE=DURATION:PT1H
X-Robots-Tag:noindex
X-PUBLISHED-TTL:PT1H
BEGIN:VTIMEZONE
TZID:America/Chicago
BEGIN:DAYLIGHT
TZOFFSETFROM:-0600
TZOFFSETTO:-0500
TZNAME:CDT
DTSTART:20250309T080000
END:DAYLIGHT
BEGIN:STANDARD
TZOFFSETFROM:-0500
TZOFFSETTO:-0600
TZNAME:CST
DTSTART:20251102T070000
END:STANDARD
END:VTIMEZONE
BEGIN:VEVENT
DTSTART;TZID=America/Chicago:20250718T183000
DTEND;TZID=America/Chicago:20250718T203000
DTSTAMP:20260422T204953
CREATED:20250711T191153Z
LAST-MODIFIED:20250711T191153Z
UID:10003852-1752863400-1752870600@dallasgop.org
SUMMARY:Meet and Greet with Tina Price\, Candidate for HD112
DESCRIPTION:Come and meet Tina Price\, who is running in the primary for TX House District 112. Go through the food line and join us in the private meeting room. Tina will give us a rundown of who she is and leave time for Q&A.
URL:https://dallasgop.org/event/meet-and-greet-with-tina-price-candidate-for-hd112/
LOCATION:Spring Creek BBQ – Garland\, 3335 N. George Bush Hwy\, Garland\, TX\, 75040
ATTACH;FMTTYPE=image/png:https://dallasgop.org/wp-content/uploads/2025/07/Screenshot-2025-07-11-140147.png
END:VEVENT
END:VCALENDAR