BEGIN:VCALENDAR
VERSION:2.0
PRODID:-//Dallas County Republican Party - ECPv6.10.1//NONSGML v1.0//EN
CALSCALE:GREGORIAN
METHOD:PUBLISH
X-WR-CALNAME:Dallas County Republican Party
X-ORIGINAL-URL:https://dallasgop.org
X-WR-CALDESC:Events for Dallas County Republican Party
REFRESH-INTERVAL;VALUE=DURATION:PT1H
X-Robots-Tag:noindex
X-PUBLISHED-TTL:PT1H
BEGIN:VTIMEZONE
TZID:America/Chicago
BEGIN:DAYLIGHT
TZOFFSETFROM:-0600
TZOFFSETTO:-0500
TZNAME:CDT
DTSTART:20250309T080000
END:DAYLIGHT
BEGIN:STANDARD
TZOFFSETFROM:-0500
TZOFFSETTO:-0600
TZNAME:CST
DTSTART:20251102T070000
END:STANDARD
END:VTIMEZONE
BEGIN:VEVENT
DTSTART;TZID=America/Chicago:20250720T170000
DTEND;TZID=America/Chicago:20250720T200000
DTSTAMP:20260422T170741
CREATED:20250711T193628Z
LAST-MODIFIED:20250711T193628Z
UID:10003854-1753030800-1753041600@dallasgop.org
SUMMARY:Ministry of Truth Film Fest Sunday Movie\, 7/20/25\, Cannabis Induced Psychosis - The Silent Epidemic
DESCRIPTION:Cannabis-Induced Psychosis – The Silent Epidemic exposes the devastating truth disregarded by cold\, calculating corporate greed\, their predatory marketing\, and shameful misinformation. Watch as families share their most heartbreaking moments\, lives shattered by gummy bears\, chocolates\, and soft drinks laced with the psychoactive component\, THC\, and pushed as “harmless”. With the special legislative session looming\, this may be our last chance to expose the truth and save Texas children from a manufactured crisis that can be averted.
URL:https://dallasgop.org/event/ministry-of-truth-film-fest-sunday-movie-7-20-25-cannabis-induced-psychosis-the-silent-epidemic/
LOCATION:Angelika Film Center\, 5321 E. Mockingbird Ln #230\, Dallas\, TX\, 75206
ATTACH;FMTTYPE=image/jpeg:https://dallasgop.org/wp-content/uploads/2025/07/Cannabis.jpg
END:VEVENT
END:VCALENDAR