BEGIN:VCALENDAR
VERSION:2.0
PRODID:-//Dallas County Republican Party - ECPv6.10.1//NONSGML v1.0//EN
CALSCALE:GREGORIAN
METHOD:PUBLISH
X-WR-CALNAME:Dallas County Republican Party
X-ORIGINAL-URL:https://dallasgop.org
X-WR-CALDESC:Events for Dallas County Republican Party
REFRESH-INTERVAL;VALUE=DURATION:PT1H
X-Robots-Tag:noindex
X-PUBLISHED-TTL:PT1H
BEGIN:VTIMEZONE
TZID:America/Chicago
BEGIN:DAYLIGHT
TZOFFSETFROM:-0600
TZOFFSETTO:-0500
TZNAME:CDT
DTSTART:20250309T080000
END:DAYLIGHT
BEGIN:STANDARD
TZOFFSETFROM:-0500
TZOFFSETTO:-0600
TZNAME:CST
DTSTART:20251102T070000
END:STANDARD
END:VTIMEZONE
BEGIN:VEVENT
DTSTART;TZID=America/Chicago:20250727T170000
DTEND;TZID=America/Chicago:20250727T200000
DTSTAMP:20260424T113415
CREATED:20250711T193259Z
LAST-MODIFIED:20250711T193259Z
UID:10003853-1753635600-1753646400@dallasgop.org
SUMMARY:Ministry of Truth Film Fest Sunday Movie\, "Who Shot Trump?" Premiere Live Screening
DESCRIPTION:The Cover-up is Over! This will be the Premiere Showing of the movie “Who Shot Trump?” – this movie was originally to be shown on 7/13/25\, but was banned! \nAlmost 1 year ago\, Donald Trump was nearly assassinated\, and the official government story is that an untrained\, 20-year-old college student\, and registered Republican\, who lives with his parents\, was the lone gunman. But documentary filmmaker J. D. Wilcox says that story is not true. And he can prove it.
URL:https://dallasgop.org/event/ministry-of-truth-film-fest-sunday-movie-who-shot-trump-premiere-live-screening/
LOCATION:Angelika Film Center\, 5321 E. Mockingbird Ln #230\, Dallas\, TX\, 75206
ATTACH;FMTTYPE=image/jpeg:https://dallasgop.org/wp-content/uploads/2025/07/Who-Shot-Trump-DCRP.jpg
END:VEVENT
END:VCALENDAR