BEGIN:VCALENDAR
VERSION:2.0
PRODID:-//Dallas County Republican Party - ECPv6.10.1//NONSGML v1.0//EN
CALSCALE:GREGORIAN
METHOD:PUBLISH
X-WR-CALNAME:Dallas County Republican Party
X-ORIGINAL-URL:https://dallasgop.org
X-WR-CALDESC:Events for Dallas County Republican Party
REFRESH-INTERVAL;VALUE=DURATION:PT1H
X-Robots-Tag:noindex
X-PUBLISHED-TTL:PT1H
BEGIN:VTIMEZONE
TZID:America/Chicago
BEGIN:DAYLIGHT
TZOFFSETFROM:-0600
TZOFFSETTO:-0500
TZNAME:CDT
DTSTART:20250309T080000
END:DAYLIGHT
BEGIN:STANDARD
TZOFFSETFROM:-0500
TZOFFSETTO:-0600
TZNAME:CST
DTSTART:20251102T070000
END:STANDARD
END:VTIMEZONE
BEGIN:VEVENT
DTSTART;TZID=America/Chicago:20250831T170000
DTEND;TZID=America/Chicago:20250831T200000
DTSTAMP:20260420T125853
CREATED:20250818T135512Z
LAST-MODIFIED:20250818T135512Z
UID:10003876-1756659600-1756670400@dallasgop.org
SUMMARY:Ministry of Truth Film Fest Documentary: "1971" on August 31st
DESCRIPTION:Documentary: The FBI\, established in 1908\, was for 60 years held unaccountable and untouchable until March 8\, 1971\, when The Citizens’ Commission to Investigate the FBI\, as they called themselves\, broke into a small FBI office in Media\, Pennsylvania\, took every file\, and shared them with the American public. After the break-in\, the group sent the files to journalists at the Washington Post\, which published them and shed light on the FBI’s widespread abuse of power. These actions exposed COINTELPRO\, the FBI’s illegal surveillance program that involved the intimidation of law-abiding Americans and helped lead to the country’s first congressional investigation of U.S. intelligence agencies. The activist burglars then disappeared into anonymity for forty years. Until now.
URL:https://dallasgop.org/event/ministry-of-truth-film-fest-documentary-1971-on-august-31st/
LOCATION:Angelika Film Center\, 5321 E. Mockingbird Ln #230\, Dallas\, TX\, 75206
ATTACH;FMTTYPE=image/jpeg:https://dallasgop.org/wp-content/uploads/2025/08/MOT831.jpg
END:VEVENT
END:VCALENDAR