BEGIN:VCALENDAR
VERSION:2.0
PRODID:-//Dallas County Republican Party - ECPv6.10.1//NONSGML v1.0//EN
CALSCALE:GREGORIAN
METHOD:PUBLISH
X-ORIGINAL-URL:https://dallasgop.org
X-WR-CALDESC:Events for Dallas County Republican Party
REFRESH-INTERVAL;VALUE=DURATION:PT1H
X-Robots-Tag:noindex
X-PUBLISHED-TTL:PT1H
BEGIN:VTIMEZONE
TZID:America/Chicago
BEGIN:DAYLIGHT
TZOFFSETFROM:-0600
TZOFFSETTO:-0500
TZNAME:CDT
DTSTART:20250309T080000
END:DAYLIGHT
BEGIN:STANDARD
TZOFFSETFROM:-0500
TZOFFSETTO:-0600
TZNAME:CST
DTSTART:20251102T070000
END:STANDARD
END:VTIMEZONE
BEGIN:VEVENT
DTSTART;TZID=America/Chicago:20250916T120000
DTEND;TZID=America/Chicago:20250916T120000
DTSTAMP:20260422T061417
CREATED:20250711T223452Z
LAST-MODIFIED:20250903T142154Z
UID:10003856-1758024000-1758024000@dallasgop.org
SUMMARY:55+ Volunteer Appreciation Lunch
DESCRIPTION:Click here for more details and tickets. \nJoin us as we honor our dedicated volunteers age 55+! \nLet’s come together to celebrate the incredible dedication of our volunteers who are 55 and older\, the heart and soul of the Dallas GOP. Your talent\, commitment\, and unwavering spirit continues to inspire us all. \nWe are proud to stand beside you\, through every win\, every challenge\, and every moment that defines our shared fight for the Dallas we love. \nFor sponsorship opportunities\, please contact RSVP@dallasgop.org.
URL:https://dallasgop.org/event/55-volunteer-appreciation-lunch/
LOCATION:Dallas County Republican Party HQ\, 11617 No. Central Expy\, Ste 240\, Dallas\, TX\, 75243
CATEGORIES:promote
ATTACH;FMTTYPE=image/png:https://dallasgop.org/wp-content/uploads/2025/07/Appreciation-Lunch-1.png
END:VEVENT
BEGIN:VEVENT
DTSTART;TZID=America/Chicago:20250916T173000
DTEND;TZID=America/Chicago:20250916T193000
DTSTAMP:20260422T061417
CREATED:20250117T171815Z
LAST-MODIFIED:20251026T162157Z
UID:10002163-1758043800-1758051000@dallasgop.org
SUMMARY:Park Cities Republican Women
DESCRIPTION:Park Cities Republican Women monthly general meeting – join us and hear from significant speakers on important relevant issues.\nCheck back for meeting specifics and speakers – to be posted.
URL:https://dallasgop.org/event/park-cities-republican-women-3/2025-09-16/
LOCATION:Museum of Biblical Art\, 7500 Park Lane\, Dallas\, TX\, TX 75225\, United States
ATTACH;FMTTYPE=image/png:https://dallasgop.org/wp-content/uploads/2025/02/PCRW-logo_circle.png
END:VEVENT
BEGIN:VEVENT
DTSTART;TZID=America/Chicago:20250916T180000
DTEND;TZID=America/Chicago:20250916T193000
DTSTAMP:20260422T061417
CREATED:20250827T152648Z
LAST-MODIFIED:20250828T204608Z
UID:10003882-1758045600-1758051000@dallasgop.org
SUMMARY:Coppell Republican Club & Cindy Castilla w/What's REALLY Going in the Texas Capital and Strategies that Work
DESCRIPTION:BE PART OF OUR DISCUSSION AT COPPELL REPUBLICAN CLUB – MONTHLY MEETING \nTOPIC OF DISCUSSION:\nWhat’s REALLY Going in the Texas Capital and Strategies that Work\, w/CINDY CASTILLA\, Texas Eagle Forum President \nTUESDAY\, 16 September\, 2025\nCHECK-IN: 6:00PM\nMEETING: 6:30PM – 7:30PM \nLOCATION:\nWilliam T Cozby Public Library\n177 N. Heartz Rd. Coppell\, TX 75019 \nRSVP: coppellgopclub@gmail.com\nhttps://www.coppellrepublicanclub.org/ \nCoppell Republican Club & Cindy Castilla w/What’s REALLY Going in Texas Capital
URL:https://dallasgop.org/event/coppell-republican-club-cindy-castilla-w-whats-really-going-in-the-texas-capital-and-strategies-that-work/
LOCATION:William T Cozby Public Library\, 177 N. Heartz Rd. Coppell\, TX\, Coppell\, Texas
ATTACH;FMTTYPE=image/jpeg:https://dallasgop.org/wp-content/uploads/2025/08/2025-09-16-Coppell-Republican-Club-and-Cindy-Castilla-FB.jpg
END:VEVENT
BEGIN:VEVENT
DTSTART;TZID=America/Chicago:20250916T183000
DTEND;TZID=America/Chicago:20250916T193000
DTSTAMP:20260422T061417
CREATED:20250914T205109Z
LAST-MODIFIED:20250914T205109Z
UID:10003891-1758047400-1758051000@dallasgop.org
SUMMARY:What's REALLY happening in Texas
DESCRIPTION:Cindy Castilla covers what is REALLY happening in the Texas Capital and strategies that work.
URL:https://dallasgop.org/event/whats-really-happening-in-texas/
LOCATION:William T Cozby Public Library\, 177 N. Heartz Rd. Coppell\, TX\, Coppell\, Texas
END:VEVENT
BEGIN:VEVENT
DTSTART;TZID=America/Chicago:20250916T183000
DTEND;TZID=America/Chicago:20250916T213000
DTSTAMP:20260422T061417
CREATED:20250815T220918Z
LAST-MODIFIED:20250815T220918Z
UID:10003873-1758047400-1758058200@dallasgop.org
SUMMARY:The Rising Caliphate: What Every Patriot Needs to Know About The Islamist Agenda
DESCRIPTION:The Threat is Real. The Time is Now. \nRadical Islamists and Sharia Supremacists aren’t just a problem “over there.” Their agenda is spreading — and every patriot must understand the danger before it’s too late. \nJoin us for an explosive\, eye-opening evening as top experts\, leaders\, and warriors for freedom expose the rising caliphate and its deadly ambitions against America\, Israel\, and the entire Western world. \nYou won’t hear this on CNN. You won’t read it in the New York Times. But you will hear it on Tuesday\, September 16th in Dallas! \nVIP Reception and Meet & Greet with Robert Spencer & MK Ohad Tal — 5:30 PM \nGeneral Admission & Main Event — 6:30 PM \nFeaturing: \nRobert Spencer — Director of Jihad Watch\, one of the world’s foremost authorities on Islamic extremism\nOhad Tal — Israeli Knesset member fighting on the frontlines for Israel’s survival\nLt. Col. Allen West — Chairman of the Dallas GOP and decorated U.S. Army combat veteran\nRabbi Pesach Wolicki — Executive Director of Israel365\, uniting Jews and Christians in defense of Israel \nThis is not a lecture. It’s a wake-up call. You’ll hear first-hand intelligence\, hard truths\, and strategies for defending our nation\, our faith\, and our families. \nSeats will fill up fast — secure yours now for this important event! \nRegister Today! We must stand up and protect our Judeo-Christian values and principles that made our country great!
URL:https://dallasgop.org/event/the-rising-caliphate-what-every-patriot-needs-to-know-about-the-islamist-agenda/
LOCATION:Hilton Garden Inn\, 1001 W. Pres. George Bush Turnpike\, Richardson\, TX\, 75080
ATTACH;FMTTYPE=image/jpeg:https://dallasgop.org/wp-content/uploads/2025/08/AJC-Movie-916.jpg
END:VEVENT
END:VCALENDAR