BEGIN:VCALENDAR
VERSION:2.0
PRODID:-//Dallas County Republican Party - ECPv6.10.1//NONSGML v1.0//EN
CALSCALE:GREGORIAN
METHOD:PUBLISH
X-WR-CALNAME:Dallas County Republican Party
X-ORIGINAL-URL:https://dallasgop.org
X-WR-CALDESC:Events for Dallas County Republican Party
REFRESH-INTERVAL;VALUE=DURATION:PT1H
X-Robots-Tag:noindex
X-PUBLISHED-TTL:PT1H
BEGIN:VTIMEZONE
TZID:America/Chicago
BEGIN:DAYLIGHT
TZOFFSETFROM:-0600
TZOFFSETTO:-0500
TZNAME:CDT
DTSTART:20250309T080000
END:DAYLIGHT
BEGIN:STANDARD
TZOFFSETFROM:-0500
TZOFFSETTO:-0600
TZNAME:CST
DTSTART:20251102T070000
END:STANDARD
END:VTIMEZONE
BEGIN:VEVENT
DTSTART;TZID=America/Chicago:20250923T180000
DTEND;TZID=America/Chicago:20250923T200000
DTSTAMP:20260422T041333
CREATED:20250831T234658Z
LAST-MODIFIED:20250917T150702Z
UID:10003885-1758650400-1758657600@dallasgop.org
SUMMARY:Tina Price Campaign Kickoff
DESCRIPTION:Come learn about Tina and her vision for Texas and House District 112!
URL:https://dallasgop.org/event/tina-price-campaign-kickoff/
LOCATION:Amigo’s Restaurant\, 940 E. Belt Line\, Richardson\, Texas\, 75081
ATTACH;FMTTYPE=image/jpeg:https://dallasgop.org/wp-content/uploads/2025/08/Tina-Price-Campaign-Kickoff-letter-size.jpg
ORGANIZER;CN="Bonnie Abadie":MAILTO:bonnie@northdallasmartialarts.com
END:VEVENT
END:VCALENDAR