BEGIN:VCALENDAR
VERSION:2.0
PRODID:-//Dallas County Republican Party - ECPv6.10.1//NONSGML v1.0//EN
CALSCALE:GREGORIAN
METHOD:PUBLISH
X-WR-CALNAME:Dallas County Republican Party
X-ORIGINAL-URL:https://dallasgop.org
X-WR-CALDESC:Events for Dallas County Republican Party
REFRESH-INTERVAL;VALUE=DURATION:PT1H
X-Robots-Tag:noindex
X-PUBLISHED-TTL:PT1H
BEGIN:VTIMEZONE
TZID:America/Chicago
BEGIN:DAYLIGHT
TZOFFSETFROM:-0600
TZOFFSETTO:-0500
TZNAME:CDT
DTSTART:20250309T080000
END:DAYLIGHT
BEGIN:STANDARD
TZOFFSETFROM:-0500
TZOFFSETTO:-0600
TZNAME:CST
DTSTART:20251102T070000
END:STANDARD
END:VTIMEZONE
BEGIN:VEVENT
DTSTART;TZID=America/Chicago:20251002T180000
DTEND;TZID=America/Chicago:20251002T200000
DTSTAMP:20260420T101958
CREATED:20250922T173142Z
LAST-MODIFIED:20250922T173142Z
UID:10003896-1759428000-1759435200@dallasgop.org
SUMMARY:Sanjay for Texas Campaign Kickoff!
DESCRIPTION:Meet Sanjay\, connect with neighbors and supporters\, and help launch our campaign to restore excellence in Texas House District 108. \nRSVP and Donate at sanjayfortexas.com \nOpen to All Supporters!\nSuggested Donation: $100\nFree to Attend
URL:https://dallasgop.org/event/sanjay-for-texas-campaign-kickoff/
LOCATION:Cafe Madrid\, 4501 Travis St\, Dallas\, Texas\, 75205
ATTACH;FMTTYPE=image/png:https://dallasgop.org/wp-content/uploads/2025/09/Screenshot-2025-09-22-at-12.31.06-PM.png
END:VEVENT
END:VCALENDAR