BEGIN:VCALENDAR
VERSION:2.0
PRODID:-//Dallas County Republican Party - ECPv6.10.1//NONSGML v1.0//EN
CALSCALE:GREGORIAN
METHOD:PUBLISH
X-ORIGINAL-URL:https://dallasgop.org
X-WR-CALDESC:Events for Dallas County Republican Party
REFRESH-INTERVAL;VALUE=DURATION:PT1H
X-Robots-Tag:noindex
X-PUBLISHED-TTL:PT1H
BEGIN:VTIMEZONE
TZID:America/Chicago
BEGIN:DAYLIGHT
TZOFFSETFROM:-0600
TZOFFSETTO:-0500
TZNAME:CDT
DTSTART:20250309T080000
END:DAYLIGHT
BEGIN:STANDARD
TZOFFSETFROM:-0500
TZOFFSETTO:-0600
TZNAME:CST
DTSTART:20251102T070000
END:STANDARD
END:VTIMEZONE
BEGIN:VEVENT
DTSTART;TZID=America/Chicago:20251006T183000
DTEND;TZID=America/Chicago:20251006T200000
DTSTAMP:20260422T034132
CREATED:20250929T192528Z
LAST-MODIFIED:20250929T192528Z
UID:10003901-1759775400-1759780800@dallasgop.org
SUMMARY:MAHA and the Future of American Healthcare
DESCRIPTION:Join us at MAHA to dive into the future of American healthcare and discover the latest trends and innovations shaping the industry!
URL:https://dallasgop.org/event/maha-and-the-future-of-american-healthcare/
LOCATION:1231 Dragon St\, 1231 Dragon St.\, Dallas\, Texas\, 75207
ATTACH;FMTTYPE=image/png:https://dallasgop.org/wp-content/uploads/2025/09/Screenshot-2025-09-29-at-2.24.48-PM.png
END:VEVENT
END:VCALENDAR