BEGIN:VCALENDAR
VERSION:2.0
PRODID:-//Dallas County Republican Party - ECPv6.10.1//NONSGML v1.0//EN
CALSCALE:GREGORIAN
METHOD:PUBLISH
X-WR-CALNAME:Dallas County Republican Party
X-ORIGINAL-URL:https://dallasgop.org
X-WR-CALDESC:Events for Dallas County Republican Party
REFRESH-INTERVAL;VALUE=DURATION:PT1H
X-Robots-Tag:noindex
X-PUBLISHED-TTL:PT1H
BEGIN:VTIMEZONE
TZID:America/Chicago
BEGIN:DAYLIGHT
TZOFFSETFROM:-0600
TZOFFSETTO:-0500
TZNAME:CDT
DTSTART:20250309T080000
END:DAYLIGHT
BEGIN:STANDARD
TZOFFSETFROM:-0500
TZOFFSETTO:-0600
TZNAME:CST
DTSTART:20251102T070000
END:STANDARD
TZID:UTC
BEGIN:STANDARD
TZOFFSETFROM:+0000
TZOFFSETTO:+0000
TZNAME:UTC
DTSTART:20250101T000000
END:STANDARD
END:VTIMEZONE
BEGIN:VEVENT
DTSTART;TZID=America/Chicago:20251014T180000
DTEND;TZID=America/Chicago:20251014T200000
DTSTAMP:20260422T060602
CREATED:20251003T171901Z
LAST-MODIFIED:20251003T205554Z
UID:10003903-1760464800-1760472000@dallasgop.org
SUMMARY:Texas Comptroller Candidate Forum featuring Kelly Hancock and Don Huffines
DESCRIPTION:Texas Comptroller Candidate Forum featuring Kelly Hancock and Don Huffines\nModerated by Justice of the Peace Bill Brandt \nDate: Tuesday\, October 14\, 2025\, 6-8pm.\nAt: The REC of Grapevine\, Stewart Hall\, 1175 Municipal Way\, Grapevine\, TX 76051 \nHOSTED BY: Keller Republican Club\, Coppell Republican Club\, Colleyville Conservative Club\, Grapevine Republican Club\, A Better Dallas\, Southlake Families Conservative\, Northeast Tarrant County Republican Club. \nPlease Click the link below to RSVP and use the “Topics of Concern” comment box to ask questions to the candidates!\n\n\n\n\nhttps://form.jotform.com/252665847645168\n\n\n\n*Christi Craddick was invited but is unable to attend due to a scheduling conflict.
URL:https://dallasgop.org/event/texas-comptroller-candidate-forum-featuring-kelly-hancock-and-don-huffines/
LOCATION:The REC of Grapevine\, Stewart Hall\, 1175 Municipal Way\, Grapevine\, TX\, 76051
ATTACH;FMTTYPE=image/jpeg:https://dallasgop.org/wp-content/uploads/2025/10/texas-comptroller-candidate-forum-event-graphic_1.jpg
END:VEVENT
BEGIN:VEVENT
DTSTART;TZID=UTC:20251014T183000
DTEND;TZID=UTC:20251014T203000
DTSTAMP:20260422T060602
CREATED:20240606T131955Z
LAST-MODIFIED:20240709T182632Z
UID:10000329-1760466600-1760473800@dallasgop.org
SUMMARY:Greater Irving Republican Club
DESCRIPTION:Come and meet with like-minded Republicans for information\, speakers and fellowship.  Arrive at 6:15 – 6:30 pm for some tasty BBQ at Spring Creek BBQ Hwy 183 in Irving.  Meeting begins promptly at 7pm.
URL:https://dallasgop.org/event/greater-irving-republican-club-2/2025-10-14/
LOCATION:Spring Creek BBQ – Irving\, 3514 W Airport Fwy\,\, Irving\, TX\, 75062
END:VEVENT
BEGIN:VEVENT
DTSTART;TZID=America/Chicago:20251014T190000
DTEND;TZID=America/Chicago:20251014T210000
DTSTAMP:20260422T060602
CREATED:20240808T145911Z
LAST-MODIFIED:20241002T210426Z
UID:10000655-1760468400-1760475600@dallasgop.org
SUMMARY:Southwest Dallas County Republicans Monthly Meeting
DESCRIPTION:Southwest Dallas County Republicans meets monthly with informative\, inspiring speakers and great opportunities for interaction with other like-minded people\, and learning more about Republican principles\, platforms and processes. People new to the concepts as well as long-time participants as Republicans are welcome. 6:30 pm: Social and snacks or meal ordering. Business matters are conducted briefly.
URL:https://dallasgop.org/event/southwest-dallas-county-republicans-monthly-meeting/2025-10-14/
LOCATION:Ojeda’s Restaurant – Hampton Rd\, 2109 N Hampton Rd\,\, DeSoto\, TX\, TX 75115\, United States
ATTACH;FMTTYPE=image/png:https://dallasgop.org/wp-content/uploads/2024/08/Screenshot-2024-08-08-095810.png
END:VEVENT
END:VCALENDAR