BEGIN:VCALENDAR
VERSION:2.0
PRODID:-//Dallas County Republican Party - ECPv6.10.1//NONSGML v1.0//EN
CALSCALE:GREGORIAN
METHOD:PUBLISH
X-ORIGINAL-URL:https://dallasgop.org
X-WR-CALDESC:Events for Dallas County Republican Party
REFRESH-INTERVAL;VALUE=DURATION:PT1H
X-Robots-Tag:noindex
X-PUBLISHED-TTL:PT1H
BEGIN:VTIMEZONE
TZID:America/Chicago
BEGIN:DAYLIGHT
TZOFFSETFROM:-0600
TZOFFSETTO:-0500
TZNAME:CDT
DTSTART:20250309T080000
END:DAYLIGHT
BEGIN:STANDARD
TZOFFSETFROM:-0500
TZOFFSETTO:-0600
TZNAME:CST
DTSTART:20251102T070000
END:STANDARD
END:VTIMEZONE
BEGIN:VEVENT
DTSTART;TZID=America/Chicago:20251018T083000
DTEND;TZID=America/Chicago:20251018T163000
DTSTAMP:20260420T091048
CREATED:20250917T145152Z
LAST-MODIFIED:20250917T145152Z
UID:10003894-1760776200-1760805000@dallasgop.org
SUMMARY:Texas Winning Campaigns - Dallas County
DESCRIPTION:Take Your Campaign to the Next Level \nEmerge as a leader who inspires and resonates. Focus is on personal and political preparation to be elected officials and successful community leaders. \nIdeal attendees for Winning Campaigns want to be more effective politically. Current or prospective candidates\, elected officials\, and spouses\, campaign staff\, and volunteers involved at local\, County\, State\, and Federal levels will find value. \nEnroll now and transform your political aspirations into reality.
URL:https://dallasgop.org/event/texas-winning-campaigns-dallas-county/
LOCATION:Studio Movie Grill – Royal Lane\, 11170 N. Central Expwy\, Dallas\, TX\, 75243
ATTACH;FMTTYPE=image/jpeg:https://dallasgop.org/wp-content/uploads/2025/09/LI25-TX25-local-11-Dallas-1-1200x630-1.jpg
ORGANIZER;CN="Leadership Institute":MAILTO:chris@abetterdallas.com
END:VEVENT
BEGIN:VEVENT
DTSTART;TZID=America/Chicago:20251018T120000
DTEND;TZID=America/Chicago:20251018T130000
DTSTAMP:20260420T091048
CREATED:20251011T170802Z
LAST-MODIFIED:20251011T170802Z
UID:10003909-1760788800-1760792400@dallasgop.org
SUMMARY:Lunch & Learn with Ajua Mason
DESCRIPTION:Lunch and Learn about getting Republican candidates and getting them elected with our talented Ajua Mason. Grab a sack lunch and come the DCRP headquarters.
URL:https://dallasgop.org/event/lunch-learn-with-ajua-mason/
LOCATION:DCRP Headquarters\, 11617 N. Central Expy Suite 240\, Dallas\, Texas
ATTACH;FMTTYPE=image/jpeg:https://dallasgop.org/wp-content/uploads/2025/10/10.18-DCRP.jpg
END:VEVENT
BEGIN:VEVENT
DTSTART;TZID=America/Chicago:20251018T160000
DTEND;TZID=America/Chicago:20251018T200000
DTSTAMP:20260420T091048
CREATED:20250811T135524Z
LAST-MODIFIED:20250811T135524Z
UID:10003868-1760803200-1760817600@dallasgop.org
SUMMARY:MAGA Texas Style: Primary Fundraiser
DESCRIPTION:Bring your friends\, family\, and your checkbook\, and help make Texas great again at a lakeside Sweet Tea primary fundraising event! \nJoin us at the state’s largest meet and greet\, where you can hear from the Republican grassroots primary candidates. \nReal change only happens in the primary\, and this is your chance to make Texas great again. \nFood\, family\, fun\, and fellowship with people fighting for the Texas way of life. \nTICKETS: $40 per person. VIP tickets are available. Kids are free! Be ready to put your money where your mouth is. We ask that each attendee donate a minimum of $100 to one or more campaigns. \nFor questions\, please contact Donna at (214) 762-2555. Sweetwater\, TX address provided upon ticket purchase. \nSee you there! Hosted by Jeff & Donna Carter
URL:https://dallasgop.org/event/maga-texas-style-primary-fundraiser/
LOCATION:TX
ATTACH;FMTTYPE=image/png:https://dallasgop.org/wp-content/uploads/2025/08/Screenshot-2025-07-31-152633.png
END:VEVENT
END:VCALENDAR