BEGIN:VCALENDAR
VERSION:2.0
PRODID:-//Dallas County Republican Party - ECPv6.10.1//NONSGML v1.0//EN
CALSCALE:GREGORIAN
METHOD:PUBLISH
X-ORIGINAL-URL:https://dallasgop.org
X-WR-CALDESC:Events for Dallas County Republican Party
REFRESH-INTERVAL;VALUE=DURATION:PT1H
X-Robots-Tag:noindex
X-PUBLISHED-TTL:PT1H
BEGIN:VTIMEZONE
TZID:America/Chicago
BEGIN:DAYLIGHT
TZOFFSETFROM:-0600
TZOFFSETTO:-0500
TZNAME:CDT
DTSTART:20250309T080000
END:DAYLIGHT
BEGIN:STANDARD
TZOFFSETFROM:-0500
TZOFFSETTO:-0600
TZNAME:CST
DTSTART:20251102T070000
END:STANDARD
END:VTIMEZONE
BEGIN:VEVENT
DTSTART;TZID=America/Chicago:20251117T180000
DTEND;TZID=America/Chicago:20251117T200000
DTSTAMP:20260422T135215
CREATED:20251111T210741Z
LAST-MODIFIED:20251111T210741Z
UID:10003937-1763402400-1763409600@dallasgop.org
SUMMARY:DCRP CEC Meeting - November 2025
DESCRIPTION:Location: Storehouse Church\n4319 Alpha Rd. Dallas\, TX 75244 \nDate: Monday\, November 17\, 2025 \nRegistration at 6pm\nMeeting starts promptly at 6:30pm \nNOTE: Precinct Chairs will sit up front\, and guests will sit in the back\, or along the side of the room. Sergeant-at-Arms will assist. \nCEC Agenda: \n\nInvocation/pledges\nCall to order\nApproval of minutes\nSwear in new chairs\nChairman remarks\nOfficer reports\nCommittee reports\nNew business\nAnnouncements\nAdjournment
URL:https://dallasgop.org/event/dcrp-cec-meeting-november-2025/
LOCATION:Storehouse Church\, 4319 Alpha Rd.\, Dallas\, TX\, 75244
ATTACH;FMTTYPE=image/jpeg:https://dallasgop.org/wp-content/uploads/2024/10/DCRP-Logo-600-x-400-px.jpg
END:VEVENT
END:VCALENDAR