BEGIN:VCALENDAR
VERSION:2.0
PRODID:-//Dallas County Republican Party - ECPv6.10.1//NONSGML v1.0//EN
CALSCALE:GREGORIAN
METHOD:PUBLISH
X-ORIGINAL-URL:https://dallasgop.org
X-WR-CALDESC:Events for Dallas County Republican Party
REFRESH-INTERVAL;VALUE=DURATION:PT1H
X-Robots-Tag:noindex
X-PUBLISHED-TTL:PT1H
BEGIN:VTIMEZONE
TZID:America/Chicago
BEGIN:DAYLIGHT
TZOFFSETFROM:-0600
TZOFFSETTO:-0500
TZNAME:CDT
DTSTART:20250309T080000
END:DAYLIGHT
BEGIN:STANDARD
TZOFFSETFROM:-0500
TZOFFSETTO:-0600
TZNAME:CST
DTSTART:20251102T070000
END:STANDARD
END:VTIMEZONE
BEGIN:VEVENT
DTSTART;TZID=America/Chicago:20251123T170000
DTEND;TZID=America/Chicago:20251123T190000
DTSTAMP:20260424T115641
CREATED:20251119T164821Z
LAST-MODIFIED:20251119T164822Z
UID:10003939-1763917200-1763924400@dallasgop.org
SUMMARY:Ministry of Truth:  "A.I.: How a 'Tool' becomes a God"
DESCRIPTION:Ministry of Truth Film Fest is having an encore presentation about Artificial Intelligence featuring Joe Allen\, author of "Dark Aeon"\, theologian\, and tech adviser for Steve Bannon's War Room. With an academic background in both science and theology\, Joe Allen confronts the paradox of good people constructing a digital abomination. Joe's book\, "Dark Aeon" will be available for purchase.
URL:https://dallasgop.org/event/ministry-of-truth-a-i-how-a-tool-becomes-a-god/
LOCATION:Angelika Film Center\, 5321 E. Mockingbird Ln #230\, Dallas\, TX\, 75206
ATTACH;FMTTYPE=image/jpeg:https://dallasgop.org/wp-content/uploads/2025/11/Joe-Allen-11-23-25-Facebook-Post-Square.jpg
END:VEVENT
END:VCALENDAR