BEGIN:VCALENDAR
VERSION:2.0
PRODID:-//Dallas County Republican Party - ECPv6.10.1//NONSGML v1.0//EN
CALSCALE:GREGORIAN
METHOD:PUBLISH
X-WR-CALNAME:Dallas County Republican Party
X-ORIGINAL-URL:https://dallasgop.org
X-WR-CALDESC:Events for Dallas County Republican Party
REFRESH-INTERVAL;VALUE=DURATION:PT1H
X-Robots-Tag:noindex
X-PUBLISHED-TTL:PT1H
BEGIN:VTIMEZONE
TZID:America/Chicago
BEGIN:DAYLIGHT
TZOFFSETFROM:-0600
TZOFFSETTO:-0500
TZNAME:CDT
DTSTART:20260308T080000
END:DAYLIGHT
BEGIN:STANDARD
TZOFFSETFROM:-0500
TZOFFSETTO:-0600
TZNAME:CST
DTSTART:20261101T070000
END:STANDARD
END:VTIMEZONE
BEGIN:VEVENT
DTSTART;TZID=America/Chicago:20260112T173000
DTEND;TZID=America/Chicago:20260112T190000
DTSTAMP:20260422T215226
CREATED:20260108T162958Z
LAST-MODIFIED:20260108T162958Z
UID:10004073-1768239000-1768244400@dallasgop.org
SUMMARY:Sanjay for Texas - Preston Hollow Meet and Greet
DESCRIPTION:You’re Invited!\nPreston Hollow Meet and Greet\nHosted by Cindy Stowe and Linda Ward \nDate: Monday\, January 12\, 2026\nTime: 5:30-7:00 PM\nLocation: 5831 Meadow Crest Drive\nDallas\, TX 75230 \nLight Refreshments will be served\nPlease join us to meet Sanjay who will fight to restore excellence in Texas House District 108 \nRSVP: Text Linda Ward (915-227-2677) or email rsvpsanjayfortexas@googlegroups.com \n  \nDisclaimer: Dallas County Republican Party does not endorse candidates.  We allow Republican candidates to submit campaign events to DCRP website and allow candidates to have meet & greets at HQ. 
URL:https://dallasgop.org/event/sanjay-for-texas-preston-hollow-meet-and-greet/
LOCATION:TX
END:VEVENT
BEGIN:VEVENT
DTSTART;TZID=America/Chicago:20260112T180000
DTEND;TZID=America/Chicago:20260112T200000
DTSTAMP:20260422T215226
CREATED:20260106T171501Z
LAST-MODIFIED:20260106T195822Z
UID:10004064-1768240800-1768248000@dallasgop.org
SUMMARY:Wesley Hunt Meet & Greet
DESCRIPTION:Congressman Wesley Hunt will be at the Dallas County GOP HQ on Monday\, January 12th for a Meet and Greet! \n \n  \nWesley Hunt is a 44-year-old Congressman\, retired Army combat veteran\, and former Apache Helicopter Pilot. At this event he will be delivering remarks on Faith\, Family\, and Freedom and the need for young conservative leaders to step up. \nWesley is looking forward to meeting you and answering any and all questions you have! \nFor more information\, feel free to check out WesleyForTexas.com \nYou may only register up to (10) tickets per mobile number per event. All tickets are subject to first come first serve basis. Register here: https://hft.nucleuspages.com/events/wesley-hunt-meet-and-greet-dallas-county-gop-hq
URL:https://dallasgop.org/event/wesley-hunt-meet-greet/
LOCATION:DCRP Headquarters\, 11617 N. Central Expy Suite 240\, Dallas\, Texas
END:VEVENT
BEGIN:VEVENT
DTSTART;TZID=America/Chicago:20260112T183000
DTEND;TZID=America/Chicago:20260112T200000
DTSTAMP:20260422T215226
CREATED:20240710T180713Z
LAST-MODIFIED:20240710T181114Z
UID:10000514-1768242600-1768248000@dallasgop.org
SUMMARY:Rowlett Area Republican Women's Club
DESCRIPTION:Come join us for our monthly meeting!
URL:https://dallasgop.org/event/rowlett-area-republican-womens-club/2026-01-12/
LOCATION:Freedom Place Church\, 4111 Main Street\, Rowlett\, TX\, 75088
ATTACH;FMTTYPE=image/jpeg:https://dallasgop.org/wp-content/uploads/2024/07/RRWC-LOGO.jpeg
END:VEVENT
END:VCALENDAR