BEGIN:VCALENDAR
VERSION:2.0
PRODID:-//Dallas County Republican Party - ECPv6.10.1//NONSGML v1.0//EN
CALSCALE:GREGORIAN
METHOD:PUBLISH
X-WR-CALNAME:Dallas County Republican Party
X-ORIGINAL-URL:https://dallasgop.org
X-WR-CALDESC:Events for Dallas County Republican Party
REFRESH-INTERVAL;VALUE=DURATION:PT1H
X-Robots-Tag:noindex
X-PUBLISHED-TTL:PT1H
BEGIN:VTIMEZONE
TZID:America/Chicago
BEGIN:DAYLIGHT
TZOFFSETFROM:-0600
TZOFFSETTO:-0500
TZNAME:CDT
DTSTART:20260308T080000
END:DAYLIGHT
BEGIN:STANDARD
TZOFFSETFROM:-0500
TZOFFSETTO:-0600
TZNAME:CST
DTSTART:20261101T070000
END:STANDARD
END:VTIMEZONE
BEGIN:VEVENT
DTSTART;TZID=America/Chicago:20260119T180000
DTEND;TZID=America/Chicago:20260119T203000
DTSTAMP:20260422T170751
CREATED:20260106T172355Z
LAST-MODIFIED:20260106T172355Z
UID:10004065-1768845600-1768854600@dallasgop.org
SUMMARY:January CEC Meeting
DESCRIPTION:Location: \nStorehouse Church\n4319 Alpha Rd. Dallas\, TX 75244 \nDate: \nMonday\, January 19\, 2026 \nRegistration at 6 pm\nMeeting starts promptly at 6:30 pm \nNOTE: Precinct Chairs will sit up front\, and guests will sit in the back or along the side of the room. Sergeant-at-Arms will assist. \nCEC Agenda: \n\nInvocation & Pledges\nCall to Order\nApproval of Minutes\nSwearing in of New Chairs\nChairman’s Remarks\nOfficer Reports\nCommittee Reports\nNew Business\nAnnouncements\nAdjournment
URL:https://dallasgop.org/event/january-cec-meeting/
LOCATION:Storehouse Church\, 4319 Alpha Rd.\, Dallas\, TX\, 75244
END:VEVENT
END:VCALENDAR