BEGIN:VCALENDAR
VERSION:2.0
PRODID:-//Dallas County Republican Party - ECPv6.10.1//NONSGML v1.0//EN
CALSCALE:GREGORIAN
METHOD:PUBLISH
X-ORIGINAL-URL:https://dallasgop.org
X-WR-CALDESC:Events for Dallas County Republican Party
REFRESH-INTERVAL;VALUE=DURATION:PT1H
X-Robots-Tag:noindex
X-PUBLISHED-TTL:PT1H
BEGIN:VTIMEZONE
TZID:America/Chicago
BEGIN:DAYLIGHT
TZOFFSETFROM:-0600
TZOFFSETTO:-0500
TZNAME:CDT
DTSTART:20260308T080000
END:DAYLIGHT
BEGIN:STANDARD
TZOFFSETFROM:-0500
TZOFFSETTO:-0600
TZNAME:CST
DTSTART:20261101T070000
END:STANDARD
END:VTIMEZONE
BEGIN:VEVENT
DTSTART;TZID=America/Chicago:20260207T100000
DTEND;TZID=America/Chicago:20260207T130000
DTSTAMP:20260423T203947
CREATED:20260127T212006Z
LAST-MODIFIED:20260127T212006Z
UID:10004099-1770458400-1770469200@dallasgop.org
SUMMARY:Sanjay - True Texas Project Day of Action
DESCRIPTION:With: Sanjay Narayan for State Rep HD108\nWhere: Lake Highlands High School\, 9449 Church Rd Dallas\, TX 75238\nWhen: 10AM\nFor anyone who would like to volunteer\, please rsvp to rsvpsanjayfortexas@googlegroups.com\nVolunteers should download the i360 walk app\, and we will provide credentials. \n  \nDallas County Republican Party allows local candidates to share campaign events on our calendar and allows candidates to host meet & greets at our headquarters.  Not an endorsement.
URL:https://dallasgop.org/event/sanjay-true-texas-project-day-of-action/
LOCATION:TX
END:VEVENT
END:VCALENDAR