BEGIN:VCALENDAR
VERSION:2.0
PRODID:-//Dallas County Republican Party - ECPv6.10.1//NONSGML v1.0//EN
CALSCALE:GREGORIAN
METHOD:PUBLISH
X-WR-CALNAME:Dallas County Republican Party
X-ORIGINAL-URL:https://dallasgop.org
X-WR-CALDESC:Events for Dallas County Republican Party
REFRESH-INTERVAL;VALUE=DURATION:PT1H
X-Robots-Tag:noindex
X-PUBLISHED-TTL:PT1H
BEGIN:VTIMEZONE
TZID:America/Chicago
BEGIN:DAYLIGHT
TZOFFSETFROM:-0600
TZOFFSETTO:-0500
TZNAME:CDT
DTSTART:20260308T080000
END:DAYLIGHT
BEGIN:STANDARD
TZOFFSETFROM:-0500
TZOFFSETTO:-0600
TZNAME:CST
DTSTART:20261101T070000
END:STANDARD
END:VTIMEZONE
BEGIN:VEVENT
DTSTART;TZID=America/Chicago:20260212T173000
DTEND;TZID=America/Chicago:20260212T190000
DTSTAMP:20260423T200204
CREATED:20260127T175959Z
LAST-MODIFIED:20260127T212307Z
UID:10004097-1770917400-1770922800@dallasgop.org
SUMMARY:Meet and Greet with Sanjay
DESCRIPTION:Dallas County Republican Party allows local candidates to share campaign events on our calendar and allows candidates to host meet & greets at our headquarters.  Not an endorsement.
URL:https://dallasgop.org/event/meet-and-greet-with-sanjay-3/
LOCATION:TX
ATTACH;FMTTYPE=image/jpeg:https://dallasgop.org/wp-content/uploads/2026/01/Sanjay-2-12.jpeg
END:VEVENT
BEGIN:VEVENT
DTSTART;TZID=America/Chicago:20260212T173000
DTEND;TZID=America/Chicago:20260212T193000
DTSTAMP:20260423T200204
CREATED:20260120T174924Z
LAST-MODIFIED:20260120T180754Z
UID:10004088-1770917400-1770924600@dallasgop.org
SUMMARY:Sanjay Meet and Greet - HD108
DESCRIPTION:You’re Invited!\nUniversity Park Meet and Greet \nHosted by Hollie Free \nDate: Thursday\, February 12\, 2026\nTime: 5:30-7:00 PM\nLocation: 7524 Centenary Avenue\nDallas\, TX 75225 \nLight Refreshments will be served \nPlease join us to meet Sanjay who will fight to restore excellence in Texas\nHouse District 108 \nRSVP: Text Hollie Free (847-977-3265) or email rsvpsanjayfortexas@googlegroups.com \nsanjayfortexas.com \nDallas County Republican Party allows candidates to share campaign events on our calendar and allows candidates to host meet & greets at headquarters\, however\, it is not an endorsement from DCRP.
URL:https://dallasgop.org/event/sanjay-meet-and-greet-hd108/
LOCATION:TX
END:VEVENT
BEGIN:VEVENT
DTSTART;TZID=America/Chicago:20260212T180000
DTEND;TZID=America/Chicago:20260212T200000
DTSTAMP:20260423T200204
CREATED:20260120T180104Z
LAST-MODIFIED:20260120T180104Z
UID:10004090-1770919200-1770926400@dallasgop.org
SUMMARY:True Texas Project - Speaker Andrew Yeager
DESCRIPTION:Andrew Yeager is the current Vice President of the Southlake Carroll ISD School Board. He represents the values of the Southlake community and works to keep woke idealogy from the classroom. \nDallas: Your Local School Board\, with Andrew Yeager
URL:https://dallasgop.org/event/true-texas-project-speaker-andrew-yeager/
LOCATION:DCRP Headquarters\, 11617 N. Central Expy Suite 240\, Dallas\, Texas
END:VEVENT
END:VCALENDAR