BEGIN:VCALENDAR
VERSION:2.0
PRODID:-//Dallas County Republican Party - ECPv6.10.1//NONSGML v1.0//EN
CALSCALE:GREGORIAN
METHOD:PUBLISH
X-WR-CALNAME:Dallas County Republican Party
X-ORIGINAL-URL:https://dallasgop.org
X-WR-CALDESC:Events for Dallas County Republican Party
REFRESH-INTERVAL;VALUE=DURATION:PT1H
X-Robots-Tag:noindex
X-PUBLISHED-TTL:PT1H
BEGIN:VTIMEZONE
TZID:America/Chicago
BEGIN:DAYLIGHT
TZOFFSETFROM:-0600
TZOFFSETTO:-0500
TZNAME:CDT
DTSTART:20260308T080000
END:DAYLIGHT
BEGIN:STANDARD
TZOFFSETFROM:-0500
TZOFFSETTO:-0600
TZNAME:CST
DTSTART:20261101T070000
END:STANDARD
END:VTIMEZONE
BEGIN:VEVENT
DTSTART;TZID=America/Chicago:20260215T170000
DTEND;TZID=America/Chicago:20260215T200000
DTSTAMP:20260425T145222
CREATED:20260122T181010Z
LAST-MODIFIED:20260122T181010Z
UID:10004094-1771174800-1771185600@dallasgop.org
SUMMARY:Battle for Texas Agriculture Commissioner Debate
DESCRIPTION:GET TICKETS HERE: https://ajc.ticketspice.com/texasagdebate Texas agriculture\, food security\, land ownership\, and the future of the great state of Texas are on the ballot! This is the debate conservatives cannot afford to miss!\n\n\nOn Sunday\, February 15th\, join us at the iconic Angelika Film Center & Cafe for a head-to-head showdown in the race for Texas Agriculture Commissioner. Incumbent Sid Miller faces primary challenger Nate Sheets in a live\, in-person debate that will shape the future of Texas agriculture and conservative leadership statewide.\n\nThis is more than a debate. This is more than agriculture. It’s about Texas sovereignty!\n– Who will fight to stop foreign and hostile interests from buying Texas farmland?– Who will stand up to Washington bureaucrats\, ESG mandates\, and radical environmental agendas?– Who will defend Texas ranchers\, farmers\, and food independence instead of surrendering ground to globalists and federal overreach?\n\nAttendees will hear direct\, unfiltered answers on the issues that matter most to conservatives\, farmers\, ranchers\, and Texans who care about the security and sovereignty of our state.\n\nThe evening begins with an exclusive VIP Meet & Greet & Reception at 5:00 PM\, followed by the main program and debate at 6:00 PM. Seating is expected to fill quickly and interest is high\, so secure your tickets today!\n\nIf you care about the future of Texas agriculture\, this is your moment to show up\, be informed\, and be part of the conversatio\n\nSecure your seat now — Texas is watching!
URL:https://dallasgop.org/event/battle-for-texas-agriculture-commissioner-debate/
LOCATION:Angelika Film Center\, 5321 E. Mockingbird Ln #230\, Dallas\, TX\, 75206
ATTACH;FMTTYPE=image/jpeg:https://dallasgop.org/wp-content/uploads/2026/01/Feb-15-Agriculture-Commissioner-Debate.jpg
END:VEVENT
END:VCALENDAR