BEGIN:VCALENDAR
VERSION:2.0
PRODID:-//Dallas County Republican Party - ECPv6.10.1//NONSGML v1.0//EN
CALSCALE:GREGORIAN
METHOD:PUBLISH
X-ORIGINAL-URL:https://dallasgop.org
X-WR-CALDESC:Events for Dallas County Republican Party
REFRESH-INTERVAL;VALUE=DURATION:PT1H
X-Robots-Tag:noindex
X-PUBLISHED-TTL:PT1H
BEGIN:VTIMEZONE
TZID:America/Chicago
BEGIN:DAYLIGHT
TZOFFSETFROM:-0600
TZOFFSETTO:-0500
TZNAME:CDT
DTSTART:20260308T080000
END:DAYLIGHT
BEGIN:STANDARD
TZOFFSETFROM:-0500
TZOFFSETTO:-0600
TZNAME:CST
DTSTART:20261101T070000
END:STANDARD
END:VTIMEZONE
BEGIN:VEVENT
DTSTART;TZID=America/Chicago:20260217T173000
DTEND;TZID=America/Chicago:20260217T193000
DTSTAMP:20260423T175331
CREATED:20250117T171815Z
LAST-MODIFIED:20251026T162157Z
UID:10002168-1771349400-1771356600@dallasgop.org
SUMMARY:Park Cities Republican Women
DESCRIPTION:Park Cities Republican Women monthly general meeting – join us and hear from significant speakers on important relevant issues.\nCheck back for meeting specifics and speakers – to be posted.
URL:https://dallasgop.org/event/park-cities-republican-women-3/2026-02-17/
LOCATION:Museum of Biblical Art\, 7500 Park Lane\, Dallas\, TX\, TX 75225\, United States
ATTACH;FMTTYPE=image/png:https://dallasgop.org/wp-content/uploads/2025/02/PCRW-logo_circle.png
END:VEVENT
BEGIN:VEVENT
DTSTART;TZID=America/Chicago:20260217T173000
DTEND;TZID=America/Chicago:20260217T193000
DTSTAMP:20260423T175331
CREATED:20260204T202511Z
LAST-MODIFIED:20260204T202511Z
UID:10004169-1771349400-1771356600@dallasgop.org
SUMMARY:Meet the Candidates Shaping The Races That Impact You
DESCRIPTION:
URL:https://dallasgop.org/event/meet-the-candidates-shaping-the-races-that-impact-you/
LOCATION:TX
ATTACH;FMTTYPE=image/png:https://dallasgop.org/wp-content/uploads/2026/02/PCBC-event.png
END:VEVENT
BEGIN:VEVENT
DTSTART;TZID=America/Chicago:20260217T180000
DTEND;TZID=America/Chicago:20260217T200000
DTSTAMP:20260423T175331
CREATED:20260127T212722Z
LAST-MODIFIED:20260209T143402Z
UID:10004100-1771351200-1771358400@dallasgop.org
SUMMARY:Richardson Republican Women February Meeting
DESCRIPTION:February 17\, 2026 \n6:00 pm dinner on your own \n6:45pm meeting \nSpring Creek BBQ \n270 N Central Expressway \nRichardson\, TX 75080 \nSpeaker: Senator Bob Hall – Interim Legislative Update Bob Hall was first elected to the Texas Senate in 2014 serving District 2\, which covers all of Kaufman\, Navarro\, Rockwall\, and Van Zandt counties\, and parts of Dallas\, Collin\, and Ellis counties.  Hall serves as the Chair of the Senate Committee on Administration and an influential voting member on the Senate Committee of Finance\, Health and Human Services\, State Affairs and Veterans Affairs.
URL:https://dallasgop.org/event/richardson-republican-women-february-meeting/
LOCATION:TX
ATTACH;FMTTYPE=image/png:https://dallasgop.org/wp-content/uploads/2026/01/RRW-Feb-Mtg.png
ORGANIZER;CN="Richardson Republican Women":MAILTO:rrw1958@gmail.com
END:VEVENT
BEGIN:VEVENT
DTSTART;TZID=America/Chicago:20260217T190000
DTEND;TZID=America/Chicago:20260217T210000
DTSTAMP:20260423T175331
CREATED:20260215T211312Z
LAST-MODIFIED:20260215T211312Z
UID:10004179-1771354800-1771362000@dallasgop.org
SUMMARY:Texas Attorney General Debate
DESCRIPTION:https://www.wfaa.com/article/news/politics/inside-politics/texas-politics/republican-candidates-debate-texas-attorney-general-watch-wfaa-plus-stream/287-8d044735-9ea9-4989-83cc-770029260bb6 \n 
URL:https://dallasgop.org/event/texas-attorney-general-debate/
LOCATION:Granada Theatre\, 3524 Greenville Ave\, Dallas\, TX\, 75206
ATTACH;FMTTYPE=image/jpeg:https://dallasgop.org/wp-content/uploads/2026/02/Feb-17.jpeg
END:VEVENT
END:VCALENDAR