BEGIN:VCALENDAR
VERSION:2.0
PRODID:-//Dallas County Republican Party - ECPv6.10.1//NONSGML v1.0//EN
CALSCALE:GREGORIAN
METHOD:PUBLISH
X-WR-CALNAME:Dallas County Republican Party
X-ORIGINAL-URL:https://dallasgop.org
X-WR-CALDESC:Events for Dallas County Republican Party
REFRESH-INTERVAL;VALUE=DURATION:PT1H
X-Robots-Tag:noindex
X-PUBLISHED-TTL:PT1H
BEGIN:VTIMEZONE
TZID:America/Chicago
BEGIN:DAYLIGHT
TZOFFSETFROM:-0600
TZOFFSETTO:-0500
TZNAME:CDT
DTSTART:20260308T080000
END:DAYLIGHT
BEGIN:STANDARD
TZOFFSETFROM:-0500
TZOFFSETTO:-0600
TZNAME:CST
DTSTART:20261101T070000
END:STANDARD
END:VTIMEZONE
BEGIN:VEVENT
DTSTART;TZID=America/Chicago:20260316T180000
DTEND;TZID=America/Chicago:20260316T200000
DTSTAMP:20260425T083251
CREATED:20260309T222401Z
LAST-MODIFIED:20260316T184139Z
UID:10004209-1773684000-1773691200@dallasgop.org
SUMMARY:DCRP CEC Meeting
DESCRIPTION:Location: \nWestin Dallas Park Central \n12720 Merit Dr. \nDallas\, TX 75251 \nPARKING IN THE GARAGE IS $10 AND PARKING IS FREE IN ADJACENT OPEN LOT  \n*We have a large sectioned off ballroom with theater style seating\, which can be divided into the four sections that we have planned for the meeting.* \nDate: \nMonday\, March 16\, 2026 \nRegistration at 6 pm\nMeeting starts promptly at 6:30 pm \n  \nDallas County Republican Party \nCEC Meeting Detailed Agenda \n6:30 PM – 8:30 PM \n  \n\n Invocation & Pledges (5 minutes) – 6:30 – 6:35\n\n\n Invocation\n Pledge of Allegiance\n Pledge to the Texas Flag\n\n  \n\n Call to Order (2 minutes) – 6:35 – 6:37\n\n\n Meeting called to order by the Vice Chair in the Chairman’s absence\n Confirmation of quorum\n\n  \n\n Approval of Minutes (3 minutes) – 6:37 – 6:40\n\n\n Motion to approve minutes from the previous CEC meeting\n Second\n Voice vote\n\n  \n\n Swearing In of New Precinct Chairs (10 minutes) – 6:40 – 6:50\n\n\n Call new precinct chairs forward\n Administer oath of office\n Welcome new chairs to service\n\n  \n\n Vice Chair Update (10 minutes) – 6:50 – 7:00\n\n\n Remarks on transition from primaries to general election preparation\n Importance of Senate District organization\n Instructions for upcoming working session\n\n  \n\n Officer Reports (10 minutes) – 7:00 – 7:10\n\n\n Treasurer report\n Secretary report\n Additional officer updates if needed\n\n  \n\n Committee Reports (15 minutes) – 7:10 – 7:25\n\nBrief updates from committees such as: \n\n Election Integrity\n Training / Precinct Operations\n Candidate Recruitment\n Communications / Outreach\n\n  \n\n New Business (25 minutes) – 7:25 – 7:50\n\n\n Motions or resolutions\n Operational updates\n Items requiring discussion or vote\n\n  \n\n Announcements (10 minutes) – 7:50 – 8:00\n\n\n Upcoming trainings\n Convention reminders\n Volunteer opportunities\n\n  \n\n Senate District Working Session (30 minutes) – 8:00 – 8:30\n\nMembers will remain seated by Senate District to: \n\n Meet candidates running within their district\n Identify volunteers willing to assist with outreach\n Begin organizing three meet‑and‑greet events for SD candidates before Election Day\n\n  \nSuggested locations: \n\n A local restaurant in the Senate District\n A home gathering hosted by a precinct chair or supporter\n A third community location such as a coffee shop or small venue\n\n  \nEach Senate District is encouraged to form a host committee to coordinate these events. \n  \n\n Adjournment – 8:30 PM\n\n 
URL:https://dallasgop.org/event/cec-meeting-2/
LOCATION:The Westin Park Central\, 12720 Merit Dr\, Dallas\, TX\, 75251
ATTACH;FMTTYPE=image/png:https://dallasgop.org/wp-content/uploads/2026/03/Cec.png
END:VEVENT
END:VCALENDAR