BEGIN:VCALENDAR
VERSION:2.0
PRODID:-//Dallas County Republican Party - ECPv6.10.1//NONSGML v1.0//EN
CALSCALE:GREGORIAN
METHOD:PUBLISH
X-WR-CALNAME:Dallas County Republican Party
X-ORIGINAL-URL:https://dallasgop.org
X-WR-CALDESC:Events for Dallas County Republican Party
REFRESH-INTERVAL;VALUE=DURATION:PT1H
X-Robots-Tag:noindex
X-PUBLISHED-TTL:PT1H
BEGIN:VTIMEZONE
TZID:America/Chicago
BEGIN:DAYLIGHT
TZOFFSETFROM:-0600
TZOFFSETTO:-0500
TZNAME:CDT
DTSTART:20260308T080000
END:DAYLIGHT
BEGIN:STANDARD
TZOFFSETFROM:-0500
TZOFFSETTO:-0600
TZNAME:CST
DTSTART:20261101T070000
END:STANDARD
END:VTIMEZONE
BEGIN:VEVENT
DTSTART;TZID=America/Chicago:20260319T180000
DTEND;TZID=America/Chicago:20260327T210000
DTSTAMP:20260423T154926
CREATED:20260319T160451Z
LAST-MODIFIED:20260319T160451Z
UID:10004223-1773943200-1774645200@dallasgop.org
SUMMARY:SD2 committees schedule (Please read full schedule with multiple dates and times)
DESCRIPTION:SD2 committees: All Meet at\nFreedom Place Church\n4111 Main St.\nRowlett\, 75088 \nCredentials: Jennilyn Schroeder\, Chair\nMonday March 23\,\n7:30PM – 9:00PM\nFriday March 27\,\n7:30PM-9:00PM \nNominations: Lindsey Schroeder\, Chair\nMonday March 23\,\n7PM – 9PM\nThursday March 26\,\n7PM – 9PM\nFriday March 27\,\n7PM – 9PM \nRules: Jeremy Rhudy\, Chair\nSaturday March 21\,\n2:00PM – 4:00PM\nMonday March 23\,\n7:00PM – 9:00PM\nThursday March 26\,\n7:00PM – 9:00PM\nFriday March 27\,\n7:30PM – 9:00PM \nResolutions: Jair Garrido\, Chair \nThursday March 19\, \n6:00 PM – 8:00 PM\, room to be determined \nSaturday March 21: \n8:30 AM –  12:00 PM \nMonday March 23: \n6:00 PM – 8:00 PM \nTuesday March 24: \n6:00 PM – 8:00 PM \nWednesday March 25: Optional to be determined \nThursday March 26: \n6:00 PM – 8:00 PM \nFriday: Optional\, to be determined \nLegislative Priorities: Isaac Laster\, Chair \nSaturday March 21: \n8:30 AM –  12:00 PM \nMonday March 23: \n6:00 PM – 8:00 PM \nTuesday March 24: \n6:00 PM – 8:00 PM \nThursday March 26: \n6:00 PM – 8:00 PM \nFriday March 27: \n7:00PM – 9:00PM \n 
URL:https://dallasgop.org/event/sd2-committees-schedule-please-read-full-schedule-with-multiple-dates-and-times/
LOCATION:Freedom Place Church\, 4111 Main Street\, Rowlett\, TX\, 75088
END:VEVENT
BEGIN:VEVENT
DTSTART;TZID=America/Chicago:20260321T080000
DTEND;TZID=America/Chicago:20260321T100000
DTSTAMP:20260423T154926
CREATED:20260316T133919Z
LAST-MODIFIED:20260316T133919Z
UID:10004218-1774080000-1774087200@dallasgop.org
SUMMARY:Rowlett Area Republican WomenFlapjack Fundraiser
DESCRIPTION:Rowlett Applebee’s 4616 Lakeview Parkway\, Rowlett 75088 8am-10am Fundraiser to help upcoming Municipal and November candidates
URL:https://dallasgop.org/event/rowlett-area-republican-womenflapjack-fundraiser/
LOCATION:Applebee’s Rowlett\, 4616 Lakeview Parkway\, Rowlett\, TX\, 75088
ATTACH;FMTTYPE=image/jpeg:https://dallasgop.org/wp-content/uploads/2026/03/IMG_20260314_110512.jpg
END:VEVENT
BEGIN:VEVENT
DTSTART;TZID=America/Chicago:20260321T100000
DTEND;TZID=America/Chicago:20260321T120000
DTSTAMP:20260423T154926
CREATED:20260317T165744Z
LAST-MODIFIED:20260317T165744Z
UID:10004220-1774087200-1774094400@dallasgop.org
SUMMARY:SD 12 only Resolutions Committee Meeting
DESCRIPTION:Pre-SD 12 Senatorial Convention Resolutions Committee work session. If you need to submit a resolution for consideration\, you will have a maximum of 3 minutes. Please email ccastilla@sbcglobal.net to check whether it has already been submitted (saves you time) and to get the meeting address. Thank you.
URL:https://dallasgop.org/event/sd-12-only-resolutions-committee-meeting/
LOCATION:Private residence\, TX
END:VEVENT
BEGIN:VEVENT
DTSTART;TZID=America/Chicago:20260321T110000
DTEND;TZID=America/Chicago:20260321T130000
DTSTAMP:20260423T154926
CREATED:20260303T170423Z
LAST-MODIFIED:20260319T155639Z
UID:10004195-1774090800-1774098000@dallasgop.org
SUMMARY:Power Up Training
DESCRIPTION:Precinct Chair and Volunteer Training hosted by Vice Chair Tami Brown-Rodriquez \nSign up here.
URL:https://dallasgop.org/event/power-hour-training-4/
LOCATION:Spring Creek BBQ-Richardson\, 270 N Central Expressway\, Richardson\, TX\, 75080
ATTACH;FMTTYPE=image/png:https://dallasgop.org/wp-content/uploads/2026/03/IMG_5038.png
END:VEVENT
END:VCALENDAR