BEGIN:VCALENDAR
VERSION:2.0
PRODID:-//Dallas County Republican Party - ECPv6.10.1//NONSGML v1.0//EN
CALSCALE:GREGORIAN
METHOD:PUBLISH
X-WR-CALNAME:Dallas County Republican Party
X-ORIGINAL-URL:https://dallasgop.org
X-WR-CALDESC:Events for Dallas County Republican Party
REFRESH-INTERVAL;VALUE=DURATION:PT1H
X-Robots-Tag:noindex
X-PUBLISHED-TTL:PT1H
BEGIN:VTIMEZONE
TZID:America/Chicago
BEGIN:DAYLIGHT
TZOFFSETFROM:-0600
TZOFFSETTO:-0500
TZNAME:CDT
DTSTART:20260308T080000
END:DAYLIGHT
BEGIN:STANDARD
TZOFFSETFROM:-0500
TZOFFSETTO:-0600
TZNAME:CST
DTSTART:20261101T070000
END:STANDARD
TZID:UTC
BEGIN:STANDARD
TZOFFSETFROM:+0000
TZOFFSETTO:+0000
TZNAME:UTC
DTSTART:20260101T000000
END:STANDARD
END:VTIMEZONE
BEGIN:VEVENT
DTSTART;TZID=America/Chicago:20260319T180000
DTEND;TZID=America/Chicago:20260327T210000
DTSTAMP:20260425T215619
CREATED:20260319T160451Z
LAST-MODIFIED:20260319T160451Z
UID:10004223-1773943200-1774645200@dallasgop.org
SUMMARY:SD2 committees schedule (Please read full schedule with multiple dates and times)
DESCRIPTION:SD2 committees: All Meet at\nFreedom Place Church\n4111 Main St.\nRowlett\, 75088 \nCredentials: Jennilyn Schroeder\, Chair\nMonday March 23\,\n7:30PM – 9:00PM\nFriday March 27\,\n7:30PM-9:00PM \nNominations: Lindsey Schroeder\, Chair\nMonday March 23\,\n7PM – 9PM\nThursday March 26\,\n7PM – 9PM\nFriday March 27\,\n7PM – 9PM \nRules: Jeremy Rhudy\, Chair\nSaturday March 21\,\n2:00PM – 4:00PM\nMonday March 23\,\n7:00PM – 9:00PM\nThursday March 26\,\n7:00PM – 9:00PM\nFriday March 27\,\n7:30PM – 9:00PM \nResolutions: Jair Garrido\, Chair \nThursday March 19\, \n6:00 PM – 8:00 PM\, room to be determined \nSaturday March 21: \n8:30 AM –  12:00 PM \nMonday March 23: \n6:00 PM – 8:00 PM \nTuesday March 24: \n6:00 PM – 8:00 PM \nWednesday March 25: Optional to be determined \nThursday March 26: \n6:00 PM – 8:00 PM \nFriday: Optional\, to be determined \nLegislative Priorities: Isaac Laster\, Chair \nSaturday March 21: \n8:30 AM –  12:00 PM \nMonday March 23: \n6:00 PM – 8:00 PM \nTuesday March 24: \n6:00 PM – 8:00 PM \nThursday March 26: \n6:00 PM – 8:00 PM \nFriday March 27: \n7:00PM – 9:00PM \n 
URL:https://dallasgop.org/event/sd2-committees-schedule-please-read-full-schedule-with-multiple-dates-and-times/
LOCATION:Freedom Place Church\, 4111 Main Street\, Rowlett\, TX\, 75088
END:VEVENT
BEGIN:VEVENT
DTSTART;TZID=UTC:20260323T180000
DTEND;TZID=UTC:20260323T200000
DTSTAMP:20260425T215619
CREATED:20240917T220055Z
LAST-MODIFIED:20240917T220056Z
UID:10000397-1774288800-1774296000@dallasgop.org
SUMMARY:Rowlett Republican Men
DESCRIPTION:Monthly Meeting. \n 
URL:https://dallasgop.org/event/rowlett-republican-men-2-2-2/2026-03-23/
LOCATION:Freedom Place Church\, 4111 Main Street\, Rowlett\, TX\, 75088
END:VEVENT
BEGIN:VEVENT
DTSTART;TZID=America/Chicago:20260323T180000
DTEND;TZID=America/Chicago:20260323T200000
DTSTAMP:20260425T215619
CREATED:20260307T230551Z
LAST-MODIFIED:20260307T230551Z
UID:10004199-1774288800-1774296000@dallasgop.org
SUMMARY:Rowlett Republican Men's Club-March Meeting
DESCRIPTION: Monday\, March 23rd 6:00pm – 8:00pm Freedom Place Church4111 Main Street\, Rowlett\, TX 75088\n\n Special Guest Speaker: Nate SheetsTexas AG Commissioner Republican Nominee\n\n Don’t miss our March 2026 meeting of the Rowlett Republican Men’s Club!\nWe’re kicking off the new year with a special guest —  Nate Sheets\, Republican Nominee for Texas Agriculture Commissioner! Nate will share his vision for securing Texas’ food supply\, supporting our farmers and ranchers\, and defending rural values that keep the Lone Star State strong and free.\n Don’t miss this important conversation about the future of Texas agriculture and conservative leadership across our state.\n Bring a friend\, stay informed\, and stay engaged!\n#RowlettRepublicans #TexasValues #FaithFamilyFreedom #TexasAgriculture #NateSheets
URL:https://dallasgop.org/event/rowlett-republican-mens-club-march-meeting/
LOCATION:Freedom Place Church\, 4111 Main Street\, Rowlett\, TX\, 75088
ATTACH;FMTTYPE=image/jpeg:https://dallasgop.org/wp-content/uploads/2026/03/IMG_1375.jpg
ORGANIZER;CN="Rowlett Republican Men's Club":MAILTO:rowlettgopmen@gmail.com
END:VEVENT
BEGIN:VEVENT
DTSTART;TZID=America/Chicago:20260323T180000
DTEND;TZID=America/Chicago:20260323T200000
DTSTAMP:20260425T215619
CREATED:20260320T184326Z
LAST-MODIFIED:20260321T015804Z
UID:10004224-1774288800-1774296000@dallasgop.org
SUMMARY:Elections Oversight Committee
DESCRIPTION:Review of past election and proposed action items
URL:https://dallasgop.org/event/elections-oversight-committee/
LOCATION:Spring Creek BBQ-Richardson\, 270 N Central Expressway\, Richardson\, TX\, 75080
END:VEVENT
BEGIN:VEVENT
DTSTART;TZID=America/Chicago:20260323T183000
DTEND;TZID=America/Chicago:20260323T200000
DTSTAMP:20260425T215619
CREATED:20260316T133108Z
LAST-MODIFIED:20260321T231853Z
UID:10004217-1774290600-1774296000@dallasgop.org
SUMMARY:Senate District 16 Nominations Committee Meeting-LOCATION CHANGE
DESCRIPTION:If you wish to be a delegate to the Republican Party of Texas STATE Convention in Houston\, TX\, please come by this committee meeting and fill out the form in person\, and appear before the committee. \nIf you wish to attend the SD16 Senate District Convention and you did NOT attend your SD16 Precinct Convention\, you must appear at the SD16 Nominations Committee either one of these two times:\nMarch 23rd @ 6:30 PM – 8:30 PM\nOR\nMarch 24th @ 6:30 PM – 8:30 PM \nThe Nominations Committee with also meet in person on the morning of Saturday March 28th\, starting no earlier than 8:00 AM at the La Prada Church of Christ in Mesquite for review of applications and interviews for those wanting to attend as delegates to the Republican Party of Texas STATE CONVENTION. \nLocation:\nLa Prada Church of Christ\n2724 La Prada Dr\,\, Mesquite\, TX\, United States \nContact: Susan Fountain\n(214) 566-2425\nsusanwho@protonmail.com \nAdditional Contact:\n(214) 642-2114
URL:https://dallasgop.org/event/senate-district-16-nominations-committee-hearing/
LOCATION:La Prada Church of Christ\, 2724 La Prada Dr\,\, Mesquite\, TX\, TX 75150\, United States
END:VEVENT
END:VCALENDAR