BEGIN:VCALENDAR
VERSION:2.0
PRODID:-//Dallas County Republican Party - ECPv6.10.1//NONSGML v1.0//EN
CALSCALE:GREGORIAN
METHOD:PUBLISH
X-WR-CALNAME:Dallas County Republican Party
X-ORIGINAL-URL:https://dallasgop.org
X-WR-CALDESC:Events for Dallas County Republican Party
REFRESH-INTERVAL;VALUE=DURATION:PT1H
X-Robots-Tag:noindex
X-PUBLISHED-TTL:PT1H
BEGIN:VTIMEZONE
TZID:America/Chicago
BEGIN:DAYLIGHT
TZOFFSETFROM:-0600
TZOFFSETTO:-0500
TZNAME:CDT
DTSTART:20260308T080000
END:DAYLIGHT
BEGIN:STANDARD
TZOFFSETFROM:-0500
TZOFFSETTO:-0600
TZNAME:CST
DTSTART:20261101T070000
END:STANDARD
END:VTIMEZONE
BEGIN:VEVENT
DTSTART;TZID=America/Chicago:20260331T173000
DTEND;TZID=America/Chicago:20260331T193000
DTSTAMP:20260420T141612
CREATED:20260309T180334Z
LAST-MODIFIED:20260309T180535Z
UID:10002169-1774978200-1774985400@dallasgop.org
SUMMARY:Park Cities Republican Women
DESCRIPTION:A Candid Conversation with Americans for Prosperity—Why Are Your Property Taxes Still Rising?
URL:https://dallasgop.org/event/park-cities-republican-women-4/
LOCATION:Museum of Biblical Art\, 7500 Park Lane\, Dallas\, TX\, TX 75225\, United States
ATTACH;FMTTYPE=image/png:https://dallasgop.org/wp-content/uploads/2026/03/PCRW-March-31-event.png
END:VEVENT
END:VCALENDAR