BEGIN:VCALENDAR
VERSION:2.0
PRODID:-//Dallas County Republican Party - ECPv6.10.1//NONSGML v1.0//EN
CALSCALE:GREGORIAN
METHOD:PUBLISH
X-WR-CALNAME:Dallas County Republican Party
X-ORIGINAL-URL:https://dallasgop.org
X-WR-CALDESC:Events for Dallas County Republican Party
REFRESH-INTERVAL;VALUE=DURATION:PT1H
X-Robots-Tag:noindex
X-PUBLISHED-TTL:PT1H
BEGIN:VTIMEZONE
TZID:America/Chicago
BEGIN:DAYLIGHT
TZOFFSETFROM:-0600
TZOFFSETTO:-0500
TZNAME:CDT
DTSTART:20260308T080000
END:DAYLIGHT
BEGIN:STANDARD
TZOFFSETFROM:-0500
TZOFFSETTO:-0600
TZNAME:CST
DTSTART:20261101T070000
END:STANDARD
END:VTIMEZONE
BEGIN:VEVENT
DTSTART;TZID=America/Chicago:20260420T080000
DTEND;TZID=America/Chicago:20260420T170000
DTSTAMP:20260420T014630
CREATED:20260417T175236Z
LAST-MODIFIED:20260417T175236Z
UID:10004634-1776672000-1776704400@dallasgop.org
SUMMARY:Early Voting for Joint and Special Elections Begins
DESCRIPTION:Please visit the Dallas County Election Department for more details: \nhttps://www.dallascountyvotes.org/voters/election/may-2-2026-joint-special-election/
URL:https://dallasgop.org/event/early-voting-for-joint-and-special-elections-begins/
END:VEVENT
BEGIN:VEVENT
DTSTART;TZID=America/Chicago:20260420T180000
DTEND;TZID=America/Chicago:20260420T203000
DTSTAMP:20260420T014630
CREATED:20260407T170542Z
LAST-MODIFIED:20260417T184028Z
UID:10004567-1776708000-1776717000@dallasgop.org
SUMMARY:Dallas County Republican Party Monthly CEC Meeting
DESCRIPTION:Dallas County Republican Party County Executive Committee Meeting Agenda: \n  \n1. Call to Order \n2. Invocation & Pledge of Allegiance \n3. Roll Call /Confirm quorum \n4. Adoption of Agenda \n  \n5. Approval of Previous Minutes \n  \n6. Chair’s Update \n  \n7. Officer Updates \n\nSecretary\nTreasurer\n\n  \n8. Committee Updates \n\nResolutions Committee\nElection Integrity Committee\n\n  \n9. Old Business \n\nUpdates on any previous items or ongoing efforts\n\n  \n10. New Business & Discussion \n  \n11. Announcements \n  \n12. Adjournment \n13. Candidate Introductions \n  \n14. SD Task Force Update
URL:https://dallasgop.org/event/april-cec-meeting-2/
LOCATION:Sheraton Galleria\, 4801 Lyndon B Johnson Fwy\, Dallas\, TX\, 75244
END:VEVENT
END:VCALENDAR