BEGIN:VCALENDAR
VERSION:2.0
PRODID:-//Dallas County Republican Party - ECPv6.10.1//NONSGML v1.0//EN
CALSCALE:GREGORIAN
METHOD:PUBLISH
X-WR-CALNAME:Dallas County Republican Party
X-ORIGINAL-URL:https://dallasgop.org
X-WR-CALDESC:Events for Dallas County Republican Party
REFRESH-INTERVAL;VALUE=DURATION:PT1H
X-Robots-Tag:noindex
X-PUBLISHED-TTL:PT1H
BEGIN:VTIMEZONE
TZID:America/Chicago
BEGIN:DAYLIGHT
TZOFFSETFROM:-0600
TZOFFSETTO:-0500
TZNAME:CDT
DTSTART:20260308T080000
END:DAYLIGHT
BEGIN:STANDARD
TZOFFSETFROM:-0500
TZOFFSETTO:-0600
TZNAME:CST
DTSTART:20261101T070000
END:STANDARD
END:VTIMEZONE
BEGIN:VEVENT
DTSTART;VALUE=DATE:20260421
DTEND;VALUE=DATE:20260424
DTSTAMP:20260421T023250
CREATED:20260414T151503Z
LAST-MODIFIED:20260414T151503Z
UID:10004631-1776729600-1776988799@dallasgop.org
SUMMARY:Turning Point USA Faith Forward Summit
DESCRIPTION:Event Details\n\n\n\nJoin us for the Faith Forward Summit\, a gathering of pastors and ministry leaders committed to advancing the Church in our nation. \nThe Faith Forward theme focuses on strengthening the Church by returning to primary doctrine\, fostering biblical discipleship\, and reigniting evangelism to impact our communities and nation. This summit is about equipping leaders to stand firm on foundational Christian truths and proclaim the gospel boldly\, while working together to eradicate wokeism from the American pulpit. \nRegister here
URL:https://dallasgop.org/event/turning-point-usa-faith-forward-summit/
LOCATION:Fellowship Church\, 2450 State Hwy 121\, Grapevine\, TX\, 76051
ATTACH;FMTTYPE=image/jpeg:https://dallasgop.org/wp-content/uploads/2026/04/TPUSA-Faith-Forward-Summit.jpg
END:VEVENT
BEGIN:VEVENT
DTSTART;TZID=America/Chicago:20260421T080000
DTEND;TZID=America/Chicago:20260421T170000
DTSTAMP:20260421T023250
CREATED:20260417T175438Z
LAST-MODIFIED:20260417T175438Z
UID:10004635-1776758400-1776790800@dallasgop.org
SUMMARY:No Voting for Joint and Special Elections Due to State Holiday
DESCRIPTION:Please visit the Dallas County Elections Department for more details on the May 2nd Joint and Special Elections: \nhttps://www.dallascountyvotes.org/voters/election/may-2-2026-joint-special-election/
URL:https://dallasgop.org/event/no-voting-for-joint-and-special-elections-due-to-state-holiday/
LOCATION:TX
END:VEVENT
BEGIN:VEVENT
DTSTART;TZID=America/Chicago:20260421T173000
DTEND;TZID=America/Chicago:20260421T193000
DTSTAMP:20260421T023250
CREATED:20250117T171815Z
LAST-MODIFIED:20251026T162157Z
UID:10002170-1776792600-1776799800@dallasgop.org
SUMMARY:Park Cities Republican Women
DESCRIPTION:Park Cities Republican Women monthly general meeting – join us and hear from significant speakers on important relevant issues.\nCheck back for meeting specifics and speakers – to be posted.
URL:https://dallasgop.org/event/park-cities-republican-women-3/2026-04-21/
LOCATION:Museum of Biblical Art\, 7500 Park Lane\, Dallas\, TX\, TX 75225\, United States
ATTACH;FMTTYPE=image/png:https://dallasgop.org/wp-content/uploads/2025/02/PCRW-logo_circle.png
END:VEVENT
BEGIN:VEVENT
DTSTART;TZID=America/Chicago:20260421T180000
DTEND;TZID=America/Chicago:20260421T200000
DTSTAMP:20260421T023250
CREATED:20260401T203833Z
LAST-MODIFIED:20260401T203833Z
UID:10004504-1776794400-1776801600@dallasgop.org
SUMMARY:Richardson Republican Women Monthly Meeting
DESCRIPTION:Richardson Republican Women – April Meeting\n \nTuesday\, April 21st\, 2026\n6:00 PM – Dinner (on your own)\n6:45 PM – Program \n Spring Creek BBQ\n270 N. Central Expressway\nRichardson\, TX \nGuest Speakers:\nDaphne Dark & Lee Jenkins \nJoin us for an engaging and informative evening as we dive into: \n“Election 101”\nThis session will walk us through the inner workings of our election system — from the responsibilities of election officials to how we\, as engaged citizens\, can play a role in ensuring smooth and successful elections. \nDaphne Dark serves as Chair of Legislation for Richardson Republican Women and is a front desk volunteer at Dallas County Republican Party HQ.\nLee Jenkins serves as Co-Chair of the Dallas County Republican Party’s Elections Oversight Committee. \nImportant Reminder\nPlease bring your Voter Registration Card with you. \nCommunity Service Update\nChair: Catherine Tolliver\n \nWe encourage you to bring donations for Hope’s Door New Beginnings Center Resale Store. Your contributions make a meaningful difference in our community. \nRSVP Here: YES!! I will be there! \nWe look forward to seeing you there — and don’t forget to invite a friend as part of our 5-Friend Challenge!
URL:https://dallasgop.org/event/richardson-republican-women-monthly-meeting/
LOCATION:Spring Creek BBQ-Richardson\, 270 N Central Expressway\, Richardson\, TX\, 75080
ATTACH;FMTTYPE=image/png:https://dallasgop.org/wp-content/uploads/2026/04/RRW-April-Meeting.png
ORGANIZER;CN="Richardson Republican Women":MAILTO:rrw1958@gmail.com
END:VEVENT
END:VCALENDAR