BEGIN:VCALENDAR
VERSION:2.0
PRODID:-//Dallas County Republican Party - ECPv6.10.1//NONSGML v1.0//EN
CALSCALE:GREGORIAN
METHOD:PUBLISH
X-WR-CALNAME:Dallas County Republican Party
X-ORIGINAL-URL:https://dallasgop.org
X-WR-CALDESC:Events for Dallas County Republican Party
REFRESH-INTERVAL;VALUE=DURATION:PT1H
X-Robots-Tag:noindex
X-PUBLISHED-TTL:PT1H
BEGIN:VTIMEZONE
TZID:America/Chicago
BEGIN:DAYLIGHT
TZOFFSETFROM:-0600
TZOFFSETTO:-0500
TZNAME:CDT
DTSTART:20260308T080000
END:DAYLIGHT
BEGIN:STANDARD
TZOFFSETFROM:-0500
TZOFFSETTO:-0600
TZNAME:CST
DTSTART:20261101T070000
END:STANDARD
END:VTIMEZONE
BEGIN:VEVENT
DTSTART;TZID=America/Chicago:20260428T070000
DTEND;TZID=America/Chicago:20260428T190000
DTSTAMP:20260420T141552
CREATED:20260417T175734Z
LAST-MODIFIED:20260417T175734Z
UID:10004636-1777359600-1777402800@dallasgop.org
SUMMARY:Last Day of Early Voting for May 2nd Joint and Special Elections
DESCRIPTION:Please visit the Dallas County Elections Department for more details on the May 2nd Joint and Special Elections https://www.dallascountyvotes.org/voters/election/may-2-2026-joint-special-election/
URL:https://dallasgop.org/event/last-day-of-early-voting-for-may-2nd-joint-and-special-elections/
LOCATION:TX
END:VEVENT
END:VCALENDAR