BEGIN:VCALENDAR
VERSION:2.0
PRODID:-//Dallas County Republican Party - ECPv6.10.1//NONSGML v1.0//EN
CALSCALE:GREGORIAN
METHOD:PUBLISH
X-ORIGINAL-URL:https://dallasgop.org
X-WR-CALDESC:Events for Dallas County Republican Party
REFRESH-INTERVAL;VALUE=DURATION:PT1H
X-Robots-Tag:noindex
X-PUBLISHED-TTL:PT1H
BEGIN:VTIMEZONE
TZID:America/Chicago
BEGIN:DAYLIGHT
TZOFFSETFROM:-0600
TZOFFSETTO:-0500
TZNAME:CDT
DTSTART:20260308T080000
END:DAYLIGHT
BEGIN:STANDARD
TZOFFSETFROM:-0500
TZOFFSETTO:-0600
TZNAME:CST
DTSTART:20261101T070000
END:STANDARD
END:VTIMEZONE
BEGIN:VEVENT
DTSTART;TZID=America/Chicago:20260502T070000
DTEND;TZID=America/Chicago:20260502T190000
DTSTAMP:20260422T045529
CREATED:20260403T182917Z
LAST-MODIFIED:20260403T182917Z
UID:10004566-1777705200-1777748400@dallasgop.org
SUMMARY:May 2nd Municipal Elections
DESCRIPTION:“In Texas\, the May Joint & Special Election is a key opportunity for voters to participate in local governance by selecting officials such as city council members\, school board trustees\, and other municipal representatives. These elected officials play a crucial role in addressing local needs\, from education to public safety and community development.” -DALLAS County Elections Department \nElection details here: \nhttps://www.dallascountyvotes.org/election-results/historical/may-2-2026-joint-and-special-election/#EarlyVoting \n 
URL:https://dallasgop.org/event/may-2nd-municipal-elections/
LOCATION:TX
END:VEVENT
BEGIN:VEVENT
DTSTART;TZID=America/Chicago:20260502T070000
DTEND;TZID=America/Chicago:20260502T190000
DTSTAMP:20260422T045529
CREATED:20260417T175847Z
LAST-MODIFIED:20260417T175847Z
UID:10004637-1777705200-1777748400@dallasgop.org
SUMMARY:May 2nd Joint and Special Elections
DESCRIPTION:Please visit the Dallas County Elections Department for more details on the May 2nd Joint and Special Elections: \nhttps://www.dallascountyvotes.org/voters/election/may-2-2026-joint-special-election/
URL:https://dallasgop.org/event/may-2nd-joint-and-special-elections/
LOCATION:TX
END:VEVENT
END:VCALENDAR