BEGIN:VCALENDAR
VERSION:2.0
PRODID:-//Dallas County Republican Party - ECPv6.10.1//NONSGML v1.0//EN
CALSCALE:GREGORIAN
METHOD:PUBLISH
X-WR-CALNAME:Dallas County Republican Party
X-ORIGINAL-URL:https://dallasgop.org
X-WR-CALDESC:Events for Dallas County Republican Party
REFRESH-INTERVAL;VALUE=DURATION:PT1H
X-Robots-Tag:noindex
X-PUBLISHED-TTL:PT1H
BEGIN:VTIMEZONE
TZID:America/Chicago
BEGIN:DAYLIGHT
TZOFFSETFROM:-0600
TZOFFSETTO:-0500
TZNAME:CDT
DTSTART:20260308T080000
END:DAYLIGHT
BEGIN:STANDARD
TZOFFSETFROM:-0500
TZOFFSETTO:-0600
TZNAME:CST
DTSTART:20261101T070000
END:STANDARD
END:VTIMEZONE
BEGIN:VEVENT
DTSTART;TZID=America/Chicago:20260518T180000
DTEND;TZID=America/Chicago:20260518T203000
DTSTAMP:20260420T182718
CREATED:20260404T135859Z
LAST-MODIFIED:20260404T135937Z
UID:10004568-1779127200-1779136200@dallasgop.org
SUMMARY:Dallas County Republican Party Monthly CEC Meeting
DESCRIPTION:
URL:https://dallasgop.org/event/april-cec-meeting/2026-05-18/
LOCATION:Sheraton Galleria\, 4801 Lyndon B Johnson Fwy\, Dallas\, TX\, 75244
END:VEVENT
END:VCALENDAR