BEGIN:VCALENDAR
VERSION:2.0
PRODID:-//Dallas County Republican Party - ECPv6.10.1//NONSGML v1.0//EN
CALSCALE:GREGORIAN
METHOD:PUBLISH
X-WR-CALNAME:Dallas County Republican Party
X-ORIGINAL-URL:https://dallasgop.org
X-WR-CALDESC:Events for Dallas County Republican Party
REFRESH-INTERVAL;VALUE=DURATION:PT1H
X-Robots-Tag:noindex
X-PUBLISHED-TTL:PT1H
BEGIN:VTIMEZONE
TZID:America/Chicago
BEGIN:DAYLIGHT
TZOFFSETFROM:-0600
TZOFFSETTO:-0500
TZNAME:CDT
DTSTART:20260308T080000
END:DAYLIGHT
BEGIN:STANDARD
TZOFFSETFROM:-0500
TZOFFSETTO:-0600
TZNAME:CST
DTSTART:20261101T070000
END:STANDARD
END:VTIMEZONE
BEGIN:VEVENT
DTSTART;TZID=America/Chicago:20260519T173000
DTEND;TZID=America/Chicago:20260519T193000
DTSTAMP:20260420T170010
CREATED:20250117T171815Z
LAST-MODIFIED:20251026T162157Z
UID:10002171-1779211800-1779219000@dallasgop.org
SUMMARY:Park Cities Republican Women
DESCRIPTION:Park Cities Republican Women monthly general meeting – join us and hear from significant speakers on important relevant issues.\nCheck back for meeting specifics and speakers – to be posted.
URL:https://dallasgop.org/event/park-cities-republican-women-3/2026-05-19/
LOCATION:Museum of Biblical Art\, 7500 Park Lane\, Dallas\, TX\, TX 75225\, United States
ATTACH;FMTTYPE=image/png:https://dallasgop.org/wp-content/uploads/2025/02/PCRW-logo_circle.png
END:VEVENT
BEGIN:VEVENT
DTSTART;TZID=America/Chicago:20260519T180000
DTEND;TZID=America/Chicago:20260519T203000
DTSTAMP:20260420T170010
CREATED:20260404T135859Z
LAST-MODIFIED:20260404T135937Z
UID:10004569-1779213600-1779222600@dallasgop.org
SUMMARY:Dallas County Republican Party Monthly CEC Meeting
DESCRIPTION:
URL:https://dallasgop.org/event/april-cec-meeting/2026-05-19/
LOCATION:Sheraton Galleria\, 4801 Lyndon B Johnson Fwy\, Dallas\, TX\, 75244
END:VEVENT
END:VCALENDAR