BEGIN:VCALENDAR
VERSION:2.0
PRODID:-//Dallas County Republican Party - ECPv6.10.1//NONSGML v1.0//EN
CALSCALE:GREGORIAN
METHOD:PUBLISH
X-WR-CALNAME:Dallas County Republican Party
X-ORIGINAL-URL:https://dallasgop.org
X-WR-CALDESC:Events for Dallas County Republican Party
REFRESH-INTERVAL;VALUE=DURATION:PT1H
X-Robots-Tag:noindex
X-PUBLISHED-TTL:PT1H
BEGIN:VTIMEZONE
TZID:America/Chicago
BEGIN:DAYLIGHT
TZOFFSETFROM:-0600
TZOFFSETTO:-0500
TZNAME:CDT
DTSTART:20260308T080000
END:DAYLIGHT
BEGIN:STANDARD
TZOFFSETFROM:-0500
TZOFFSETTO:-0600
TZNAME:CST
DTSTART:20261101T070000
END:STANDARD
END:VTIMEZONE
BEGIN:VEVENT
DTSTART;TZID=America/Chicago:20260607T180000
DTEND;TZID=America/Chicago:20260607T210000
DTSTAMP:20260420T181359
CREATED:20260406T171450Z
LAST-MODIFIED:20260406T171450Z
UID:10004629-1780855200-1780866000@dallasgop.org
SUMMARY:Hillel Fuld Live and Unfiltered
DESCRIPTION:A note from Benji Gershon\, President of American Jewish Conservatives: \n“GREAT NEWS! Our event with Hillel Fuld has been rescheduled for Sunday\, June 7th at the same location! Tickets are officially back on sale! *If you already registered\, your tickets have been automatically transffered to the new date! https://ajc.ticketspice.com/fuld“ \nHillel Fuld is Coming to Texas for the First Time Ever! Get ready for a powerful\, high-energy evening with one of the most fearless voices for truth and arguably the #1 top pro-Israel advocate and geopolitical influencer in the World today! \nJoin us on Sunday\, June 7th\, at the Hilton Garden Inn in Richardson for Hillel Fuld LIVE and Unfiltered — an exclusive\, no-holds-barred conversation and Q&A with globally recognized speaker\, influencer\, columnist\, tech insider\, and unapologetic Pro-Israel advocate Hillel Fuld! \nIn a world flooded with noise\, spin\, and media narratives\, Hillel cuts straight through it. \nKnown for his bold commentary\, deep connections in the startup and innovation world\, and unwavering defense of Israel on the global stage\, Hillel brings clarity\, facts\, and fire. From the front lines of Israel’s tech ecosystem to the battle for truth in international media\, he will tackle the issues others won’t — geopolitics\, media bias\, antisemitism\, and the future of the U.S.–Israel alliance. \nThis is not a lecture. \nThis is not scripted. \nThis is LIVE and UNFILTERED. \nVIP Meet & Greet + Gourmet Reception – 6:00PM \nMeet Hillel personally\, connect with leaders\, special guests and supporters\, and enjoy an elevated reception experience featuring an open bar and gourmet hors d’oeuvres including: Brisket Sliders with pickled onion and sriracha\, Chicken Empanadas with Chimichurri\, Artichoke Stuffed Mushrooms\, Chicken Pargiot skewers with Pineapple Salsa. \nMain Program & Audience Q&A – 7:00PM \nHear Hillel’s insights and expert perspective on a several important topics including: A Realtime briefing on Israel’s current geopolitical situation\, The Iranian Regime: What Happens Next\, The coordinated attack on the US-Israel relationship\, the radical Islamist takeover of America and the West and more! \nHillel’s remarks will be followed by an interactive audience Q&A where you can ask your toughest questions! \nDessert Reception – 8:30PM \nAll guests are invited to a delicious dessert reception immediately following the program. Continue the conversation and network and schmooze with engaged\, like-minded guests and friends. \nSeats are limited. The conversation will be bold. \nJoin us for an exciting and informative evening of insight\, conviction\, clarity and truth!
URL:https://dallasgop.org/event/hillel-fuld-live-and-unfiltered-2/
LOCATION:Hilton Garden Inn\, 1001 W. Pres. George Bush Turnpike\, Richardson\, TX\, 75080
ATTACH;FMTTYPE=image/jpeg:https://dallasgop.org/wp-content/uploads/2026/04/Hillel-Fuld-Rescheduled.jpg
END:VEVENT
END:VCALENDAR