BEGIN:VCALENDAR
VERSION:2.0
PRODID:-//Dallas County Republican Party - ECPv6.10.1//NONSGML v1.0//EN
CALSCALE:GREGORIAN
METHOD:PUBLISH
X-WR-CALNAME:Dallas County Republican Party
X-ORIGINAL-URL:https://dallasgop.org
X-WR-CALDESC:Events for Dallas County Republican Party
REFRESH-INTERVAL;VALUE=DURATION:PT1H
X-Robots-Tag:noindex
X-PUBLISHED-TTL:PT1H
BEGIN:VTIMEZONE
TZID:America/Chicago
BEGIN:DAYLIGHT
TZOFFSETFROM:-0600
TZOFFSETTO:-0500
TZNAME:CDT
DTSTART:20260308T080000
END:DAYLIGHT
BEGIN:STANDARD
TZOFFSETFROM:-0500
TZOFFSETTO:-0600
TZNAME:CST
DTSTART:20261101T070000
END:STANDARD
TZID:UTC
BEGIN:STANDARD
TZOFFSETFROM:+0000
TZOFFSETTO:+0000
TZNAME:UTC
DTSTART:20260101T000000
END:STANDARD
END:VTIMEZONE
BEGIN:VEVENT
DTSTART;TZID=America/Chicago:20260502T070000
DTEND;TZID=America/Chicago:20260502T190000
DTSTAMP:20260420T183152
CREATED:20260403T182917Z
LAST-MODIFIED:20260403T182917Z
UID:10004566-1777705200-1777748400@dallasgop.org
SUMMARY:May 2nd Municipal Elections
DESCRIPTION:“In Texas\, the May Joint & Special Election is a key opportunity for voters to participate in local governance by selecting officials such as city council members\, school board trustees\, and other municipal representatives. These elected officials play a crucial role in addressing local needs\, from education to public safety and community development.” -DALLAS County Elections Department \nElection details here: \nhttps://www.dallascountyvotes.org/election-results/historical/may-2-2026-joint-and-special-election/#EarlyVoting \n 
URL:https://dallasgop.org/event/may-2nd-municipal-elections/
LOCATION:TX
END:VEVENT
BEGIN:VEVENT
DTSTART;TZID=America/Chicago:20260502T070000
DTEND;TZID=America/Chicago:20260502T190000
DTSTAMP:20260420T183152
CREATED:20260417T175847Z
LAST-MODIFIED:20260417T175847Z
UID:10004637-1777705200-1777748400@dallasgop.org
SUMMARY:May 2nd Joint and Special Elections
DESCRIPTION:Please visit the Dallas County Elections Department for more details on the May 2nd Joint and Special Elections: \nhttps://www.dallascountyvotes.org/voters/election/may-2-2026-joint-special-election/
URL:https://dallasgop.org/event/may-2nd-joint-and-special-elections/
LOCATION:TX
END:VEVENT
BEGIN:VEVENT
DTSTART;TZID=America/Chicago:20260507T183000
DTEND;TZID=America/Chicago:20260507T200000
DTSTAMP:20260420T183152
CREATED:20260202T194229Z
LAST-MODIFIED:20260202T194229Z
UID:10004111-1778178600-1778184000@dallasgop.org
SUMMARY:Rowlett Area Republican Women's Club
DESCRIPTION:Come join us for our monthly meeting!
URL:https://dallasgop.org/event/rowlett-area-republican-womens-club-4/2026-05-07/
LOCATION:Freedom Place Church\, 4111 Main Street\, Rowlett\, TX\, 75088
ATTACH;FMTTYPE=image/jpeg:https://dallasgop.org/wp-content/uploads/2024/07/RRWC-LOGO.jpeg
END:VEVENT
BEGIN:VEVENT
DTSTART;TZID=America/Chicago:20260508T080000
DTEND;TZID=America/Chicago:20260508T100000
DTSTAMP:20260420T183152
CREATED:20260325T170043Z
LAST-MODIFIED:20260325T170043Z
UID:10004237-1778227200-1778234400@dallasgop.org
SUMMARY:North Dallas Republicans Friday Breakfast
DESCRIPTION:Please take the trouble to email me back so that I can have a better head count.\nNorthDallasRepublicans@proton.me\nOriginal Pancake House\n5220 Belt Line Rd (Near Addison)\nDallas TX\nFriday Mar 20th at 8:00 am \nJoin us for breakfast… \nMake sure you note the time… 8:00 am\nCome early to order your breakfast before the meeting. \nWe will not have a special speaker\, but instead I will host our meeting. \nI hope to see you there….
URL:https://dallasgop.org/event/north-dallas-republicans-friday-breakfast-3/2026-05-08/
LOCATION:Original Pancake House\, 5220 Belt Line Rd\, Dallas\, TX\, 75254
ATTACH;FMTTYPE=image/jpeg:https://dallasgop.org/wp-content/uploads/2026/01/Original-Pancake-House-for-DCRP3.jpg
ORGANIZER;CN="North Dallas Republicans":MAILTO:NorthDallasRepublicans@proton.me
END:VEVENT
BEGIN:VEVENT
DTSTART;TZID=UTC:20260512T183000
DTEND;TZID=UTC:20260512T203000
DTSTAMP:20260420T183152
CREATED:20240606T131955Z
LAST-MODIFIED:20240709T182632Z
UID:10000336-1778610600-1778617800@dallasgop.org
SUMMARY:Greater Irving Republican Club
DESCRIPTION:Come and meet with like-minded Republicans for information\, speakers and fellowship.  Arrive at 6:15 – 6:30 pm for some tasty BBQ at Spring Creek BBQ Hwy 183 in Irving.  Meeting begins promptly at 7pm.
URL:https://dallasgop.org/event/greater-irving-republican-club-2/2026-05-12/
LOCATION:Spring Creek BBQ – Irving\, 3514 W Airport Fwy\,\, Irving\, TX\, 75062
END:VEVENT
BEGIN:VEVENT
DTSTART;TZID=America/Chicago:20260512T190000
DTEND;TZID=America/Chicago:20260512T210000
DTSTAMP:20260420T183152
CREATED:20240808T145911Z
LAST-MODIFIED:20241002T210426Z
UID:10000662-1778612400-1778619600@dallasgop.org
SUMMARY:Southwest Dallas County Republicans Monthly Meeting
DESCRIPTION:Southwest Dallas County Republicans meets monthly with informative\, inspiring speakers and great opportunities for interaction with other like-minded people\, and learning more about Republican principles\, platforms and processes. People new to the concepts as well as long-time participants as Republicans are welcome. 6:30 pm: Social and snacks or meal ordering. Business matters are conducted briefly.
URL:https://dallasgop.org/event/southwest-dallas-county-republicans-monthly-meeting/2026-05-12/
LOCATION:Ojeda’s Restaurant – Hampton Rd\, 2109 N Hampton Rd\,\, DeSoto\, TX\, TX 75115\, United States
ATTACH;FMTTYPE=image/png:https://dallasgop.org/wp-content/uploads/2024/08/Screenshot-2024-08-08-095810.png
END:VEVENT
BEGIN:VEVENT
DTSTART;TZID=America/Chicago:20260515T080000
DTEND;TZID=America/Chicago:20260515T100000
DTSTAMP:20260420T183152
CREATED:20260325T170043Z
LAST-MODIFIED:20260325T170043Z
UID:10004238-1778832000-1778839200@dallasgop.org
SUMMARY:North Dallas Republicans Friday Breakfast
DESCRIPTION:Please take the trouble to email me back so that I can have a better head count.\nNorthDallasRepublicans@proton.me\nOriginal Pancake House\n5220 Belt Line Rd (Near Addison)\nDallas TX\nFriday Mar 20th at 8:00 am \nJoin us for breakfast… \nMake sure you note the time… 8:00 am\nCome early to order your breakfast before the meeting. \nWe will not have a special speaker\, but instead I will host our meeting. \nI hope to see you there….
URL:https://dallasgop.org/event/north-dallas-republicans-friday-breakfast-3/2026-05-15/
LOCATION:Original Pancake House\, 5220 Belt Line Rd\, Dallas\, TX\, 75254
ATTACH;FMTTYPE=image/jpeg:https://dallasgop.org/wp-content/uploads/2026/01/Original-Pancake-House-for-DCRP3.jpg
ORGANIZER;CN="North Dallas Republicans":MAILTO:NorthDallasRepublicans@proton.me
END:VEVENT
BEGIN:VEVENT
DTSTART;TZID=America/Chicago:20260516T100000
DTEND;TZID=America/Chicago:20260516T120000
DTSTAMP:20260420T183152
CREATED:20260402T204220Z
LAST-MODIFIED:20260402T204220Z
UID:10004507-1778925600-1778932800@dallasgop.org
SUMMARY:Power Up Training
DESCRIPTION:RSVP here
URL:https://dallasgop.org/event/power-up-training-3/2026-05-16/
LOCATION:DCRP Headquarters\, 11617 N. Central Expy Suite 240\, Dallas\, Texas
ATTACH;FMTTYPE=image/png:https://dallasgop.org/wp-content/uploads/2026/04/April-18-training.png
END:VEVENT
BEGIN:VEVENT
DTSTART;TZID=America/Chicago:20260518T180000
DTEND;TZID=America/Chicago:20260518T203000
DTSTAMP:20260420T183152
CREATED:20260404T135859Z
LAST-MODIFIED:20260404T135937Z
UID:10004568-1779127200-1779136200@dallasgop.org
SUMMARY:Dallas County Republican Party Monthly CEC Meeting
DESCRIPTION:
URL:https://dallasgop.org/event/april-cec-meeting/2026-05-18/
LOCATION:Sheraton Galleria\, 4801 Lyndon B Johnson Fwy\, Dallas\, TX\, 75244
END:VEVENT
BEGIN:VEVENT
DTSTART;TZID=America/Chicago:20260519T173000
DTEND;TZID=America/Chicago:20260519T193000
DTSTAMP:20260420T183152
CREATED:20250117T171815Z
LAST-MODIFIED:20251026T162157Z
UID:10002171-1779211800-1779219000@dallasgop.org
SUMMARY:Park Cities Republican Women
DESCRIPTION:Park Cities Republican Women monthly general meeting – join us and hear from significant speakers on important relevant issues.\nCheck back for meeting specifics and speakers – to be posted.
URL:https://dallasgop.org/event/park-cities-republican-women-3/2026-05-19/
LOCATION:Museum of Biblical Art\, 7500 Park Lane\, Dallas\, TX\, TX 75225\, United States
ATTACH;FMTTYPE=image/png:https://dallasgop.org/wp-content/uploads/2025/02/PCRW-logo_circle.png
END:VEVENT
BEGIN:VEVENT
DTSTART;TZID=America/Chicago:20260519T180000
DTEND;TZID=America/Chicago:20260519T203000
DTSTAMP:20260420T183152
CREATED:20260404T135859Z
LAST-MODIFIED:20260404T135937Z
UID:10004569-1779213600-1779222600@dallasgop.org
SUMMARY:Dallas County Republican Party Monthly CEC Meeting
DESCRIPTION:
URL:https://dallasgop.org/event/april-cec-meeting/2026-05-19/
LOCATION:Sheraton Galleria\, 4801 Lyndon B Johnson Fwy\, Dallas\, TX\, 75244
END:VEVENT
BEGIN:VEVENT
DTSTART;TZID=America/Chicago:20260522T080000
DTEND;TZID=America/Chicago:20260522T100000
DTSTAMP:20260420T183152
CREATED:20260325T170043Z
LAST-MODIFIED:20260325T170043Z
UID:10004239-1779436800-1779444000@dallasgop.org
SUMMARY:North Dallas Republicans Friday Breakfast
DESCRIPTION:Please take the trouble to email me back so that I can have a better head count.\nNorthDallasRepublicans@proton.me\nOriginal Pancake House\n5220 Belt Line Rd (Near Addison)\nDallas TX\nFriday Mar 20th at 8:00 am \nJoin us for breakfast… \nMake sure you note the time… 8:00 am\nCome early to order your breakfast before the meeting. \nWe will not have a special speaker\, but instead I will host our meeting. \nI hope to see you there….
URL:https://dallasgop.org/event/north-dallas-republicans-friday-breakfast-3/2026-05-22/
LOCATION:Original Pancake House\, 5220 Belt Line Rd\, Dallas\, TX\, 75254
ATTACH;FMTTYPE=image/jpeg:https://dallasgop.org/wp-content/uploads/2026/01/Original-Pancake-House-for-DCRP3.jpg
ORGANIZER;CN="North Dallas Republicans":MAILTO:NorthDallasRepublicans@proton.me
END:VEVENT
BEGIN:VEVENT
DTSTART;TZID=UTC:20260525T180000
DTEND;TZID=UTC:20260525T200000
DTSTAMP:20260420T183152
CREATED:20240917T220055Z
LAST-MODIFIED:20240917T220056Z
UID:10000399-1779732000-1779739200@dallasgop.org
SUMMARY:Rowlett Republican Men
DESCRIPTION:Monthly Meeting. \n 
URL:https://dallasgop.org/event/rowlett-republican-men-2-2-2/2026-05-25/
LOCATION:Freedom Place Church\, 4111 Main Street\, Rowlett\, TX\, 75088
END:VEVENT
BEGIN:VEVENT
DTSTART;TZID=America/Chicago:20260529T080000
DTEND;TZID=America/Chicago:20260529T100000
DTSTAMP:20260420T183152
CREATED:20260325T170043Z
LAST-MODIFIED:20260325T170043Z
UID:10004240-1780041600-1780048800@dallasgop.org
SUMMARY:North Dallas Republicans Friday Breakfast
DESCRIPTION:Please take the trouble to email me back so that I can have a better head count.\nNorthDallasRepublicans@proton.me\nOriginal Pancake House\n5220 Belt Line Rd (Near Addison)\nDallas TX\nFriday Mar 20th at 8:00 am \nJoin us for breakfast… \nMake sure you note the time… 8:00 am\nCome early to order your breakfast before the meeting. \nWe will not have a special speaker\, but instead I will host our meeting. \nI hope to see you there….
URL:https://dallasgop.org/event/north-dallas-republicans-friday-breakfast-3/2026-05-29/
LOCATION:Original Pancake House\, 5220 Belt Line Rd\, Dallas\, TX\, 75254
ATTACH;FMTTYPE=image/jpeg:https://dallasgop.org/wp-content/uploads/2026/01/Original-Pancake-House-for-DCRP3.jpg
ORGANIZER;CN="North Dallas Republicans":MAILTO:NorthDallasRepublicans@proton.me
END:VEVENT
BEGIN:VEVENT
DTSTART;TZID=America/Chicago:20260604T183000
DTEND;TZID=America/Chicago:20260604T200000
DTSTAMP:20260420T183152
CREATED:20260202T194229Z
LAST-MODIFIED:20260202T194229Z
UID:10004112-1780597800-1780603200@dallasgop.org
SUMMARY:Rowlett Area Republican Women's Club
DESCRIPTION:Come join us for our monthly meeting!
URL:https://dallasgop.org/event/rowlett-area-republican-womens-club-4/2026-06-04/
LOCATION:Freedom Place Church\, 4111 Main Street\, Rowlett\, TX\, 75088
ATTACH;FMTTYPE=image/jpeg:https://dallasgop.org/wp-content/uploads/2024/07/RRWC-LOGO.jpeg
END:VEVENT
BEGIN:VEVENT
DTSTART;TZID=America/Chicago:20260604T183000
DTEND;TZID=America/Chicago:20260604T203000
DTSTAMP:20260420T183152
CREATED:20260202T184529Z
LAST-MODIFIED:20260414T151651Z
UID:10004108-1780597800-1780605000@dallasgop.org
SUMMARY:Islamification in Texas with Lt. Gen. Mike Flynn
DESCRIPTION:REGISTER HERE \nTexas is at a breaking point. We are confronted with a rapidly dangerous invasion that is taking root within our own communities we cannot ignore. \nAs a premier military mind and former National Security Advisor under the Trump administration\, our keynote speaker Ret. U.S. Army Lt. Gen. Mike Flynn offers an exclusive look into Islamification of Texas. \nWith the recent passing of Proposition 10\, where an overwhelming 95% of Republican primary voters demanded a ban on Sharia Law. The message is clear: Texans will not see their Constitutional rights replaced by a foreign legal code that poses a direct threat to non-Muslims and fuels the fires of antisemitism. \nFrom the rapid\, unchecked growth of mosques across the Lone Star State to the unsettling expansion of “enclave” EPIC communities\, the landscape of Texas is changing before our eyes. \nAbout Lt. Gen. Mike Flynn \nLt. Gen. Michael T. Flynn is a retired U.S. Army lieutenant general who served as the 24th U.S. National Security Advisor under the first Trump administration.  Lt. Gen. Michael Flynn graduated from the University of Rhode Island in 1981\, and was commissioned a second lieutenant in Military Intelligence. His first assignment was as a paratrooper of the 82nd Airborne Division at Fort Bragg\, North Carolina. Since then\, he has served in a variety of command and staff positions. \nHe has maintained contact with the cadets and the Army ROTC program through his generous support of ROTC functions. He has spent his entire life serving his community and nation during peace and war. His exemplary devotion to duty\, personal bravery and outstanding leadership is in the highest traditions of the military service and reflect great credit upon himself\, his family and the University of Rhode Island. \nWhy You Must Attend: \n\nMilitary Intelligence: Get the “ground truth” on Operation Epic Fury and why the fight against Tehran is a fight for our own streets.\nLegislative Action: Understand why Prop 10 is only the first step in protecting the Texas Constitution.\nStrategic Defense: Learn how to identify and counter the rapid “Islamization” of our local institutions before it’s too late.\n\nThe storm is here. Are you ready to hear the truth from the man the establishment tried to silence? \nDrinks and heavy hors d’oeuvres will be served. \nModerated by Grant Stinchfield\, Host of Real America’s Voice. \nEvent partners: American Jewish Conservatives\, The Dallas Express \nEntertainment: \nWe will have live music performed by singer\, songwriter\, public speaker\, artist\, and author  Lisa Daggs known for her hit “Lady Liberty.”
URL:https://dallasgop.org/event/save-the-date-islamization-in-texas-with-lt-gen-mike-flynn/
LOCATION:Mercury Studios\, 400 E. Royal Lane\, Irving\, TX\, 75039\, United States
ATTACH;FMTTYPE=image/png:https://dallasgop.org/wp-content/uploads/2026/02/Rescheduled-banner.png
END:VEVENT
BEGIN:VEVENT
DTSTART;TZID=America/Chicago:20260605T080000
DTEND;TZID=America/Chicago:20260605T100000
DTSTAMP:20260420T183152
CREATED:20260325T170043Z
LAST-MODIFIED:20260325T170043Z
UID:10004241-1780646400-1780653600@dallasgop.org
SUMMARY:North Dallas Republicans Friday Breakfast
DESCRIPTION:Please take the trouble to email me back so that I can have a better head count.\nNorthDallasRepublicans@proton.me\nOriginal Pancake House\n5220 Belt Line Rd (Near Addison)\nDallas TX\nFriday Mar 20th at 8:00 am \nJoin us for breakfast… \nMake sure you note the time… 8:00 am\nCome early to order your breakfast before the meeting. \nWe will not have a special speaker\, but instead I will host our meeting. \nI hope to see you there….
URL:https://dallasgop.org/event/north-dallas-republicans-friday-breakfast-3/2026-06-05/
LOCATION:Original Pancake House\, 5220 Belt Line Rd\, Dallas\, TX\, 75254
ATTACH;FMTTYPE=image/jpeg:https://dallasgop.org/wp-content/uploads/2026/01/Original-Pancake-House-for-DCRP3.jpg
ORGANIZER;CN="North Dallas Republicans":MAILTO:NorthDallasRepublicans@proton.me
END:VEVENT
BEGIN:VEVENT
DTSTART;TZID=America/Chicago:20260607T180000
DTEND;TZID=America/Chicago:20260607T210000
DTSTAMP:20260420T183152
CREATED:20260406T171450Z
LAST-MODIFIED:20260406T171450Z
UID:10004629-1780855200-1780866000@dallasgop.org
SUMMARY:Hillel Fuld Live and Unfiltered
DESCRIPTION:A note from Benji Gershon\, President of American Jewish Conservatives: \n“GREAT NEWS! Our event with Hillel Fuld has been rescheduled for Sunday\, June 7th at the same location! Tickets are officially back on sale! *If you already registered\, your tickets have been automatically transffered to the new date! https://ajc.ticketspice.com/fuld“ \nHillel Fuld is Coming to Texas for the First Time Ever! Get ready for a powerful\, high-energy evening with one of the most fearless voices for truth and arguably the #1 top pro-Israel advocate and geopolitical influencer in the World today! \nJoin us on Sunday\, June 7th\, at the Hilton Garden Inn in Richardson for Hillel Fuld LIVE and Unfiltered — an exclusive\, no-holds-barred conversation and Q&A with globally recognized speaker\, influencer\, columnist\, tech insider\, and unapologetic Pro-Israel advocate Hillel Fuld! \nIn a world flooded with noise\, spin\, and media narratives\, Hillel cuts straight through it. \nKnown for his bold commentary\, deep connections in the startup and innovation world\, and unwavering defense of Israel on the global stage\, Hillel brings clarity\, facts\, and fire. From the front lines of Israel’s tech ecosystem to the battle for truth in international media\, he will tackle the issues others won’t — geopolitics\, media bias\, antisemitism\, and the future of the U.S.–Israel alliance. \nThis is not a lecture. \nThis is not scripted. \nThis is LIVE and UNFILTERED. \nVIP Meet & Greet + Gourmet Reception – 6:00PM \nMeet Hillel personally\, connect with leaders\, special guests and supporters\, and enjoy an elevated reception experience featuring an open bar and gourmet hors d’oeuvres including: Brisket Sliders with pickled onion and sriracha\, Chicken Empanadas with Chimichurri\, Artichoke Stuffed Mushrooms\, Chicken Pargiot skewers with Pineapple Salsa. \nMain Program & Audience Q&A – 7:00PM \nHear Hillel’s insights and expert perspective on a several important topics including: A Realtime briefing on Israel’s current geopolitical situation\, The Iranian Regime: What Happens Next\, The coordinated attack on the US-Israel relationship\, the radical Islamist takeover of America and the West and more! \nHillel’s remarks will be followed by an interactive audience Q&A where you can ask your toughest questions! \nDessert Reception – 8:30PM \nAll guests are invited to a delicious dessert reception immediately following the program. Continue the conversation and network and schmooze with engaged\, like-minded guests and friends. \nSeats are limited. The conversation will be bold. \nJoin us for an exciting and informative evening of insight\, conviction\, clarity and truth!
URL:https://dallasgop.org/event/hillel-fuld-live-and-unfiltered-2/
LOCATION:Hilton Garden Inn\, 1001 W. Pres. George Bush Turnpike\, Richardson\, TX\, 75080
ATTACH;FMTTYPE=image/jpeg:https://dallasgop.org/wp-content/uploads/2026/04/Hillel-Fuld-Rescheduled.jpg
END:VEVENT
BEGIN:VEVENT
DTSTART;TZID=America/Chicago:20260608T183000
DTEND;TZID=America/Chicago:20260608T200000
DTSTAMP:20260420T183152
CREATED:20251202T202001Z
LAST-MODIFIED:20251202T202104Z
UID:10000519-1780943400-1780948800@dallasgop.org
SUMMARY:Rowlett Area Republican Women's Club
DESCRIPTION:Come join us for our monthly meeting! \n*Note – there is no July meeting\, but we will resume in August.
URL:https://dallasgop.org/event/rowlett-area-republican-womens-club-3/
LOCATION:Freedom Place Church\, 4111 Main Street\, Rowlett\, TX\, 75088
ATTACH;FMTTYPE=image/jpeg:https://dallasgop.org/wp-content/uploads/2024/07/RRWC-LOGO.jpeg
END:VEVENT
BEGIN:VEVENT
DTSTART;TZID=UTC:20260609T183000
DTEND;TZID=UTC:20260609T203000
DTSTAMP:20260420T183152
CREATED:20240606T131955Z
LAST-MODIFIED:20240709T182632Z
UID:10000337-1781029800-1781037000@dallasgop.org
SUMMARY:Greater Irving Republican Club
DESCRIPTION:Come and meet with like-minded Republicans for information\, speakers and fellowship.  Arrive at 6:15 – 6:30 pm for some tasty BBQ at Spring Creek BBQ Hwy 183 in Irving.  Meeting begins promptly at 7pm.
URL:https://dallasgop.org/event/greater-irving-republican-club-2/2026-06-09/
LOCATION:Spring Creek BBQ – Irving\, 3514 W Airport Fwy\,\, Irving\, TX\, 75062
END:VEVENT
BEGIN:VEVENT
DTSTART;TZID=America/Chicago:20260609T190000
DTEND;TZID=America/Chicago:20260609T210000
DTSTAMP:20260420T183152
CREATED:20240808T145911Z
LAST-MODIFIED:20241002T210426Z
UID:10000663-1781031600-1781038800@dallasgop.org
SUMMARY:Southwest Dallas County Republicans Monthly Meeting
DESCRIPTION:Southwest Dallas County Republicans meets monthly with informative\, inspiring speakers and great opportunities for interaction with other like-minded people\, and learning more about Republican principles\, platforms and processes. People new to the concepts as well as long-time participants as Republicans are welcome. 6:30 pm: Social and snacks or meal ordering. Business matters are conducted briefly.
URL:https://dallasgop.org/event/southwest-dallas-county-republicans-monthly-meeting/2026-06-09/
LOCATION:Ojeda’s Restaurant – Hampton Rd\, 2109 N Hampton Rd\,\, DeSoto\, TX\, TX 75115\, United States
ATTACH;FMTTYPE=image/png:https://dallasgop.org/wp-content/uploads/2024/08/Screenshot-2024-08-08-095810.png
END:VEVENT
BEGIN:VEVENT
DTSTART;VALUE=DATE:20260611
DTEND;VALUE=DATE:20260614
DTSTAMP:20260420T183152
CREATED:20260309T180156Z
LAST-MODIFIED:20260309T180156Z
UID:10004206-1781136000-1781395199@dallasgop.org
SUMMARY:Texas GOP State Convention
DESCRIPTION:
URL:https://dallasgop.org/event/texas-gop-state-convention/
LOCATION:George R. Brown Convention Center\, 1001 Avenida de las Americas\, Houston\, TX\, 77010
ATTACH;FMTTYPE=image/jpeg:https://dallasgop.org/wp-content/uploads/2026/03/TX-GOP-Convention.jpg
END:VEVENT
BEGIN:VEVENT
DTSTART;TZID=America/Chicago:20260612T080000
DTEND;TZID=America/Chicago:20260612T100000
DTSTAMP:20260420T183152
CREATED:20260325T170043Z
LAST-MODIFIED:20260325T170043Z
UID:10004242-1781251200-1781258400@dallasgop.org
SUMMARY:North Dallas Republicans Friday Breakfast
DESCRIPTION:Please take the trouble to email me back so that I can have a better head count.\nNorthDallasRepublicans@proton.me\nOriginal Pancake House\n5220 Belt Line Rd (Near Addison)\nDallas TX\nFriday Mar 20th at 8:00 am \nJoin us for breakfast… \nMake sure you note the time… 8:00 am\nCome early to order your breakfast before the meeting. \nWe will not have a special speaker\, but instead I will host our meeting. \nI hope to see you there….
URL:https://dallasgop.org/event/north-dallas-republicans-friday-breakfast-3/2026-06-12/
LOCATION:Original Pancake House\, 5220 Belt Line Rd\, Dallas\, TX\, 75254
ATTACH;FMTTYPE=image/jpeg:https://dallasgop.org/wp-content/uploads/2026/01/Original-Pancake-House-for-DCRP3.jpg
ORGANIZER;CN="North Dallas Republicans":MAILTO:NorthDallasRepublicans@proton.me
END:VEVENT
BEGIN:VEVENT
DTSTART;TZID=America/Chicago:20260615T180000
DTEND;TZID=America/Chicago:20260615T203000
DTSTAMP:20260420T183152
CREATED:20260404T135859Z
LAST-MODIFIED:20260404T135937Z
UID:10004570-1781546400-1781555400@dallasgop.org
SUMMARY:Dallas County Republican Party Monthly CEC Meeting
DESCRIPTION:
URL:https://dallasgop.org/event/april-cec-meeting/2026-06-15/
LOCATION:Sheraton Galleria\, 4801 Lyndon B Johnson Fwy\, Dallas\, TX\, 75244
END:VEVENT
BEGIN:VEVENT
DTSTART;TZID=America/Chicago:20260616T173000
DTEND;TZID=America/Chicago:20260616T193000
DTSTAMP:20260420T183152
CREATED:20250117T171815Z
LAST-MODIFIED:20251026T162157Z
UID:10002172-1781631000-1781638200@dallasgop.org
SUMMARY:Park Cities Republican Women
DESCRIPTION:Park Cities Republican Women monthly general meeting – join us and hear from significant speakers on important relevant issues.\nCheck back for meeting specifics and speakers – to be posted.
URL:https://dallasgop.org/event/park-cities-republican-women-3/2026-06-16/
LOCATION:Museum of Biblical Art\, 7500 Park Lane\, Dallas\, TX\, TX 75225\, United States
ATTACH;FMTTYPE=image/png:https://dallasgop.org/wp-content/uploads/2025/02/PCRW-logo_circle.png
END:VEVENT
BEGIN:VEVENT
DTSTART;TZID=America/Chicago:20260616T180000
DTEND;TZID=America/Chicago:20260616T203000
DTSTAMP:20260420T183152
CREATED:20260404T135859Z
LAST-MODIFIED:20260404T135937Z
UID:10004571-1781632800-1781641800@dallasgop.org
SUMMARY:Dallas County Republican Party Monthly CEC Meeting
DESCRIPTION:
URL:https://dallasgop.org/event/april-cec-meeting/2026-06-16/
LOCATION:Sheraton Galleria\, 4801 Lyndon B Johnson Fwy\, Dallas\, TX\, 75244
END:VEVENT
BEGIN:VEVENT
DTSTART;TZID=America/Chicago:20260619T080000
DTEND;TZID=America/Chicago:20260619T100000
DTSTAMP:20260420T183152
CREATED:20260325T170043Z
LAST-MODIFIED:20260325T170043Z
UID:10004243-1781856000-1781863200@dallasgop.org
SUMMARY:North Dallas Republicans Friday Breakfast
DESCRIPTION:Please take the trouble to email me back so that I can have a better head count.\nNorthDallasRepublicans@proton.me\nOriginal Pancake House\n5220 Belt Line Rd (Near Addison)\nDallas TX\nFriday Mar 20th at 8:00 am \nJoin us for breakfast… \nMake sure you note the time… 8:00 am\nCome early to order your breakfast before the meeting. \nWe will not have a special speaker\, but instead I will host our meeting. \nI hope to see you there….
URL:https://dallasgop.org/event/north-dallas-republicans-friday-breakfast-3/2026-06-19/
LOCATION:Original Pancake House\, 5220 Belt Line Rd\, Dallas\, TX\, 75254
ATTACH;FMTTYPE=image/jpeg:https://dallasgop.org/wp-content/uploads/2026/01/Original-Pancake-House-for-DCRP3.jpg
ORGANIZER;CN="North Dallas Republicans":MAILTO:NorthDallasRepublicans@proton.me
END:VEVENT
BEGIN:VEVENT
DTSTART;TZID=America/Chicago:20260620T100000
DTEND;TZID=America/Chicago:20260620T120000
DTSTAMP:20260420T183152
CREATED:20260402T204220Z
LAST-MODIFIED:20260402T204220Z
UID:10004508-1781949600-1781956800@dallasgop.org
SUMMARY:Power Up Training
DESCRIPTION:RSVP here
URL:https://dallasgop.org/event/power-up-training-3/2026-06-20/
LOCATION:DCRP Headquarters\, 11617 N. Central Expy Suite 240\, Dallas\, Texas
ATTACH;FMTTYPE=image/png:https://dallasgop.org/wp-content/uploads/2026/04/April-18-training.png
END:VEVENT
BEGIN:VEVENT
DTSTART;TZID=UTC:20260622T180000
DTEND;TZID=UTC:20260622T200000
DTSTAMP:20260420T183152
CREATED:20240917T220055Z
LAST-MODIFIED:20240917T220056Z
UID:10000400-1782151200-1782158400@dallasgop.org
SUMMARY:Rowlett Republican Men
DESCRIPTION:Monthly Meeting. \n 
URL:https://dallasgop.org/event/rowlett-republican-men-2-2-2/2026-06-22/
LOCATION:Freedom Place Church\, 4111 Main Street\, Rowlett\, TX\, 75088
END:VEVENT
BEGIN:VEVENT
DTSTART;TZID=America/Chicago:20260626T080000
DTEND;TZID=America/Chicago:20260626T100000
DTSTAMP:20260420T183152
CREATED:20260325T170043Z
LAST-MODIFIED:20260325T170043Z
UID:10004244-1782460800-1782468000@dallasgop.org
SUMMARY:North Dallas Republicans Friday Breakfast
DESCRIPTION:Please take the trouble to email me back so that I can have a better head count.\nNorthDallasRepublicans@proton.me\nOriginal Pancake House\n5220 Belt Line Rd (Near Addison)\nDallas TX\nFriday Mar 20th at 8:00 am \nJoin us for breakfast… \nMake sure you note the time… 8:00 am\nCome early to order your breakfast before the meeting. \nWe will not have a special speaker\, but instead I will host our meeting. \nI hope to see you there….
URL:https://dallasgop.org/event/north-dallas-republicans-friday-breakfast-3/2026-06-26/
LOCATION:Original Pancake House\, 5220 Belt Line Rd\, Dallas\, TX\, 75254
ATTACH;FMTTYPE=image/jpeg:https://dallasgop.org/wp-content/uploads/2026/01/Original-Pancake-House-for-DCRP3.jpg
ORGANIZER;CN="North Dallas Republicans":MAILTO:NorthDallasRepublicans@proton.me
END:VEVENT
END:VCALENDAR