BEGIN:VCALENDAR
VERSION:2.0
PRODID:-//Dallas County Republican Party - ECPv6.10.1//NONSGML v1.0//EN
CALSCALE:GREGORIAN
METHOD:PUBLISH
X-WR-CALNAME:Dallas County Republican Party
X-ORIGINAL-URL:https://dallasgop.org
X-WR-CALDESC:Events for Dallas County Republican Party
REFRESH-INTERVAL;VALUE=DURATION:PT1H
X-Robots-Tag:noindex
X-PUBLISHED-TTL:PT1H
BEGIN:VTIMEZONE
TZID:America/Chicago
BEGIN:DAYLIGHT
TZOFFSETFROM:-0600
TZOFFSETTO:-0500
TZNAME:CDT
DTSTART:20260308T080000
END:DAYLIGHT
BEGIN:STANDARD
TZOFFSETFROM:-0500
TZOFFSETTO:-0600
TZNAME:CST
DTSTART:20261101T070000
END:STANDARD
TZID:UTC
BEGIN:STANDARD
TZOFFSETFROM:+0000
TZOFFSETTO:+0000
TZNAME:UTC
DTSTART:20260101T000000
END:STANDARD
END:VTIMEZONE
BEGIN:VEVENT
DTSTART;TZID=America/Chicago:20260222T180000
DTEND;TZID=America/Chicago:20260222T200000
DTSTAMP:20260421T015747
CREATED:20260211T210301Z
LAST-MODIFIED:20260211T210301Z
UID:10004176-1771783200-1771790400@dallasgop.org
SUMMARY:Training for Primary Election Judges
DESCRIPTION:Session will provide first time and experienced judges tips & suggestions as well as time for questions & answers
URL:https://dallasgop.org/event/training-for-primary-election-judges/
LOCATION:DCRP Headquarters\, 11617 N. Central Expy Suite 240\, Dallas\, Texas
END:VEVENT
BEGIN:VEVENT
DTSTART;TZID=America/Chicago:20260223T170000
DTEND;TZID=America/Chicago:20260223T200000
DTSTAMP:20260421T015747
CREATED:20260223T203739Z
LAST-MODIFIED:20260223T203739Z
UID:10004183-1771866000-1771876800@dallasgop.org
SUMMARY:LIVE Q&A and Townhalls with Abteen Vaziri
DESCRIPTION:LIVE Q&A and Townhalls\n\nMonday Feb. 23rd – Friday Feb. 27th:\n5pm\, 6pm\, 7pm\, 8pm\n(On each hour for 15-20 minutes)\n\nSaturday Feb. 28th – Sunday March. 1st:\n10am\, 12pm\, 2pm\, 4pm\, 6pm\n(On each hour for 1.5 hours)\n\n​Monday March 2nd\n9:00am -9:00pm\n(Every hour on the hour for 15-20minutes)\n\n​**Tuesday March 3rd Election Day**\nTBD\n\nZoom Webinar LIVE\nWebinar ID: 899 6084 1830\n(Live Q&A submission and stream)\n\nYouTube LIVE\nhttps://www.youtube.com/channel/UC4PQhxxQcHCfqW1LFCKP_WA\n(Live stream only)\n\n*The same links will be used for all live streaming sessions. Join the Zoom link to ask questions directly.  To view the live-cast only (chat cannot be guaranteed)\, use the  links. Share links with voters in TXCD-32.\n\n***Times and durations of Abteen live streaming may be adjusted in real-time\, the link will still be live to join.
URL:https://dallasgop.org/event/live-qa-and-townhalls-with-abteen-vaziri/
LOCATION:Texas
ATTACH;FMTTYPE=image/jpeg:https://dallasgop.org/wp-content/uploads/2026/02/Abteen-Zoom-Waiting-Room-1.pdf_page-0001.jpg
END:VEVENT
BEGIN:VEVENT
DTSTART;TZID=America/Chicago:20260223T180000
DTEND;TZID=America/Chicago:20260223T193000
DTSTAMP:20260421T015747
CREATED:20260213T225654Z
LAST-MODIFIED:20260214T000109Z
UID:10004178-1771869600-1771875000@dallasgop.org
SUMMARY:Meet & Greet
DESCRIPTION:We are very fortunate to have someone with “Doc” Chambers experience and character running for the Gov. of Texas. You will be very impressed.  \nThe Texas Court of Criminal Appeals is the highest authority in Texas for criminal law. There is no appeal above it within the state. \nThe Texas Court of Criminal Appeals decides who stays in prison\, who gets a new trial\, and who lives or dies under Texas law. \nLower courts must follow what the CCA says. \nThat’s more direct power over people’s lives than almost any other elected office. FYI\, keep in mind that THIS court is the court that decided that the Texas Attorney General does not have the unilateral authority to prosecute election law violations.  \n**ONE ELECTION CAN CHANGE HOW THE LAW IS INTERPRETED FOR DECADES.  \nTom Smith is running for Place 3 in the TCCA’s\, and the Honorable Judge Jennifer Balido is running for Place 9. This is your opportunity to hear where both these candidates stand in this extremely important court.  \nThis event is being hosted in a private home. For security reasons\, all RSVP’s will be reviewed and confirmed prior to attendance. Space is extremely limited\, and not all requests may be accommodated. Thank you in advance for your understanding. 
URL:https://dallasgop.org/event/meet-greet/
LOCATION:Address Provided Upon RSVP
ATTACH;FMTTYPE=image/jpeg:https://dallasgop.org/wp-content/uploads/2026/02/IMG_0672.jpeg
END:VEVENT
BEGIN:VEVENT
DTSTART;TZID=UTC:20260223T180000
DTEND;TZID=UTC:20260223T200000
DTSTAMP:20260421T015747
CREATED:20240917T220055Z
LAST-MODIFIED:20240917T220056Z
UID:10000396-1771869600-1771876800@dallasgop.org
SUMMARY:Rowlett Republican Men
DESCRIPTION:Monthly Meeting. \n 
URL:https://dallasgop.org/event/rowlett-republican-men-2-2-2/2026-02-23/
LOCATION:Freedom Place Church\, 4111 Main Street\, Rowlett\, TX\, 75088
END:VEVENT
BEGIN:VEVENT
DTSTART;TZID=America/Chicago:20260224T170000
DTEND;TZID=America/Chicago:20260224T200000
DTSTAMP:20260421T015747
CREATED:20260223T203950Z
LAST-MODIFIED:20260223T203950Z
UID:10004184-1771952400-1771963200@dallasgop.org
SUMMARY:LIVE Q&A and Townhalls with Abteen Vaziri
DESCRIPTION:LIVE Q&A and Townhalls\n\nMonday Feb. 23rd – Friday Feb. 27th:\n5pm\, 6pm\, 7pm\, 8pm\n(On each hour for 15-20 minutes)\n\nSaturday Feb. 28th – Sunday March. 1st:\n10am\, 12pm\, 2pm\, 4pm\, 6pm\n(On each hour for 1.5 hours)\n\n​Monday March 2nd\n9:00am -9:00pm\n(Every hour on the hour for 15-20minutes)\n\n​**Tuesday March 3rd Election Day**\nTBD\n\nZoom Webinar LIVE\nWebinar ID: 899 6084 1830\n(Live Q&A submission and stream)\n\nYouTube LIVE\nhttps://www.youtube.com/channel/UC4PQhxxQcHCfqW1LFCKP_WA\n(Live stream only)\n\n*The same links will be used for all live streaming sessions. Join the Zoom link to ask questions directly.  To view the live-cast only (chat cannot be guaranteed)\, use the  links. Share links with voters in TXCD-32.\n\n***Times and durations of Abteen live streaming may be adjusted in real-time\, the link will still be live to join.
URL:https://dallasgop.org/event/live-qa-and-townhalls-with-abteen-vaziri-2/
LOCATION:Texas
ATTACH;FMTTYPE=image/jpeg:https://dallasgop.org/wp-content/uploads/2026/02/Abteen-Zoom-Waiting-Room-1.pdf_page-0001.jpg
END:VEVENT
BEGIN:VEVENT
DTSTART;TZID=America/Chicago:20260225T170000
DTEND;TZID=America/Chicago:20260225T200000
DTSTAMP:20260421T015747
CREATED:20260223T204039Z
LAST-MODIFIED:20260223T204039Z
UID:10004185-1772038800-1772049600@dallasgop.org
SUMMARY:LIVE Q&A and Townhalls with Abteen Vaziri
DESCRIPTION:LIVE Q&A and Townhalls\n\nMonday Feb. 23rd – Friday Feb. 27th:\n5pm\, 6pm\, 7pm\, 8pm\n(On each hour for 15-20 minutes)\n\nSaturday Feb. 28th – Sunday March. 1st:\n10am\, 12pm\, 2pm\, 4pm\, 6pm\n(On each hour for 1.5 hours)\n\n​Monday March 2nd\n9:00am -9:00pm\n(Every hour on the hour for 15-20minutes)\n\n​**Tuesday March 3rd Election Day**\nTBD\n\nZoom Webinar LIVE\nWebinar ID: 899 6084 1830\n(Live Q&A submission and stream)\n\nYouTube LIVE\nhttps://www.youtube.com/channel/UC4PQhxxQcHCfqW1LFCKP_WA\n(Live stream only)\n\n*The same links will be used for all live streaming sessions. Join the Zoom link to ask questions directly.  To view the live-cast only (chat cannot be guaranteed)\, use the  links. Share links with voters in TXCD-32.\n\n***Times and durations of Abteen live streaming may be adjusted in real-time\, the link will still be live to join.
URL:https://dallasgop.org/event/live-qa-and-townhalls-with-abteen-vaziri-3/
LOCATION:Texas
ATTACH;FMTTYPE=image/jpeg:https://dallasgop.org/wp-content/uploads/2026/02/Abteen-Zoom-Waiting-Room-1.pdf_page-0001.jpg
END:VEVENT
BEGIN:VEVENT
DTSTART;TZID=America/Chicago:20260225T180000
DTEND;TZID=America/Chicago:20260225T200000
DTSTAMP:20260421T015747
CREATED:20260211T210426Z
LAST-MODIFIED:20260211T210426Z
UID:10004177-1772042400-1772049600@dallasgop.org
SUMMARY:Training for Primary Judges
DESCRIPTION:Session will provide first time and experienced judges tips & suggestions as well as time for questions & answers
URL:https://dallasgop.org/event/training-for-primary-judges/
LOCATION:DCRP Headquarters\, 11617 N. Central Expy Suite 240\, Dallas\, Texas
END:VEVENT
BEGIN:VEVENT
DTSTART;TZID=America/Chicago:20260225T190000
DTEND;TZID=America/Chicago:20260225T203000
DTSTAMP:20260421T015747
CREATED:20260224T160938Z
LAST-MODIFIED:20260224T160938Z
UID:10004191-1772046000-1772051400@dallasgop.org
SUMMARY:An Evening For Texas Leadership
DESCRIPTION:
URL:https://dallasgop.org/event/an-evening-for-texas-leadership/
LOCATION:Roots and Water\, 2102 East State Highway 114 Suite 100\, Southlake\, Texas\, 76092
ATTACH;FMTTYPE=image/jpeg:https://dallasgop.org/wp-content/uploads/2026/02/Wed-Feb-25-Event.jpeg
END:VEVENT
BEGIN:VEVENT
DTSTART;TZID=America/Chicago:20260226T110000
DTEND;TZID=America/Chicago:20260226T140000
DTSTAMP:20260421T015747
CREATED:20260114T202131Z
LAST-MODIFIED:20260212T140306Z
UID:10004081-1772103600-1772114400@dallasgop.org
SUMMARY:The Dallas Summit: Film and Streaming as an Economic Engine
DESCRIPTION:This session focuses on positioning Dallas County as a premier hub for film and streaming production. We will explore how scaling this industry creates a massive ripple effect: generating high-paying jobs\, stimulating small business growth\, and driving significant infrastructure investment to ensure a robust and modernized economy for all constituents. \nRSVP: https://kurtschwab4congress.com/rsvp_film/ \n 
URL:https://dallasgop.org/event/the-dallas-summit-film-and-streaming-as-an-economic-engine/
LOCATION:9179 Garland Rd\, Dallas\, TX 75218
ATTACH;FMTTYPE=image/jpeg:https://dallasgop.org/wp-content/uploads/2026/01/Kurb-Schwabb-Luncheon.jpeg
END:VEVENT
BEGIN:VEVENT
DTSTART;TZID=America/Chicago:20260226T170000
DTEND;TZID=America/Chicago:20260226T200000
DTSTAMP:20260421T015747
CREATED:20260223T204113Z
LAST-MODIFIED:20260223T204113Z
UID:10004186-1772125200-1772136000@dallasgop.org
SUMMARY:LIVE Q&A and Townhalls with Abteen Vaziri
DESCRIPTION:LIVE Q&A and Townhalls\n\nMonday Feb. 23rd – Friday Feb. 27th:\n5pm\, 6pm\, 7pm\, 8pm\n(On each hour for 15-20 minutes)\n\nSaturday Feb. 28th – Sunday March. 1st:\n10am\, 12pm\, 2pm\, 4pm\, 6pm\n(On each hour for 1.5 hours)\n\n​Monday March 2nd\n9:00am -9:00pm\n(Every hour on the hour for 15-20minutes)\n\n​**Tuesday March 3rd Election Day**\nTBD\n\nZoom Webinar LIVE\nWebinar ID: 899 6084 1830\n(Live Q&A submission and stream)\n\nYouTube LIVE\nhttps://www.youtube.com/channel/UC4PQhxxQcHCfqW1LFCKP_WA\n(Live stream only)\n\n*The same links will be used for all live streaming sessions. Join the Zoom link to ask questions directly.  To view the live-cast only (chat cannot be guaranteed)\, use the  links. Share links with voters in TXCD-32.\n\n***Times and durations of Abteen live streaming may be adjusted in real-time\, the link will still be live to join.
URL:https://dallasgop.org/event/live-qa-and-townhalls-with-abteen-vaziri-4/
LOCATION:Texas
ATTACH;FMTTYPE=image/jpeg:https://dallasgop.org/wp-content/uploads/2026/02/Abteen-Zoom-Waiting-Room-1.pdf_page-0001.jpg
END:VEVENT
BEGIN:VEVENT
DTSTART;TZID=America/Chicago:20260226T180000
DTEND;TZID=America/Chicago:20260226T193000
DTSTAMP:20260421T015747
CREATED:20260224T164812Z
LAST-MODIFIED:20260224T164812Z
UID:10004192-1772128800-1772134200@dallasgop.org
SUMMARY:Terry Lynne for Farmers Branch Mayor Kickoff
DESCRIPTION:
URL:https://dallasgop.org/event/terry-lynne-for-farmers-branch-mayor-kickoff/
LOCATION:Crossbuck BBQ\, 4400 Spring Valley Rd\, Farmers Branch\, TX\, 75244
ATTACH;FMTTYPE=image/jpeg:https://dallasgop.org/wp-content/uploads/2026/02/Feb-26-FB-Mayor-Kickoff.jpeg
END:VEVENT
BEGIN:VEVENT
DTSTART;TZID=America/Chicago:20260226T183000
DTEND;TZID=America/Chicago:20260226T203000
DTSTAMP:20260421T015747
CREATED:20260204T202846Z
LAST-MODIFIED:20260204T202846Z
UID:10004170-1772130600-1772137800@dallasgop.org
SUMMARY:A Better Texas: Election Workers Appreciation Happy Hour
DESCRIPTION:It’s that time again! \nA Better Texas invites you to join us as we celebrate and thank all those working in our Republican primaries\, wishing them luck for March 3rd. \nCome on down to the Egyptian Lounge\, catch-up with old friends and make new ones as we gear up to fight for the future of our county\, our state\, and our great nation. \nWhat better way to support everyone’s efforts than a show of camaraderie\, enjoying the food and wine in a historical background that begs for backroom deals. \nClick on the picture to RSVP! \nCampisi’s Egyptian Restaurant (6:30 to 8:30 PM) \n5610 E. Mockingbird Lane\, Dallas\, Texas
URL:https://dallasgop.org/event/a-better-texas-election-workers-appreciation-happy-hour/
LOCATION:Texas
ATTACH;FMTTYPE=image/jpeg:https://dallasgop.org/wp-content/uploads/2026/02/ABD.jpg
ORGANIZER;CN="A Better Dallas":MAILTO:tami@abetterdallas.com
END:VEVENT
BEGIN:VEVENT
DTSTART;TZID=America/Chicago:20260227T170000
DTEND;TZID=America/Chicago:20260227T200000
DTSTAMP:20260421T015747
CREATED:20260223T204155Z
LAST-MODIFIED:20260223T204155Z
UID:10004187-1772211600-1772222400@dallasgop.org
SUMMARY:LIVE Q&A and Townhalls with Abteen Vaziri
DESCRIPTION:LIVE Q&A and Townhalls\n\nMonday Feb. 23rd – Friday Feb. 27th:\n5pm\, 6pm\, 7pm\, 8pm\n(On each hour for 15-20 minutes)\n\nSaturday Feb. 28th – Sunday March. 1st:\n10am\, 12pm\, 2pm\, 4pm\, 6pm\n(On each hour for 1.5 hours)\n\n​Monday March 2nd\n9:00am -9:00pm\n(Every hour on the hour for 15-20minutes)\n\n​**Tuesday March 3rd Election Day**\nTBD\n\nZoom Webinar LIVE\nWebinar ID: 899 6084 1830\n(Live Q&A submission and stream)\n\nYouTube LIVE\nhttps://www.youtube.com/channel/UC4PQhxxQcHCfqW1LFCKP_WA\n(Live stream only)\n\n*The same links will be used for all live streaming sessions. Join the Zoom link to ask questions directly.  To view the live-cast only (chat cannot be guaranteed)\, use the  links. Share links with voters in TXCD-32.\n\n***Times and durations of Abteen live streaming may be adjusted in real-time\, the link will still be live to join.
URL:https://dallasgop.org/event/live-qa-and-townhalls-with-abteen-vaziri-5/
LOCATION:Texas
ATTACH;FMTTYPE=image/jpeg:https://dallasgop.org/wp-content/uploads/2026/02/Abteen-Zoom-Waiting-Room-1.pdf_page-0001.jpg
END:VEVENT
BEGIN:VEVENT
DTSTART;TZID=America/Chicago:20260228T100000
DTEND;TZID=America/Chicago:20260228T180000
DTSTAMP:20260421T015747
CREATED:20260223T204304Z
LAST-MODIFIED:20260223T204304Z
UID:10004188-1772272800-1772301600@dallasgop.org
SUMMARY:LIVE Q&A and Townhalls with Abteen Vaziri
DESCRIPTION:LIVE Q&A and Townhalls\n\nSaturday Feb. 28th – Sunday March. 1st:\n10am\, 12pm\, 2pm\, 4pm\, 6pm\n(On each hour for 1.5 hours)\n\n​Monday March 2nd\n9:00am -9:00pm\n(Every hour on the hour for 15-20minutes)\n\n​**Tuesday March 3rd Election Day**\nTBD\n\nZoom Webinar LIVE\nWebinar ID: 899 6084 1830\n(Live Q&A submission and stream)\n\nYouTube LIVE\nhttps://www.youtube.com/channel/UC4PQhxxQcHCfqW1LFCKP_WA\n(Live stream only)\n\n*The same links will be used for all live streaming sessions. Join the Zoom link to ask questions directly.  To view the live-cast only (chat cannot be guaranteed)\, use the  links. Share links with voters in TXCD-32.\n\n***Times and durations of Abteen live streaming may be adjusted in real-time\, the link will still be live to join.
URL:https://dallasgop.org/event/live-qa-and-townhalls-with-abteen-vaziri-6/
LOCATION:Texas
ATTACH;FMTTYPE=image/jpeg:https://dallasgop.org/wp-content/uploads/2026/02/Abteen-Zoom-Waiting-Room-1.pdf_page-0001.jpg
END:VEVENT
BEGIN:VEVENT
DTSTART;TZID=America/Chicago:20260301T100000
DTEND;TZID=America/Chicago:20260301T180000
DTSTAMP:20260421T015747
CREATED:20260223T204414Z
LAST-MODIFIED:20260223T204414Z
UID:10004189-1772359200-1772388000@dallasgop.org
SUMMARY:LIVE Q&A and Townhalls with Abteen Vaziri
DESCRIPTION:LIVE Q&A and Townhalls\n\nSaturday Feb. 28th – Sunday March. 1st:\n10am\, 12pm\, 2pm\, 4pm\, 6pm\n(On each hour for 1.5 hours)\n\n​Monday March 2nd\n9:00am -9:00pm\n(Every hour on the hour for 15-20minutes)\n\n​**Tuesday March 3rd Election Day**\nTBD\n\nZoom Webinar LIVE\nWebinar ID: 899 6084 1830\n(Live Q&A submission and stream)\n\nYouTube LIVE\nhttps://www.youtube.com/channel/UC4PQhxxQcHCfqW1LFCKP_WA\n(Live stream only)\n\n*The same links will be used for all live streaming sessions. Join the Zoom link to ask questions directly.  To view the live-cast only (chat cannot be guaranteed)\, use the  links. Share links with voters in TXCD-32.\n\n***Times and durations of Abteen live streaming may be adjusted in real-time\, the link will still be live to join.
URL:https://dallasgop.org/event/live-qa-and-townhalls-with-abteen-vaziri-7/
LOCATION:Texas
ATTACH;FMTTYPE=image/jpeg:https://dallasgop.org/wp-content/uploads/2026/02/Abteen-Zoom-Waiting-Room-1.pdf_page-0001.jpg
END:VEVENT
BEGIN:VEVENT
DTSTART;TZID=America/Chicago:20260302T090000
DTEND;TZID=America/Chicago:20260302T210000
DTSTAMP:20260421T015747
CREATED:20260223T204528Z
LAST-MODIFIED:20260223T204528Z
UID:10004190-1772442000-1772485200@dallasgop.org
SUMMARY:LIVE Q&A and Townhalls with Abteen Vaziri
DESCRIPTION:LIVE Q&A and Townhalls\n\n​Monday March 2nd\n9:00am -9:00pm\n(Every hour on the hour for 15-20minutes)\n\n​**Tuesday March 3rd Election Day**\nTBD\n\nZoom Webinar LIVE\nWebinar ID: 899 6084 1830\n(Live Q&A submission and stream)\n\nYouTube LIVE\nhttps://www.youtube.com/channel/UC4PQhxxQcHCfqW1LFCKP_WA\n(Live stream only)\n\n*The same links will be used for all live streaming sessions. Join the Zoom link to ask questions directly.  To view the live-cast only (chat cannot be guaranteed)\, use the  links. Share links with voters in TXCD-32.\n\n***Times and durations of Abteen live streaming may be adjusted in real-time\, the link will still be live to join.
URL:https://dallasgop.org/event/live-qa-and-townhalls-with-abteen-vaziri-8/
LOCATION:Texas
ATTACH;FMTTYPE=image/jpeg:https://dallasgop.org/wp-content/uploads/2026/02/Abteen-Zoom-Waiting-Room-1.pdf_page-0001.jpg
END:VEVENT
BEGIN:VEVENT
DTSTART;TZID=America/Chicago:20260302T183000
DTEND;TZID=America/Chicago:20260302T203000
DTSTAMP:20260421T015747
CREATED:20260210T175212Z
LAST-MODIFIED:20260210T175212Z
UID:10004172-1772476200-1772483400@dallasgop.org
SUMMARY:Grand Prairie Republican Club-CD 30 Meet & Greet with Forum
DESCRIPTION:CD 30 Meet and Greet w/ forum \nCD 30 represents a large portion of Grand Prarie
URL:https://dallasgop.org/event/grand-prairie-republican-club-cd-30-meet-greet-with-forum/
LOCATION:Outlaw’s Barbeque\, 2334 S. Belt Line Rd.\, Grand Prairie\, TX\, 75051
END:VEVENT
BEGIN:VEVENT
DTSTART;VALUE=DATE:20260303
DTEND;VALUE=DATE:20260304
DTSTAMP:20260421T015747
CREATED:20260129T202208Z
LAST-MODIFIED:20260129T202208Z
UID:10004105-1772496000-1772582399@dallasgop.org
SUMMARY:Primary Elections
DESCRIPTION:For more information\, visit https://www.dallascountyvotes.org/ \n 
URL:https://dallasgop.org/event/primary-elections/
LOCATION:Texas
ATTACH;FMTTYPE=image/jpeg:https://dallasgop.org/wp-content/uploads/2026/01/GOTV.jpg
END:VEVENT
BEGIN:VEVENT
DTSTART;TZID=America/Chicago:20260303T180000
DTEND;TZID=America/Chicago:20260303T230000
DTSTAMP:20260421T015747
CREATED:20260225T191024Z
LAST-MODIFIED:20260225T191024Z
UID:10004193-1772560800-1772578800@dallasgop.org
SUMMARY:Ken Paxton Election Night Party
DESCRIPTION:Lone Star Liberty PAC is hosting Ken Paxton on March 3rd for an election night celebration at the Marriott Uptown Dallas. \nCome join like minded MAGA Republicans to watch primary election results and hear from Conservative speakers from across the county. Free food and drinks! \nDoors Open at 6PM in the Katy Ball Room! \nVenue Address: 3033 Fairmount Street Dallas TX 75201 \nRSVP: https://www.eventbrite.com/e/ken-paxton-election-night-party-tickets-1983566682343?aff=oddtdtcreator%27&keep_tld=true
URL:https://dallasgop.org/event/ken-paxton-election-night-party/
LOCATION:3033 Fairmount Street Dallas TX 75201\, 3033 Fairmount Street\, Dallas\, TX\, 75201
ATTACH;FMTTYPE=image/jpeg:https://dallasgop.org/wp-content/uploads/2026/02/LONE-STAR-LIBERTY-PAC-1.jpg
END:VEVENT
BEGIN:VEVENT
DTSTART;TZID=America/Chicago:20260305T183000
DTEND;TZID=America/Chicago:20260305T200000
DTSTAMP:20260421T015747
CREATED:20260202T194229Z
LAST-MODIFIED:20260202T194229Z
UID:10004109-1772735400-1772740800@dallasgop.org
SUMMARY:Rowlett Area Republican Women's Club
DESCRIPTION:Come join us for our monthly meeting!
URL:https://dallasgop.org/event/rowlett-area-republican-womens-club-4/2026-03-05/
LOCATION:Freedom Place Church\, 4111 Main Street\, Rowlett\, TX\, 75088
ATTACH;FMTTYPE=image/jpeg:https://dallasgop.org/wp-content/uploads/2024/07/RRWC-LOGO.jpeg
END:VEVENT
BEGIN:VEVENT
DTSTART;TZID=America/Chicago:20260305T183000
DTEND;TZID=America/Chicago:20260305T210000
DTSTAMP:20260421T015747
CREATED:20260303T152622Z
LAST-MODIFIED:20260303T152622Z
UID:10004194-1772735400-1772744400@dallasgop.org
SUMMARY:Precinct Conventions
DESCRIPTION:
URL:https://dallasgop.org/event/precinct-conventions/
LOCATION:Texas
ATTACH;FMTTYPE=image/jpeg:https://dallasgop.org/wp-content/uploads/2026/03/PC-Conventions.jpeg
END:VEVENT
BEGIN:VEVENT
DTSTART;TZID=America/Chicago:20260306T083000
DTEND;TZID=America/Chicago:20260306T103000
DTSTAMP:20260421T015747
CREATED:20260304T191619Z
LAST-MODIFIED:20260304T191619Z
UID:10004196-1772785800-1772793000@dallasgop.org
SUMMARY:North Dallas Republicans Friday Breakfast
DESCRIPTION:  \nWe will be discussing the primary results.\nJoin us for breakfast… \nMake sure you note the time… 8:30 am\nCome early to order your breakfast before the meeting. \nWe will not have a special speaker\, but instead I will host our meeting\, we will be discussing the impact of the primary results how they will impact us and how we can move forward. \nI hope to see you there….
URL:https://dallasgop.org/event/north-dallas-republicans-friday-breakfast-2/
LOCATION:Original Pancake House\, 5220 Belt Line Rd\, Dallas\, TX\, 75254
ATTACH;FMTTYPE=image/jpeg:https://dallasgop.org/wp-content/uploads/2026/01/Original-Pancake-House-for-DCRP3.jpg
END:VEVENT
BEGIN:VEVENT
DTSTART;TZID=America/Chicago:20260307T160000
DTEND;TZID=America/Chicago:20260307T200000
DTSTAMP:20260421T015747
CREATED:20260209T153605Z
LAST-MODIFIED:20260209T153605Z
UID:10004171-1772899200-1772913600@dallasgop.org
SUMMARY:Bonnie Abadie for HD 102 Campaign Kickoff
DESCRIPTION:
URL:https://dallasgop.org/event/bonnie-abadie-for-hd-102-campaign-kickoff/
LOCATION:447 Sheffield Dr\, Richardson\, TX 75081
ATTACH;FMTTYPE=image/jpeg:https://dallasgop.org/wp-content/uploads/2026/02/Bonnie-Kickoff-March-7.jpg
ORGANIZER;CN="Bonnie Abadie":MAILTO:bonnie@northdallasmartialarts.com
END:VEVENT
BEGIN:VEVENT
DTSTART;TZID=UTC:20260310T183000
DTEND;TZID=UTC:20260310T203000
DTSTAMP:20260421T015747
CREATED:20240606T131955Z
LAST-MODIFIED:20240709T182632Z
UID:10000334-1773167400-1773174600@dallasgop.org
SUMMARY:Greater Irving Republican Club
DESCRIPTION:Come and meet with like-minded Republicans for information\, speakers and fellowship.  Arrive at 6:15 – 6:30 pm for some tasty BBQ at Spring Creek BBQ Hwy 183 in Irving.  Meeting begins promptly at 7pm.
URL:https://dallasgop.org/event/greater-irving-republican-club-2/2026-03-10/
LOCATION:Spring Creek BBQ – Irving\, 3514 W Airport Fwy\,\, Irving\, TX\, 75062
END:VEVENT
BEGIN:VEVENT
DTSTART;TZID=America/Chicago:20260310T190000
DTEND;TZID=America/Chicago:20260310T210000
DTSTAMP:20260421T015747
CREATED:20240808T145911Z
LAST-MODIFIED:20241002T210426Z
UID:10000660-1773169200-1773176400@dallasgop.org
SUMMARY:Southwest Dallas County Republicans Monthly Meeting
DESCRIPTION:Southwest Dallas County Republicans meets monthly with informative\, inspiring speakers and great opportunities for interaction with other like-minded people\, and learning more about Republican principles\, platforms and processes. People new to the concepts as well as long-time participants as Republicans are welcome. 6:30 pm: Social and snacks or meal ordering. Business matters are conducted briefly.
URL:https://dallasgop.org/event/southwest-dallas-county-republicans-monthly-meeting/2026-03-10/
LOCATION:Ojeda’s Restaurant – Hampton Rd\, 2109 N Hampton Rd\,\, DeSoto\, TX\, TX 75115\, United States
ATTACH;FMTTYPE=image/png:https://dallasgop.org/wp-content/uploads/2024/08/Screenshot-2024-08-08-095810.png
END:VEVENT
BEGIN:VEVENT
DTSTART;TZID=America/Chicago:20260312T180000
DTEND;TZID=America/Chicago:20260312T190000
DTSTAMP:20260421T015747
CREATED:20260309T132913Z
LAST-MODIFIED:20260309T132913Z
UID:10004200-1773338400-1773342000@dallasgop.org
SUMMARY:NOTICE OF PRIMARY ELECTION CANVASS
DESCRIPTION:
URL:https://dallasgop.org/event/notice-of-primary-election-canvass/
LOCATION:DCRP Headquarters\, 11617 N. Central Expy Suite 240\, Dallas\, Texas
END:VEVENT
BEGIN:VEVENT
DTSTART;TZID=America/Chicago:20260312T183000
DTEND;TZID=America/Chicago:20260312T193000
DTSTAMP:20260421T015747
CREATED:20260309T143037Z
LAST-MODIFIED:20260309T143108Z
UID:10004201-1773340200-1773343800@dallasgop.org
SUMMARY:DCRP and A Better Texas Power Hour Virtual Training
DESCRIPTION:PC and Volunteer training hosted by DCRP Vice Chair Tami Brown-Rodriquez and A Better Texas \n  \nVirtual training sign up here
URL:https://dallasgop.org/event/dcrp-and-a-better-texas-power-hour-virtual-training/
LOCATION:Texas
ATTACH;FMTTYPE=image/png:https://dallasgop.org/wp-content/uploads/2026/03/Virtual.png
END:VEVENT
BEGIN:VEVENT
DTSTART;TZID=America/Chicago:20260312T183000
DTEND;TZID=America/Chicago:20260312T200000
DTSTAMP:20260421T015747
CREATED:20260127T211602Z
LAST-MODIFIED:20260304T171010Z
UID:10004098-1773340200-1773345600@dallasgop.org
SUMMARY:AI in Politics
DESCRIPTION:Artificial Intelligence is reshaping America—and politics is next on the list! \nJoin us for a powerful and timely conversation on AI in Politics! Our exclusive panel discussion and Q&A will explore how artificial intelligence is already transforming campaigns\, government\, healthcare\, national security\, and the future of our democracy. \nFrom data-driven elections and digital persuasion to innovation\, ethics\, and the balance between freedom and control\, this event brings together elected leaders and industry experts to unpack what AI means for voters\, policymakers\, and the nation as a whole. \nTo help kickoff our event\, we will receive an important state and federal level update from Senator Tan Parker and Congresswoman Beth Van Duyne that will compliment and lead into our AI Panel Discussion. \nFeaturing:\nCongresswoman Beth Van Duyne – U.S. Congress (TX District 24)\nSenator Tan Parker – Texas State Senate (TX District 12)\nAlexander Sicular – CEO & Co-Founder\, Osceco Technologies\nDr. Tim McDonough – Clinical Professor (AI/IT Focus)\, Southern Methodist University \nModerated by Alexander David McMath\, Managing Principal\, Atelier Strategy & Development. \nThis is a must-attend discussion and Q&A for conservatives\, professionals\, business leaders\, and engaged citizens who want to understand how emerging technology is shaping governance\, liberty\, and the American political landscape. \n📅 Thursday\, March 12\, 2026\n🕡 6:30 PM\n📍 Hooky Entertainment Addison\n5409 Belt Line Road\, Dallas\, TX 75254 \nThe future is being written now. Don’t just watch it happen—be part of the conversation. \nREGISTER HERE: https://ajc.ticketspice.com/aipolitics \nIf you registered for this event and have not already received a refund/credit\, your ticket will automatically be transferred and honored for the rescheduled event. If you have already received a refund/credit\, we kindly ask that you register again once our new event date has been announced. Additional details\, including the new date\, will be shared soon. We appreciate your understanding\, patience\, and continued support. The safety of our community is always our top priority\, and we look forward to gathering together very soon!
URL:https://dallasgop.org/event/ai-in-politics/
LOCATION:Texas
ATTACH;FMTTYPE=image/png:https://dallasgop.org/wp-content/uploads/2026/01/ai-in-politics-mar.-12th-new-flyer-1.png
END:VEVENT
BEGIN:VEVENT
DTSTART;TZID=America/Chicago:20260314T100000
DTEND;TZID=America/Chicago:20260314T120000
DTSTAMP:20260421T015747
CREATED:20260306T155502Z
LAST-MODIFIED:20260306T155502Z
UID:10004197-1773482400-1773489600@dallasgop.org
SUMMARY:SD 12 (Dallas Co) Resolutions Committee Meeting
DESCRIPTION:
URL:https://dallasgop.org/event/sd-12-dallas-co-resolutions-committee-meeting/
LOCATION:DCRP Headquarters\, 11617 N. Central Expy Suite 240\, Dallas\, Texas
END:VEVENT
BEGIN:VEVENT
DTSTART;TZID=America/Chicago:20260315T110000
DTEND;TZID=America/Chicago:20260315T160000
DTSTAMP:20260421T015747
CREATED:20260223T141558Z
LAST-MODIFIED:20260223T141558Z
UID:10004182-1773572400-1773590400@dallasgop.org
SUMMARY:Dallas Kosher Chili Cookoff
DESCRIPTION:31st Annual Event that attracts over 3000 guests who enjoy tasting the chili of over 40 entries and the children’s activities that include jump houses\, rock climbing\, face painting and an excellent opportunity to showcase our Dallas County GOP as an entry as we compete for the best bragging rights of the best chili that only our GOP volunteers can create! Contact Diane Benjamin 214-215-3604 to participate as a cook or to serve the chili to all who dare to enjoy our RED hot chili! \nhttp://kosherchilicookoff.us \n  \n 
URL:https://dallasgop.org/event/dallas-kosher-chili-cookoff/
LOCATION:Tiferet Israel\, 10909 Hillcrest Road\, Dallas\, TX\, 75230\, United States
ATTACH;FMTTYPE=image/jpeg:https://dallasgop.org/wp-content/uploads/2026/02/IMG_5901-rotated.jpeg
END:VEVENT
END:VCALENDAR