BEGIN:VCALENDAR
VERSION:2.0
PRODID:-//Dallas County Republican Party - ECPv6.10.1//NONSGML v1.0//EN
CALSCALE:GREGORIAN
METHOD:PUBLISH
X-ORIGINAL-URL:https://dallasgop.org
X-WR-CALDESC:Events for Dallas County Republican Party
REFRESH-INTERVAL;VALUE=DURATION:PT1H
X-Robots-Tag:noindex
X-PUBLISHED-TTL:PT1H
BEGIN:VTIMEZONE
TZID:UTC
BEGIN:STANDARD
TZOFFSETFROM:+0000
TZOFFSETTO:+0000
TZNAME:UTC
DTSTART:20260101T000000
END:STANDARD
END:VTIMEZONE
BEGIN:VEVENT
DTSTART;TZID=UTC:20260427T180000
DTEND;TZID=UTC:20260427T200000
DTSTAMP:20260420T103414
CREATED:20240917T220055Z
LAST-MODIFIED:20240917T220056Z
UID:10000398-1777312800-1777320000@dallasgop.org
SUMMARY:Rowlett Republican Men
DESCRIPTION:Monthly Meeting. \n 
URL:https://dallasgop.org/event/rowlett-republican-men-2-2-2/2026-04-27/
LOCATION:Freedom Place Church\, 4111 Main Street\, Rowlett\, TX\, 75088
END:VEVENT
BEGIN:VEVENT
DTSTART;TZID=UTC:20260525T180000
DTEND;TZID=UTC:20260525T200000
DTSTAMP:20260420T103414
CREATED:20240917T220055Z
LAST-MODIFIED:20240917T220056Z
UID:10000399-1779732000-1779739200@dallasgop.org
SUMMARY:Rowlett Republican Men
DESCRIPTION:Monthly Meeting. \n 
URL:https://dallasgop.org/event/rowlett-republican-men-2-2-2/2026-05-25/
LOCATION:Freedom Place Church\, 4111 Main Street\, Rowlett\, TX\, 75088
END:VEVENT
BEGIN:VEVENT
DTSTART;TZID=UTC:20260622T180000
DTEND;TZID=UTC:20260622T200000
DTSTAMP:20260420T103414
CREATED:20240917T220055Z
LAST-MODIFIED:20240917T220056Z
UID:10000400-1782151200-1782158400@dallasgop.org
SUMMARY:Rowlett Republican Men
DESCRIPTION:Monthly Meeting. \n 
URL:https://dallasgop.org/event/rowlett-republican-men-2-2-2/2026-06-22/
LOCATION:Freedom Place Church\, 4111 Main Street\, Rowlett\, TX\, 75088
END:VEVENT
BEGIN:VEVENT
DTSTART;TZID=UTC:20260727T180000
DTEND;TZID=UTC:20260727T200000
DTSTAMP:20260420T103414
CREATED:20240917T220055Z
LAST-MODIFIED:20240917T220056Z
UID:10000401-1785175200-1785182400@dallasgop.org
SUMMARY:Rowlett Republican Men
DESCRIPTION:Monthly Meeting. \n 
URL:https://dallasgop.org/event/rowlett-republican-men-2-2-2/2026-07-27/
LOCATION:Freedom Place Church\, 4111 Main Street\, Rowlett\, TX\, 75088
END:VEVENT
BEGIN:VEVENT
DTSTART;TZID=UTC:20260824T180000
DTEND;TZID=UTC:20260824T200000
DTSTAMP:20260420T103414
CREATED:20240917T220055Z
LAST-MODIFIED:20240917T220056Z
UID:10000402-1787594400-1787601600@dallasgop.org
SUMMARY:Rowlett Republican Men
DESCRIPTION:Monthly Meeting. \n 
URL:https://dallasgop.org/event/rowlett-republican-men-2-2-2/2026-08-24/
LOCATION:Freedom Place Church\, 4111 Main Street\, Rowlett\, TX\, 75088
END:VEVENT
BEGIN:VEVENT
DTSTART;TZID=UTC:20260928T180000
DTEND;TZID=UTC:20260928T200000
DTSTAMP:20260420T103414
CREATED:20240917T220055Z
LAST-MODIFIED:20240917T220056Z
UID:10000403-1790618400-1790625600@dallasgop.org
SUMMARY:Rowlett Republican Men
DESCRIPTION:Monthly Meeting. \n 
URL:https://dallasgop.org/event/rowlett-republican-men-2-2-2/2026-09-28/
LOCATION:Freedom Place Church\, 4111 Main Street\, Rowlett\, TX\, 75088
END:VEVENT
BEGIN:VEVENT
DTSTART;TZID=UTC:20261026T180000
DTEND;TZID=UTC:20261026T200000
DTSTAMP:20260420T103414
CREATED:20240917T220055Z
LAST-MODIFIED:20240917T220056Z
UID:10000404-1793037600-1793044800@dallasgop.org
SUMMARY:Rowlett Republican Men
DESCRIPTION:Monthly Meeting. \n 
URL:https://dallasgop.org/event/rowlett-republican-men-2-2-2/2026-10-26/
LOCATION:Freedom Place Church\, 4111 Main Street\, Rowlett\, TX\, 75088
END:VEVENT
BEGIN:VEVENT
DTSTART;TZID=UTC:20261123T180000
DTEND;TZID=UTC:20261123T200000
DTSTAMP:20260420T103414
CREATED:20240917T220055Z
LAST-MODIFIED:20240917T220056Z
UID:10000405-1795456800-1795464000@dallasgop.org
SUMMARY:Rowlett Republican Men
DESCRIPTION:Monthly Meeting. \n 
URL:https://dallasgop.org/event/rowlett-republican-men-2-2-2/2026-11-23/
LOCATION:Freedom Place Church\, 4111 Main Street\, Rowlett\, TX\, 75088
END:VEVENT
BEGIN:VEVENT
DTSTART;TZID=UTC:20261228T180000
DTEND;TZID=UTC:20261228T200000
DTSTAMP:20260420T103414
CREATED:20240917T220055Z
LAST-MODIFIED:20240917T220056Z
UID:10000406-1798480800-1798488000@dallasgop.org
SUMMARY:Rowlett Republican Men
DESCRIPTION:Monthly Meeting. \n 
URL:https://dallasgop.org/event/rowlett-republican-men-2-2-2/2026-12-28/
LOCATION:Freedom Place Church\, 4111 Main Street\, Rowlett\, TX\, 75088
END:VEVENT
BEGIN:VEVENT
DTSTART;TZID=UTC:20270125T180000
DTEND;TZID=UTC:20270125T200000
DTSTAMP:20260420T103414
CREATED:20240917T220055Z
LAST-MODIFIED:20240917T220056Z
UID:10000407-1800900000-1800907200@dallasgop.org
SUMMARY:Rowlett Republican Men
DESCRIPTION:Monthly Meeting. \n 
URL:https://dallasgop.org/event/rowlett-republican-men-2-2-2/2027-01-25/
LOCATION:Freedom Place Church\, 4111 Main Street\, Rowlett\, TX\, 75088
END:VEVENT
BEGIN:VEVENT
DTSTART;TZID=UTC:20270222T180000
DTEND;TZID=UTC:20270222T200000
DTSTAMP:20260420T103414
CREATED:20240917T220055Z
LAST-MODIFIED:20240917T220056Z
UID:10000408-1803319200-1803326400@dallasgop.org
SUMMARY:Rowlett Republican Men
DESCRIPTION:Monthly Meeting. \n 
URL:https://dallasgop.org/event/rowlett-republican-men-2-2-2/2027-02-22/
LOCATION:Freedom Place Church\, 4111 Main Street\, Rowlett\, TX\, 75088
END:VEVENT
BEGIN:VEVENT
DTSTART;TZID=UTC:20270322T180000
DTEND;TZID=UTC:20270322T200000
DTSTAMP:20260420T103414
CREATED:20240917T220055Z
LAST-MODIFIED:20240917T220056Z
UID:10000409-1805738400-1805745600@dallasgop.org
SUMMARY:Rowlett Republican Men
DESCRIPTION:Monthly Meeting. \n 
URL:https://dallasgop.org/event/rowlett-republican-men-2-2-2/2027-03-22/
LOCATION:Freedom Place Church\, 4111 Main Street\, Rowlett\, TX\, 75088
END:VEVENT
BEGIN:VEVENT
DTSTART;TZID=UTC:20270426T180000
DTEND;TZID=UTC:20270426T200000
DTSTAMP:20260420T103414
CREATED:20240917T220055Z
LAST-MODIFIED:20240917T220056Z
UID:10000410-1808762400-1808769600@dallasgop.org
SUMMARY:Rowlett Republican Men
DESCRIPTION:Monthly Meeting. \n 
URL:https://dallasgop.org/event/rowlett-republican-men-2-2-2/2027-04-26/
LOCATION:Freedom Place Church\, 4111 Main Street\, Rowlett\, TX\, 75088
END:VEVENT
BEGIN:VEVENT
DTSTART;TZID=UTC:20270524T180000
DTEND;TZID=UTC:20270524T200000
DTSTAMP:20260420T103414
CREATED:20240917T220055Z
LAST-MODIFIED:20240917T220056Z
UID:10000411-1811181600-1811188800@dallasgop.org
SUMMARY:Rowlett Republican Men
DESCRIPTION:Monthly Meeting. \n 
URL:https://dallasgop.org/event/rowlett-republican-men-2-2-2/2027-05-24/
LOCATION:Freedom Place Church\, 4111 Main Street\, Rowlett\, TX\, 75088
END:VEVENT
BEGIN:VEVENT
DTSTART;TZID=UTC:20270628T180000
DTEND;TZID=UTC:20270628T200000
DTSTAMP:20260420T103414
CREATED:20240917T220055Z
LAST-MODIFIED:20240917T220056Z
UID:10000412-1814205600-1814212800@dallasgop.org
SUMMARY:Rowlett Republican Men
DESCRIPTION:Monthly Meeting. \n 
URL:https://dallasgop.org/event/rowlett-republican-men-2-2-2/2027-06-28/
LOCATION:Freedom Place Church\, 4111 Main Street\, Rowlett\, TX\, 75088
END:VEVENT
BEGIN:VEVENT
DTSTART;TZID=UTC:20270726T180000
DTEND;TZID=UTC:20270726T200000
DTSTAMP:20260420T103414
CREATED:20240917T220055Z
LAST-MODIFIED:20240917T220056Z
UID:10000413-1816624800-1816632000@dallasgop.org
SUMMARY:Rowlett Republican Men
DESCRIPTION:Monthly Meeting. \n 
URL:https://dallasgop.org/event/rowlett-republican-men-2-2-2/2027-07-26/
LOCATION:Freedom Place Church\, 4111 Main Street\, Rowlett\, TX\, 75088
END:VEVENT
BEGIN:VEVENT
DTSTART;TZID=UTC:20270823T180000
DTEND;TZID=UTC:20270823T200000
DTSTAMP:20260420T103414
CREATED:20240917T220055Z
LAST-MODIFIED:20240917T220056Z
UID:10000414-1819044000-1819051200@dallasgop.org
SUMMARY:Rowlett Republican Men
DESCRIPTION:Monthly Meeting. \n 
URL:https://dallasgop.org/event/rowlett-republican-men-2-2-2/2027-08-23/
LOCATION:Freedom Place Church\, 4111 Main Street\, Rowlett\, TX\, 75088
END:VEVENT
BEGIN:VEVENT
DTSTART;TZID=UTC:20270927T180000
DTEND;TZID=UTC:20270927T200000
DTSTAMP:20260420T103414
CREATED:20240917T220055Z
LAST-MODIFIED:20240917T220056Z
UID:10000415-1822068000-1822075200@dallasgop.org
SUMMARY:Rowlett Republican Men
DESCRIPTION:Monthly Meeting. \n 
URL:https://dallasgop.org/event/rowlett-republican-men-2-2-2/2027-09-27/
LOCATION:Freedom Place Church\, 4111 Main Street\, Rowlett\, TX\, 75088
END:VEVENT
BEGIN:VEVENT
DTSTART;TZID=UTC:20271025T180000
DTEND;TZID=UTC:20271025T200000
DTSTAMP:20260420T103414
CREATED:20240917T220055Z
LAST-MODIFIED:20240917T220056Z
UID:10000416-1824487200-1824494400@dallasgop.org
SUMMARY:Rowlett Republican Men
DESCRIPTION:Monthly Meeting. \n 
URL:https://dallasgop.org/event/rowlett-republican-men-2-2-2/2027-10-25/
LOCATION:Freedom Place Church\, 4111 Main Street\, Rowlett\, TX\, 75088
END:VEVENT
BEGIN:VEVENT
DTSTART;TZID=UTC:20271122T180000
DTEND;TZID=UTC:20271122T200000
DTSTAMP:20260420T103414
CREATED:20240917T220055Z
LAST-MODIFIED:20240917T220056Z
UID:10000417-1826906400-1826913600@dallasgop.org
SUMMARY:Rowlett Republican Men
DESCRIPTION:Monthly Meeting. \n 
URL:https://dallasgop.org/event/rowlett-republican-men-2-2-2/2027-11-22/
LOCATION:Freedom Place Church\, 4111 Main Street\, Rowlett\, TX\, 75088
END:VEVENT
BEGIN:VEVENT
DTSTART;TZID=UTC:20271227T180000
DTEND;TZID=UTC:20271227T200000
DTSTAMP:20260420T103414
CREATED:20240917T220055Z
LAST-MODIFIED:20240917T220056Z
UID:10000418-1829930400-1829937600@dallasgop.org
SUMMARY:Rowlett Republican Men
DESCRIPTION:Monthly Meeting. \n 
URL:https://dallasgop.org/event/rowlett-republican-men-2-2-2/2027-12-27/
LOCATION:Freedom Place Church\, 4111 Main Street\, Rowlett\, TX\, 75088
END:VEVENT
BEGIN:VEVENT
DTSTART;TZID=UTC:20280124T180000
DTEND;TZID=UTC:20280124T200000
DTSTAMP:20260420T103414
CREATED:20240917T220055Z
LAST-MODIFIED:20240917T220056Z
UID:10000419-1832349600-1832356800@dallasgop.org
SUMMARY:Rowlett Republican Men
DESCRIPTION:Monthly Meeting. \n 
URL:https://dallasgop.org/event/rowlett-republican-men-2-2-2/2028-01-24/
LOCATION:Freedom Place Church\, 4111 Main Street\, Rowlett\, TX\, 75088
END:VEVENT
BEGIN:VEVENT
DTSTART;TZID=UTC:20280228T180000
DTEND;TZID=UTC:20280228T200000
DTSTAMP:20260420T103414
CREATED:20240917T220055Z
LAST-MODIFIED:20240917T220056Z
UID:10000420-1835373600-1835380800@dallasgop.org
SUMMARY:Rowlett Republican Men
DESCRIPTION:Monthly Meeting. \n 
URL:https://dallasgop.org/event/rowlett-republican-men-2-2-2/2028-02-28/
LOCATION:Freedom Place Church\, 4111 Main Street\, Rowlett\, TX\, 75088
END:VEVENT
BEGIN:VEVENT
DTSTART;TZID=UTC:20280327T180000
DTEND;TZID=UTC:20280327T200000
DTSTAMP:20260420T103414
CREATED:20240917T220055Z
LAST-MODIFIED:20240917T220056Z
UID:10000421-1837792800-1837800000@dallasgop.org
SUMMARY:Rowlett Republican Men
DESCRIPTION:Monthly Meeting. \n 
URL:https://dallasgop.org/event/rowlett-republican-men-2-2-2/2028-03-27/
LOCATION:Freedom Place Church\, 4111 Main Street\, Rowlett\, TX\, 75088
END:VEVENT
BEGIN:VEVENT
DTSTART;TZID=UTC:20280424T180000
DTEND;TZID=UTC:20280424T200000
DTSTAMP:20260420T103414
CREATED:20240917T220055Z
LAST-MODIFIED:20240917T220056Z
UID:10000422-1840212000-1840219200@dallasgop.org
SUMMARY:Rowlett Republican Men
DESCRIPTION:Monthly Meeting. \n 
URL:https://dallasgop.org/event/rowlett-republican-men-2-2-2/2028-04-24/
LOCATION:Freedom Place Church\, 4111 Main Street\, Rowlett\, TX\, 75088
END:VEVENT
BEGIN:VEVENT
DTSTART;TZID=UTC:20280522T180000
DTEND;TZID=UTC:20280522T200000
DTSTAMP:20260420T103414
CREATED:20240917T220055Z
LAST-MODIFIED:20240917T220056Z
UID:10000423-1842631200-1842638400@dallasgop.org
SUMMARY:Rowlett Republican Men
DESCRIPTION:Monthly Meeting. \n 
URL:https://dallasgop.org/event/rowlett-republican-men-2-2-2/2028-05-22/
LOCATION:Freedom Place Church\, 4111 Main Street\, Rowlett\, TX\, 75088
END:VEVENT
BEGIN:VEVENT
DTSTART;TZID=UTC:20280626T180000
DTEND;TZID=UTC:20280626T200000
DTSTAMP:20260420T103414
CREATED:20240917T220055Z
LAST-MODIFIED:20240917T220056Z
UID:10000424-1845655200-1845662400@dallasgop.org
SUMMARY:Rowlett Republican Men
DESCRIPTION:Monthly Meeting. \n 
URL:https://dallasgop.org/event/rowlett-republican-men-2-2-2/2028-06-26/
LOCATION:Freedom Place Church\, 4111 Main Street\, Rowlett\, TX\, 75088
END:VEVENT
BEGIN:VEVENT
DTSTART;TZID=UTC:20280724T180000
DTEND;TZID=UTC:20280724T200000
DTSTAMP:20260420T103414
CREATED:20240917T220055Z
LAST-MODIFIED:20240917T220056Z
UID:10000425-1848074400-1848081600@dallasgop.org
SUMMARY:Rowlett Republican Men
DESCRIPTION:Monthly Meeting. \n 
URL:https://dallasgop.org/event/rowlett-republican-men-2-2-2/2028-07-24/
LOCATION:Freedom Place Church\, 4111 Main Street\, Rowlett\, TX\, 75088
END:VEVENT
BEGIN:VEVENT
DTSTART;TZID=UTC:20280828T180000
DTEND;TZID=UTC:20280828T200000
DTSTAMP:20260420T103414
CREATED:20240917T220055Z
LAST-MODIFIED:20240917T220056Z
UID:10000426-1851098400-1851105600@dallasgop.org
SUMMARY:Rowlett Republican Men
DESCRIPTION:Monthly Meeting. \n 
URL:https://dallasgop.org/event/rowlett-republican-men-2-2-2/2028-08-28/
LOCATION:Freedom Place Church\, 4111 Main Street\, Rowlett\, TX\, 75088
END:VEVENT
BEGIN:VEVENT
DTSTART;TZID=UTC:20280925T180000
DTEND;TZID=UTC:20280925T200000
DTSTAMP:20260420T103414
CREATED:20240917T220055Z
LAST-MODIFIED:20240917T220056Z
UID:10000427-1853517600-1853524800@dallasgop.org
SUMMARY:Rowlett Republican Men
DESCRIPTION:Monthly Meeting. \n 
URL:https://dallasgop.org/event/rowlett-republican-men-2-2-2/2028-09-25/
LOCATION:Freedom Place Church\, 4111 Main Street\, Rowlett\, TX\, 75088
END:VEVENT
END:VCALENDAR