BEGIN:VCALENDAR
VERSION:2.0
PRODID:-//Dallas County Republican Party - ECPv6.10.1//NONSGML v1.0//EN
CALSCALE:GREGORIAN
METHOD:PUBLISH
X-WR-CALNAME:Dallas County Republican Party
X-ORIGINAL-URL:https://dallasgop.org
X-WR-CALDESC:Events for Dallas County Republican Party
REFRESH-INTERVAL;VALUE=DURATION:PT1H
X-Robots-Tag:noindex
X-PUBLISHED-TTL:PT1H
BEGIN:VTIMEZONE
TZID:America/Chicago
BEGIN:DAYLIGHT
TZOFFSETFROM:-0600
TZOFFSETTO:-0500
TZNAME:CDT
DTSTART:20260308T080000
END:DAYLIGHT
BEGIN:STANDARD
TZOFFSETFROM:-0500
TZOFFSETTO:-0600
TZNAME:CST
DTSTART:20261101T070000
END:STANDARD
END:VTIMEZONE
BEGIN:VEVENT
DTSTART;TZID=America/Chicago:20260302T090000
DTEND;TZID=America/Chicago:20260302T210000
DTSTAMP:20260420T050726
CREATED:20260223T204528Z
LAST-MODIFIED:20260223T204528Z
UID:10004190-1772442000-1772485200@dallasgop.org
SUMMARY:LIVE Q&A and Townhalls with Abteen Vaziri
DESCRIPTION:LIVE Q&A and Townhalls\n\n​Monday March 2nd\n9:00am -9:00pm\n(Every hour on the hour for 15-20minutes)\n\n​**Tuesday March 3rd Election Day**\nTBD\n\nZoom Webinar LIVE\nWebinar ID: 899 6084 1830\n(Live Q&A submission and stream)\n\nYouTube LIVE\nhttps://www.youtube.com/channel/UC4PQhxxQcHCfqW1LFCKP_WA\n(Live stream only)\n\n*The same links will be used for all live streaming sessions. Join the Zoom link to ask questions directly.  To view the live-cast only (chat cannot be guaranteed)\, use the  links. Share links with voters in TXCD-32.\n\n***Times and durations of Abteen live streaming may be adjusted in real-time\, the link will still be live to join.
URL:https://dallasgop.org/event/live-qa-and-townhalls-with-abteen-vaziri-8/
ATTACH;FMTTYPE=image/jpeg:https://dallasgop.org/wp-content/uploads/2026/02/Abteen-Zoom-Waiting-Room-1.pdf_page-0001.jpg
END:VEVENT
BEGIN:VEVENT
DTSTART;TZID=America/Chicago:20260301T100000
DTEND;TZID=America/Chicago:20260301T180000
DTSTAMP:20260420T050726
CREATED:20260223T204414Z
LAST-MODIFIED:20260223T204414Z
UID:10004189-1772359200-1772388000@dallasgop.org
SUMMARY:LIVE Q&A and Townhalls with Abteen Vaziri
DESCRIPTION:LIVE Q&A and Townhalls\n\nSaturday Feb. 28th – Sunday March. 1st:\n10am\, 12pm\, 2pm\, 4pm\, 6pm\n(On each hour for 1.5 hours)\n\n​Monday March 2nd\n9:00am -9:00pm\n(Every hour on the hour for 15-20minutes)\n\n​**Tuesday March 3rd Election Day**\nTBD\n\nZoom Webinar LIVE\nWebinar ID: 899 6084 1830\n(Live Q&A submission and stream)\n\nYouTube LIVE\nhttps://www.youtube.com/channel/UC4PQhxxQcHCfqW1LFCKP_WA\n(Live stream only)\n\n*The same links will be used for all live streaming sessions. Join the Zoom link to ask questions directly.  To view the live-cast only (chat cannot be guaranteed)\, use the  links. Share links with voters in TXCD-32.\n\n***Times and durations of Abteen live streaming may be adjusted in real-time\, the link will still be live to join.
URL:https://dallasgop.org/event/live-qa-and-townhalls-with-abteen-vaziri-7/
ATTACH;FMTTYPE=image/jpeg:https://dallasgop.org/wp-content/uploads/2026/02/Abteen-Zoom-Waiting-Room-1.pdf_page-0001.jpg
END:VEVENT
BEGIN:VEVENT
DTSTART;TZID=America/Chicago:20260228T100000
DTEND;TZID=America/Chicago:20260228T180000
DTSTAMP:20260420T050726
CREATED:20260223T204304Z
LAST-MODIFIED:20260223T204304Z
UID:10004188-1772272800-1772301600@dallasgop.org
SUMMARY:LIVE Q&A and Townhalls with Abteen Vaziri
DESCRIPTION:LIVE Q&A and Townhalls\n\nSaturday Feb. 28th – Sunday March. 1st:\n10am\, 12pm\, 2pm\, 4pm\, 6pm\n(On each hour for 1.5 hours)\n\n​Monday March 2nd\n9:00am -9:00pm\n(Every hour on the hour for 15-20minutes)\n\n​**Tuesday March 3rd Election Day**\nTBD\n\nZoom Webinar LIVE\nWebinar ID: 899 6084 1830\n(Live Q&A submission and stream)\n\nYouTube LIVE\nhttps://www.youtube.com/channel/UC4PQhxxQcHCfqW1LFCKP_WA\n(Live stream only)\n\n*The same links will be used for all live streaming sessions. Join the Zoom link to ask questions directly.  To view the live-cast only (chat cannot be guaranteed)\, use the  links. Share links with voters in TXCD-32.\n\n***Times and durations of Abteen live streaming may be adjusted in real-time\, the link will still be live to join.
URL:https://dallasgop.org/event/live-qa-and-townhalls-with-abteen-vaziri-6/
ATTACH;FMTTYPE=image/jpeg:https://dallasgop.org/wp-content/uploads/2026/02/Abteen-Zoom-Waiting-Room-1.pdf_page-0001.jpg
END:VEVENT
BEGIN:VEVENT
DTSTART;TZID=America/Chicago:20260227T170000
DTEND;TZID=America/Chicago:20260227T200000
DTSTAMP:20260420T050726
CREATED:20260223T204155Z
LAST-MODIFIED:20260223T204155Z
UID:10004187-1772211600-1772222400@dallasgop.org
SUMMARY:LIVE Q&A and Townhalls with Abteen Vaziri
DESCRIPTION:LIVE Q&A and Townhalls\n\nMonday Feb. 23rd – Friday Feb. 27th:\n5pm\, 6pm\, 7pm\, 8pm\n(On each hour for 15-20 minutes)\n\nSaturday Feb. 28th – Sunday March. 1st:\n10am\, 12pm\, 2pm\, 4pm\, 6pm\n(On each hour for 1.5 hours)\n\n​Monday March 2nd\n9:00am -9:00pm\n(Every hour on the hour for 15-20minutes)\n\n​**Tuesday March 3rd Election Day**\nTBD\n\nZoom Webinar LIVE\nWebinar ID: 899 6084 1830\n(Live Q&A submission and stream)\n\nYouTube LIVE\nhttps://www.youtube.com/channel/UC4PQhxxQcHCfqW1LFCKP_WA\n(Live stream only)\n\n*The same links will be used for all live streaming sessions. Join the Zoom link to ask questions directly.  To view the live-cast only (chat cannot be guaranteed)\, use the  links. Share links with voters in TXCD-32.\n\n***Times and durations of Abteen live streaming may be adjusted in real-time\, the link will still be live to join.
URL:https://dallasgop.org/event/live-qa-and-townhalls-with-abteen-vaziri-5/
ATTACH;FMTTYPE=image/jpeg:https://dallasgop.org/wp-content/uploads/2026/02/Abteen-Zoom-Waiting-Room-1.pdf_page-0001.jpg
END:VEVENT
BEGIN:VEVENT
DTSTART;TZID=America/Chicago:20260226T170000
DTEND;TZID=America/Chicago:20260226T200000
DTSTAMP:20260420T050726
CREATED:20260223T204113Z
LAST-MODIFIED:20260223T204113Z
UID:10004186-1772125200-1772136000@dallasgop.org
SUMMARY:LIVE Q&A and Townhalls with Abteen Vaziri
DESCRIPTION:LIVE Q&A and Townhalls\n\nMonday Feb. 23rd – Friday Feb. 27th:\n5pm\, 6pm\, 7pm\, 8pm\n(On each hour for 15-20 minutes)\n\nSaturday Feb. 28th – Sunday March. 1st:\n10am\, 12pm\, 2pm\, 4pm\, 6pm\n(On each hour for 1.5 hours)\n\n​Monday March 2nd\n9:00am -9:00pm\n(Every hour on the hour for 15-20minutes)\n\n​**Tuesday March 3rd Election Day**\nTBD\n\nZoom Webinar LIVE\nWebinar ID: 899 6084 1830\n(Live Q&A submission and stream)\n\nYouTube LIVE\nhttps://www.youtube.com/channel/UC4PQhxxQcHCfqW1LFCKP_WA\n(Live stream only)\n\n*The same links will be used for all live streaming sessions. Join the Zoom link to ask questions directly.  To view the live-cast only (chat cannot be guaranteed)\, use the  links. Share links with voters in TXCD-32.\n\n***Times and durations of Abteen live streaming may be adjusted in real-time\, the link will still be live to join.
URL:https://dallasgop.org/event/live-qa-and-townhalls-with-abteen-vaziri-4/
ATTACH;FMTTYPE=image/jpeg:https://dallasgop.org/wp-content/uploads/2026/02/Abteen-Zoom-Waiting-Room-1.pdf_page-0001.jpg
END:VEVENT
BEGIN:VEVENT
DTSTART;TZID=America/Chicago:20260225T170000
DTEND;TZID=America/Chicago:20260225T200000
DTSTAMP:20260420T050726
CREATED:20260223T204039Z
LAST-MODIFIED:20260223T204039Z
UID:10004185-1772038800-1772049600@dallasgop.org
SUMMARY:LIVE Q&A and Townhalls with Abteen Vaziri
DESCRIPTION:LIVE Q&A and Townhalls\n\nMonday Feb. 23rd – Friday Feb. 27th:\n5pm\, 6pm\, 7pm\, 8pm\n(On each hour for 15-20 minutes)\n\nSaturday Feb. 28th – Sunday March. 1st:\n10am\, 12pm\, 2pm\, 4pm\, 6pm\n(On each hour for 1.5 hours)\n\n​Monday March 2nd\n9:00am -9:00pm\n(Every hour on the hour for 15-20minutes)\n\n​**Tuesday March 3rd Election Day**\nTBD\n\nZoom Webinar LIVE\nWebinar ID: 899 6084 1830\n(Live Q&A submission and stream)\n\nYouTube LIVE\nhttps://www.youtube.com/channel/UC4PQhxxQcHCfqW1LFCKP_WA\n(Live stream only)\n\n*The same links will be used for all live streaming sessions. Join the Zoom link to ask questions directly.  To view the live-cast only (chat cannot be guaranteed)\, use the  links. Share links with voters in TXCD-32.\n\n***Times and durations of Abteen live streaming may be adjusted in real-time\, the link will still be live to join.
URL:https://dallasgop.org/event/live-qa-and-townhalls-with-abteen-vaziri-3/
ATTACH;FMTTYPE=image/jpeg:https://dallasgop.org/wp-content/uploads/2026/02/Abteen-Zoom-Waiting-Room-1.pdf_page-0001.jpg
END:VEVENT
BEGIN:VEVENT
DTSTART;TZID=America/Chicago:20260224T170000
DTEND;TZID=America/Chicago:20260224T200000
DTSTAMP:20260420T050726
CREATED:20260223T203950Z
LAST-MODIFIED:20260223T203950Z
UID:10004184-1771952400-1771963200@dallasgop.org
SUMMARY:LIVE Q&A and Townhalls with Abteen Vaziri
DESCRIPTION:LIVE Q&A and Townhalls\n\nMonday Feb. 23rd – Friday Feb. 27th:\n5pm\, 6pm\, 7pm\, 8pm\n(On each hour for 15-20 minutes)\n\nSaturday Feb. 28th – Sunday March. 1st:\n10am\, 12pm\, 2pm\, 4pm\, 6pm\n(On each hour for 1.5 hours)\n\n​Monday March 2nd\n9:00am -9:00pm\n(Every hour on the hour for 15-20minutes)\n\n​**Tuesday March 3rd Election Day**\nTBD\n\nZoom Webinar LIVE\nWebinar ID: 899 6084 1830\n(Live Q&A submission and stream)\n\nYouTube LIVE\nhttps://www.youtube.com/channel/UC4PQhxxQcHCfqW1LFCKP_WA\n(Live stream only)\n\n*The same links will be used for all live streaming sessions. Join the Zoom link to ask questions directly.  To view the live-cast only (chat cannot be guaranteed)\, use the  links. Share links with voters in TXCD-32.\n\n***Times and durations of Abteen live streaming may be adjusted in real-time\, the link will still be live to join.
URL:https://dallasgop.org/event/live-qa-and-townhalls-with-abteen-vaziri-2/
ATTACH;FMTTYPE=image/jpeg:https://dallasgop.org/wp-content/uploads/2026/02/Abteen-Zoom-Waiting-Room-1.pdf_page-0001.jpg
END:VEVENT
BEGIN:VEVENT
DTSTART;TZID=America/Chicago:20260223T170000
DTEND;TZID=America/Chicago:20260223T200000
DTSTAMP:20260420T050726
CREATED:20260223T203739Z
LAST-MODIFIED:20260223T203739Z
UID:10004183-1771866000-1771876800@dallasgop.org
SUMMARY:LIVE Q&A and Townhalls with Abteen Vaziri
DESCRIPTION:LIVE Q&A and Townhalls\n\nMonday Feb. 23rd – Friday Feb. 27th:\n5pm\, 6pm\, 7pm\, 8pm\n(On each hour for 15-20 minutes)\n\nSaturday Feb. 28th – Sunday March. 1st:\n10am\, 12pm\, 2pm\, 4pm\, 6pm\n(On each hour for 1.5 hours)\n\n​Monday March 2nd\n9:00am -9:00pm\n(Every hour on the hour for 15-20minutes)\n\n​**Tuesday March 3rd Election Day**\nTBD\n\nZoom Webinar LIVE\nWebinar ID: 899 6084 1830\n(Live Q&A submission and stream)\n\nYouTube LIVE\nhttps://www.youtube.com/channel/UC4PQhxxQcHCfqW1LFCKP_WA\n(Live stream only)\n\n*The same links will be used for all live streaming sessions. Join the Zoom link to ask questions directly.  To view the live-cast only (chat cannot be guaranteed)\, use the  links. Share links with voters in TXCD-32.\n\n***Times and durations of Abteen live streaming may be adjusted in real-time\, the link will still be live to join.
URL:https://dallasgop.org/event/live-qa-and-townhalls-with-abteen-vaziri/
ATTACH;FMTTYPE=image/jpeg:https://dallasgop.org/wp-content/uploads/2026/02/Abteen-Zoom-Waiting-Room-1.pdf_page-0001.jpg
END:VEVENT
END:VCALENDAR