BEGIN:VCALENDAR
VERSION:2.0
PRODID:-//Dallas County Republican Party - ECPv6.10.1//NONSGML v1.0//EN
CALSCALE:GREGORIAN
METHOD:PUBLISH
X-ORIGINAL-URL:https://dallasgop.org
X-WR-CALDESC:Events for Dallas County Republican Party
REFRESH-INTERVAL;VALUE=DURATION:PT1H
X-Robots-Tag:noindex
X-PUBLISHED-TTL:PT1H
BEGIN:VTIMEZONE
TZID:America/Chicago
BEGIN:DAYLIGHT
TZOFFSETFROM:-0600
TZOFFSETTO:-0500
TZNAME:CDT
DTSTART:20240310T080000
END:DAYLIGHT
BEGIN:STANDARD
TZOFFSETFROM:-0500
TZOFFSETTO:-0600
TZNAME:CST
DTSTART:20241103T070000
END:STANDARD
BEGIN:DAYLIGHT
TZOFFSETFROM:-0600
TZOFFSETTO:-0500
TZNAME:CDT
DTSTART:20250309T080000
END:DAYLIGHT
BEGIN:STANDARD
TZOFFSETFROM:-0500
TZOFFSETTO:-0600
TZNAME:CST
DTSTART:20251102T070000
END:STANDARD
END:VTIMEZONE
BEGIN:VEVENT
DTSTART;TZID=America/Chicago:20250410T180000
DTEND;TZID=America/Chicago:20250410T200000
DTSTAMP:20260425T224033
CREATED:20250407T140305Z
LAST-MODIFIED:20250407T140306Z
UID:10001145-1744308000-1744315200@dallasgop.org
SUMMARY:True Texas Project Dallas County Monthly Meeting - Special Guest Terri Hall
DESCRIPTION:Motivating and Educating Dallas County people on being involved in their city\, schools\, county and state affairs.\nGuest Speaker for April: Terri Hall – founder of TURF (Texans Uniting for Reform & Freedom) – she will be telling us what we can be doing this legislative session in regards to the double taxation imposed on Texas drivers via toll roads. She will also talk about the “Biden kill switch” that’s mandated to go into all of our cars starting next year\, among other anti-car policies that threaten our travel freedom.
URL:https://dallasgop.org/event/true-texas-project-dallas-county-monthly-meeting-2/
LOCATION:Dallas County Republican Party HQ\, 11617 No. Central Expy\, Ste 240\, Dallas\, TX\, 75243
END:VEVENT
BEGIN:VEVENT
DTSTART;TZID=America/Chicago:20250410T130000
DTEND;TZID=America/Chicago:20250410T143000
DTSTAMP:20260425T224033
CREATED:20250317T205925Z
LAST-MODIFIED:20250319T202257Z
UID:10003106-1744290000-1744295400@dallasgop.org
SUMMARY:DCRP Thursdays Letter Writing - All hands on Deck! We Need You!
DESCRIPTION:DCRP Thursdays Letter Writing – EXTREMELY IMPORTANT!!!\nCome pitch in to get our candidates elected! Help turn our city around!
URL:https://dallasgop.org/event/dcrp-thursdays-letter-writing-all-hands-on-deck-we-need-you/2025-04-10/
LOCATION:Dallas County Republican Party HQ\, 11617 No. Central Expy\, Ste 240\, Dallas\, TX\, 75243
ATTACH;FMTTYPE=image/jpeg:https://dallasgop.org/wp-content/uploads/2025/03/IMG_3890.jpeg
END:VEVENT
BEGIN:VEVENT
DTSTART;TZID=America/Chicago:20250404T110000
DTEND;TZID=America/Chicago:20250404T120000
DTSTAMP:20260425T224033
CREATED:20250317T204420Z
LAST-MODIFIED:20250317T204601Z
UID:10003045-1743764400-1743768000@dallasgop.org
SUMMARY:Block Walk Training
DESCRIPTION:DCRP Fridays Block Walk Training – come make a difference!!!
URL:https://dallasgop.org/event/block-walk-training/2025-04-04/
LOCATION:Dallas County Republican Party HQ\, 11617 No. Central Expy\, Ste 240\, Dallas\, TX\, 75243
ATTACH;FMTTYPE=image/jpeg:https://dallasgop.org/wp-content/uploads/2025/03/IMG_2273-e1742415369728.jpeg
END:VEVENT
BEGIN:VEVENT
DTSTART;TZID=America/Chicago:20250403T130000
DTEND;TZID=America/Chicago:20250403T143000
DTSTAMP:20260425T224033
CREATED:20250317T205925Z
LAST-MODIFIED:20250319T202257Z
UID:10003105-1743685200-1743690600@dallasgop.org
SUMMARY:DCRP Thursdays Letter Writing - All hands on Deck! We Need You!
DESCRIPTION:DCRP Thursdays Letter Writing – EXTREMELY IMPORTANT!!!\nCome pitch in to get our candidates elected! Help turn our city around!
URL:https://dallasgop.org/event/dcrp-thursdays-letter-writing-all-hands-on-deck-we-need-you/2025-04-03/
LOCATION:Dallas County Republican Party HQ\, 11617 No. Central Expy\, Ste 240\, Dallas\, TX\, 75243
ATTACH;FMTTYPE=image/jpeg:https://dallasgop.org/wp-content/uploads/2025/03/IMG_3890.jpeg
END:VEVENT
BEGIN:VEVENT
DTSTART;TZID=America/Chicago:20250328T110000
DTEND;TZID=America/Chicago:20250328T120000
DTSTAMP:20260425T224033
CREATED:20250317T204420Z
LAST-MODIFIED:20250317T204601Z
UID:10003044-1743159600-1743163200@dallasgop.org
SUMMARY:Block Walk Training
DESCRIPTION:DCRP Fridays Block Walk Training – come make a difference!!!
URL:https://dallasgop.org/event/block-walk-training/2025-03-28/
LOCATION:Dallas County Republican Party HQ\, 11617 No. Central Expy\, Ste 240\, Dallas\, TX\, 75243
ATTACH;FMTTYPE=image/jpeg:https://dallasgop.org/wp-content/uploads/2025/03/IMG_2273-e1742415369728.jpeg
END:VEVENT
BEGIN:VEVENT
DTSTART;TZID=America/Chicago:20250327T130000
DTEND;TZID=America/Chicago:20250327T143000
DTSTAMP:20260425T224033
CREATED:20250317T205925Z
LAST-MODIFIED:20250319T202257Z
UID:10003104-1743080400-1743085800@dallasgop.org
SUMMARY:DCRP Thursdays Letter Writing - All hands on Deck! We Need You!
DESCRIPTION:DCRP Thursdays Letter Writing – EXTREMELY IMPORTANT!!!\nCome pitch in to get our candidates elected! Help turn our city around!
URL:https://dallasgop.org/event/dcrp-thursdays-letter-writing-all-hands-on-deck-we-need-you/2025-03-27/
LOCATION:Dallas County Republican Party HQ\, 11617 No. Central Expy\, Ste 240\, Dallas\, TX\, 75243
ATTACH;FMTTYPE=image/jpeg:https://dallasgop.org/wp-content/uploads/2025/03/IMG_3890.jpeg
END:VEVENT
BEGIN:VEVENT
DTSTART;TZID=America/Chicago:20250325T173000
DTEND;TZID=America/Chicago:20250325T190000
DTSTAMP:20260425T224033
CREATED:20250214T042517Z
LAST-MODIFIED:20250214T150115Z
UID:10001232-1742923800-1742929200@dallasgop.org
SUMMARY:New Precinct Chair Training
DESCRIPTION:For those new precinct chairs who have been sworn in and need a layout of the duties and resources available there is a New Precinct Chair Training available. Every 4th Tuesday of the month we will meet at the DCRP Headquarters in the large open area from 5:30-7:00pm. Bring your laptop if you have one\, or you may use your phone to look up resources we will discuss. This is a smaller training as it is just new chairs of less than 3 months. If you have questions please contact Deborah Arnett at 214-878-9803. It is ok to bring your block captain\, and/or vice chair. \nTo RSVP click here for the registration form. \n 
URL:https://dallasgop.org/event/new-precinct-chair-training-7/2025-03-25/
LOCATION:Dallas County Republican Party HQ\, 11617 No. Central Expy\, Ste 240\, Dallas\, TX\, 75243
END:VEVENT
BEGIN:VEVENT
DTSTART;TZID=America/Chicago:20250322T100000
DTEND;TZID=America/Chicago:20250322T120000
DTSTAMP:20260425T224033
CREATED:20250310T135906Z
LAST-MODIFIED:20250310T135906Z
UID:10003032-1742637600-1742644800@dallasgop.org
SUMMARY:Power Up Training - Effective Tactics to increase Voter Turnout
DESCRIPTION:Join our comprehensive training on how to use Canva to make informative and impactful flyers\, graphics and social media content to share information with voters. We will discuss effective tactics to increase voter turnout in the upcoming municipal and school board elections. \nTo RSVP click  here for the registration form.
URL:https://dallasgop.org/event/power-up-training-effective-tactics-to-increase-voter-turnout/
LOCATION:Dallas County Republican Party HQ\, 11617 No. Central Expy\, Ste 240\, Dallas\, TX\, 75243
ATTACH;FMTTYPE=image/jpeg:https://dallasgop.org/wp-content/uploads/2025/03/March-2025-Power-Up1.jpeg
END:VEVENT
BEGIN:VEVENT
DTSTART;TZID=America/Chicago:20250321T110000
DTEND;TZID=America/Chicago:20250321T120000
DTSTAMP:20260425T224033
CREATED:20250317T204420Z
LAST-MODIFIED:20250317T204601Z
UID:10003043-1742554800-1742558400@dallasgop.org
SUMMARY:Block Walk Training
DESCRIPTION:DCRP Fridays Block Walk Training – come make a difference!!!
URL:https://dallasgop.org/event/block-walk-training/2025-03-21/
LOCATION:Dallas County Republican Party HQ\, 11617 No. Central Expy\, Ste 240\, Dallas\, TX\, 75243
ATTACH;FMTTYPE=image/jpeg:https://dallasgop.org/wp-content/uploads/2025/03/IMG_2273-e1742415369728.jpeg
END:VEVENT
BEGIN:VEVENT
DTSTART;TZID=America/Chicago:20250320T130000
DTEND;TZID=America/Chicago:20250320T143000
DTSTAMP:20260425T224033
CREATED:20250317T205925Z
LAST-MODIFIED:20250319T202257Z
UID:10003103-1742475600-1742481000@dallasgop.org
SUMMARY:DCRP Thursdays Letter Writing - All hands on Deck! We Need You!
DESCRIPTION:DCRP Thursdays Letter Writing – EXTREMELY IMPORTANT!!!\nCome pitch in to get our candidates elected! Help turn our city around!
URL:https://dallasgop.org/event/dcrp-thursdays-letter-writing-all-hands-on-deck-we-need-you/2025-03-20/
LOCATION:Dallas County Republican Party HQ\, 11617 No. Central Expy\, Ste 240\, Dallas\, TX\, 75243
ATTACH;FMTTYPE=image/jpeg:https://dallasgop.org/wp-content/uploads/2025/03/IMG_3890.jpeg
END:VEVENT
BEGIN:VEVENT
DTSTART;TZID=America/Chicago:20250319T203000
DTEND;TZID=America/Chicago:20250319T220000
DTSTAMP:20260425T224033
CREATED:20250317T205154Z
LAST-MODIFIED:20250319T185920Z
UID:10003102-1742416200-1742421600@dallasgop.org
SUMMARY:DCRP Block Walk Training - Google Meet - Make a difference!!! (Updated)
DESCRIPTION:DCRP Block Walk Training – Google Meet – be engaged\, join us and make a difference!!!\nDCRP Training \nGoogle Meet joining info\nVideo call link: https://meet.google.com/kjm-nozh-gdb \nOr dial: (US) +1 209-730-7093 PIN: 676 779 671#\nMore phone numbers: https://tel.meet/kjm-nozh-gdb?pin=9192143306097
URL:https://dallasgop.org/event/dcrp-block-walk-training-google-meet-make-a-difference/
LOCATION:Google Meet (Link to be posted the 19th)
ATTACH;FMTTYPE=image/jpeg:https://dallasgop.org/wp-content/uploads/2025/03/IMG_3595-e1742415495581.jpeg
END:VEVENT
BEGIN:VEVENT
DTSTART;TZID=America/Chicago:20250303T183000
DTEND;TZID=America/Chicago:20250303T200000
DTSTAMP:20260425T224033
CREATED:20250221T194114Z
LAST-MODIFIED:20250303T150402Z
UID:10003019-1741026600-1741032000@dallasgop.org
SUMMARY:DCRP Election Oversight Committee
DESCRIPTION:DCRP committee update on election legislation.. We will review Nov 5 election documentation and develop a legislative action plan.
URL:https://dallasgop.org/event/dcrp-election-oversight-committee-march/
LOCATION:Dallas County Republican Party HQ\, 11617 No. Central Expy\, Ste 240\, Dallas\, TX\, 75243
ATTACH;FMTTYPE=image/jpeg:https://dallasgop.org/wp-content/uploads/2024/10/DCRP-Logo-600-x-400-px.jpg
END:VEVENT
BEGIN:VEVENT
DTSTART;TZID=America/Chicago:20250302T153000
DTEND;TZID=America/Chicago:20250302T173000
DTSTAMP:20260425T224033
CREATED:20250228T202248Z
LAST-MODIFIED:20250228T202248Z
UID:10003022-1740929400-1740936600@dallasgop.org
SUMMARY:South Dallas Candidate Meet and Greet
DESCRIPTION:Come meet — and support — the candidates of South Dallas. Learn about their campaign races and why they are running.
URL:https://dallasgop.org/event/south-dallas-candidate-meet-and-greet/
LOCATION:Wheatland Dental Care\, 3940 W Wheatland Rd\, Dallas\, TX\, 75237
ATTACH;FMTTYPE=image/jpeg:https://dallasgop.org/wp-content/uploads/2025/02/Southern-Sector-of-Dallas.jpeg
END:VEVENT
BEGIN:VEVENT
DTSTART;TZID=America/Chicago:20250227T180000
DTEND;TZID=America/Chicago:20250227T210000
DTSTAMP:20260425T224033
CREATED:20250212T175756Z
LAST-MODIFIED:20250213T165850Z
UID:10002217-1740679200-1740690000@dallasgop.org
SUMMARY:Fall in Love With Dallas Social Mixer
DESCRIPTION:Our February social mixer is all about local municipal elections\, and why they are so important for the future of Dallas! \nCrime and homelessness are at an all-time high\, yet our Dallas County Representatives are distracted from the issues and disconnected from the voters. That’s why Dallas needs your vote for the right candidates. \nCome Fall in love with Dallas\, mingle with like-minded individuals\, meet your local candidates\, learn about the issues\, and help get out the vote! \nLet’s enjoy wonderful food & cocktails. In honor of Valentine’s Day wear your best red or pink! RSVP at the link below!
URL:https://dallasgop.org/event/fall-in-love-with-dallas-social-mixer/
LOCATION:5100 Belt Line Rd\, Suite 540\, 5100 Belt Line Rd\, Suite 540\, Addison\, TX\, 75254
ATTACH;FMTTYPE=image/jpeg:https://dallasgop.org/wp-content/uploads/2025/02/Social-Mixer-Feb.jpg
END:VEVENT
BEGIN:VEVENT
DTSTART;TZID=America/Chicago:20250225T173000
DTEND;TZID=America/Chicago:20250225T190000
DTSTAMP:20260425T224033
CREATED:20250214T042517Z
LAST-MODIFIED:20250214T150115Z
UID:10001231-1740504600-1740510000@dallasgop.org
SUMMARY:New Precinct Chair Training
DESCRIPTION:For those new precinct chairs who have been sworn in and need a layout of the duties and resources available there is a New Precinct Chair Training available. Every 4th Tuesday of the month we will meet at the DCRP Headquarters in the large open area from 5:30-7:00pm. Bring your laptop if you have one\, or you may use your phone to look up resources we will discuss. This is a smaller training as it is just new chairs of less than 3 months. If you have questions please contact Deborah Arnett at 214-878-9803. It is ok to bring your block captain\, and/or vice chair. \nTo RSVP click here for the registration form. \n 
URL:https://dallasgop.org/event/new-precinct-chair-training-7/2025-02-25/
LOCATION:Dallas County Republican Party HQ\, 11617 No. Central Expy\, Ste 240\, Dallas\, TX\, 75243
END:VEVENT
BEGIN:VEVENT
DTSTART;TZID=America/Chicago:20250221T100000
DTEND;TZID=America/Chicago:20250221T110000
DTSTAMP:20260425T224033
CREATED:20250213T162910Z
LAST-MODIFIED:20260212T225031Z
UID:10002221-1740132000-1740135600@dallasgop.org
SUMMARY:Power Hour Training
DESCRIPTION:A Better Dallas and the Dallas County Republican Party present an hour long zoom training. Starting with the GOP Data Portal and Bonfire and moving to other digital platforms you may find one that works best for your precinct. We will also discuss the texting platform\, Project Broadcast. \nTo RSVP click  here for the registration form.
URL:https://dallasgop.org/event/power-hour-trainings-zoom-digital-tools-for-a-successful-campaign/
LOCATION:DCRP Headquarters\, 11617 N. Central Expy Suite 240\, Dallas\, Texas
ATTACH;FMTTYPE=image/png:https://dallasgop.org/wp-content/uploads/2025/02/Feb-21.png
ORGANIZER;CN="A Better Dallas":MAILTO:tami@abetterdallas.com
END:VEVENT
BEGIN:VEVENT
DTSTART;TZID=America/Chicago:20250217T180000
DTEND;TZID=America/Chicago:20250217T200000
DTSTAMP:20260425T224033
CREATED:20250214T212045Z
LAST-MODIFIED:20250214T213426Z
UID:10003013-1739815200-1739822400@dallasgop.org
SUMMARY:DCRP February CEC Meeting
DESCRIPTION:Precinct Chairs will sit up front\, and guests will sit in the back\, or along the side of the room. Sergeant-at-Arms will assist. \nCEC Agenda: \n1. Invocation/pledges\n2. Call to order\n3. Guest\n4. Approval of minutes\n5. Swear in new chairs\n6. Chairman remarks\n7. Officer reports\n8. Committee reports: Resolutions\n9. New business\n10. Announcements\n11. Adjournment \nMinutes and proposed resolutions have been sent to Precinct Chairs. Please review them in advance.
URL:https://dallasgop.org/event/february-2025-cec-meeting/
LOCATION:Storehouse Church\, 4319 Alpha Rd.\, Dallas\, TX\, 75244
ATTACH;FMTTYPE=image/jpeg:https://dallasgop.org/wp-content/uploads/2024/10/DCRP-Logo-600-x-400-px.jpg
END:VEVENT
BEGIN:VEVENT
DTSTART;TZID=America/Chicago:20250215T100000
DTEND;TZID=America/Chicago:20250215T120000
DTSTAMP:20260425T224033
CREATED:20250113T182204Z
LAST-MODIFIED:20250214T041129Z
UID:10002151-1739613600-1739620800@dallasgop.org
SUMMARY:Power Up Training - Municipal and School Board Elections
DESCRIPTION:Dallas County Republican Party and A Better Dallas invite you to attend a training on Saturday\, February 15\, at 10:00am. Join our comprehensive training on the upcoming municipal and school board elections. We will discuss the opportunities to support candidates and the key issues of the elections to empower campaigns\, volunteers and voters with the knowledge and skills needed to effectively engage and win local elections in May. \nTo RSVP click  here for the registration form.
URL:https://dallasgop.org/event/power-up-training-municipal-and-school-board-elections/
LOCATION:Dallas County Republican Party HQ\, 11617 No. Central Expy\, Ste 240\, Dallas\, TX\, 75243
ATTACH;FMTTYPE=image/png:https://dallasgop.org/wp-content/uploads/2025/01/2025-training-3.png
ORGANIZER;CN="A Better Dallas":MAILTO:tami@abetterdallas.com
END:VEVENT
BEGIN:VEVENT
DTSTART;TZID=America/Chicago:20250213T180000
DTEND;TZID=America/Chicago:20250213T200000
DTSTAMP:20260425T224033
CREATED:20241002T182332Z
LAST-MODIFIED:20241002T182332Z
UID:10001143-1739469600-1739476800@dallasgop.org
SUMMARY:True Texas Project Dallas County Monthly Meeting
DESCRIPTION:Motivating and Educating Dallas County people on being involved in their city\, schools\, county and state affairs.
URL:https://dallasgop.org/event/true-texas-project-dallas-county-monthly-meeting/2025-02-13/
LOCATION:Dallas County Republican Party HQ\, 11617 No. Central Expy\, Ste 240\, Dallas\, TX\, 75243
END:VEVENT
BEGIN:VEVENT
DTSTART;TZID=America/Chicago:20250128T173000
DTEND;TZID=America/Chicago:20250128T190000
DTSTAMP:20260425T224033
CREATED:20241018T060335Z
LAST-MODIFIED:20250214T151925Z
UID:10001230-1738085400-1738090800@dallasgop.org
SUMMARY:New Precinct Chair Training
DESCRIPTION:For those new precinct chairs who have been sworn in and need a layout of the duties and resources available there is a New Precinct Chair Training available. Every 4th Tuesday of the month we will meet at the DCRP Headquarters in the large open area from 5:30-7:00pm. Bring your laptop if you have one\, or you may use your phone to look up resources we will discuss. This is a smaller training as it is just new chairs of less than 3 months. If you have questions please contact Deborah Arnett at 214-878-9803. It is ok to bring your block captain\, and/or vice chair. \nTo RSVP click here for the registration form. \n 
URL:https://dallasgop.org/event/new-precinct-chair-training/
LOCATION:Dallas County Republican Party HQ\, 11617 No. Central Expy\, Ste 240\, Dallas\, TX\, 75243
END:VEVENT
BEGIN:VEVENT
DTSTART;TZID=America/Chicago:20250127T180000
DTEND;TZID=America/Chicago:20250127T200000
DTSTAMP:20260425T224033
CREATED:20250101T192134Z
LAST-MODIFIED:20250109T051400Z
UID:10002140-1738000800-1738008000@dallasgop.org
SUMMARY:January County Executive Committee (CEC) Meeting
DESCRIPTION:Location: \nCommunion Coffee\n514 Lockwood Dr\nRichardson\, TX 75080 \nDate: Monday\, January 27\, 2025 \nRegistration at 6pm\nMeeting starts promptly at 6:30pm \nNOTE: Precinct Chairs will sit up front\, and guests will sit in the back\, or along the side of the room. Sergeant-at-Arms will assist. \nCEC Agenda: \n1. Invocation/pledges\n2. Candidate speeches\n3. Call to order\n4. Approval of minutes\n5. Swear in new chairs\n6. Chairman remarks\n6a. Recognitions\n7. Officer reports\n8. Committee reports: Resolutions\n9. New business\n10. Announcements\n11. Adjournment
URL:https://dallasgop.org/event/cec-meeting-250127/
LOCATION:Communion Neighborhood Cooperative (Communion Coffee)\, 514 Lockwood Dr\, Richardson\, TX\, 75080
ATTACH;FMTTYPE=image/png:https://dallasgop.org/wp-content/uploads/2024/08/Screenshot-2024-08-07-124619.png
END:VEVENT
BEGIN:VEVENT
DTSTART;TZID=America/Chicago:20250125T100000
DTEND;TZID=America/Chicago:20250125T120000
DTSTAMP:20260425T224033
CREATED:20250113T175258Z
LAST-MODIFIED:20250113T183658Z
UID:10002150-1737799200-1737806400@dallasgop.org
SUMMARY:Power Up Training - Legislative Priorities
DESCRIPTION:Dallas County Republican Party and A Better Dallas invite you to attend a training on Saturday\, January 25 at 10:00am at the DCRP Headquarters. Learn about the GOP Legislative Priorities and how to effectively advocate for legislation with your elected representatives. We’ll discuss navigating the legislative process and drafting persuasive messages. Attendees will leave with actionable tools and a personalized plan to drive meaningful legislative change.
URL:https://dallasgop.org/event/power-up-training-for-election-workers-legislative-priorities/
LOCATION:Dallas County Republican Party HQ\, 11617 No. Central Expy\, Ste 240\, Dallas\, TX\, 75243
ATTACH;FMTTYPE=image/png:https://dallasgop.org/wp-content/uploads/2025/01/2025-1-2.png
ORGANIZER;CN="A Better Dallas":MAILTO:tami@abetterdallas.com
END:VEVENT
BEGIN:VEVENT
DTSTART;TZID=America/Chicago:20250123T180000
DTEND;TZID=America/Chicago:20250123T203000
DTSTAMP:20260425T224033
CREATED:20250111T002741Z
LAST-MODIFIED:20250111T003107Z
UID:10002149-1737655200-1737664200@dallasgop.org
SUMMARY:"The Goal is to Win" - Training Session
DESCRIPTION:The Goal is to WIN!\nExclusive Training Class \nDon’t miss this exciting opportunity to learn directly from Brett Rogers\, the author of the game-changing book The Goal is to Win. This training session is tailored for candidates\, volunteers\, precinct chairs\, grassroots supporters\, and anyone eager to make a real impact in their community. \nIn this session\, you’ll gain powerful strategies and insights to help you succeed in the mission. Whether you’re new to the political landscape or a seasoned advocate\, there’s valuable knowledge for everyone! Let’s unite\, take action\, and strike while the iron is hot which is NOW!  \n***Please RSVP at: info@Dallasgop.org \nto make sure we have enough seating and materials.  \nWe look forward to seeing you there!\nLet’s do this!! ♥️🇺🇸🦅
URL:https://dallasgop.org/event/the-goal-is-to-win-training-session/
LOCATION:Dallas County Republican Party HQ\, 11617 No. Central Expy\, Ste 240\, Dallas\, TX\, 75243
ATTACH;FMTTYPE=image/png:https://dallasgop.org/wp-content/uploads/2025/01/cover.png
END:VEVENT
BEGIN:VEVENT
DTSTART;TZID=America/Chicago:20250116T183000
DTEND;TZID=America/Chicago:20250116T203000
DTSTAMP:20260425T224033
CREATED:20250106T130409Z
LAST-MODIFIED:20250109T144809Z
UID:10002143-1737052200-1737059400@dallasgop.org
SUMMARY:Sholden Daniels for Congress Campaign Kickoff (Rescheduled)
DESCRIPTION:Be part of the movement as we officially kick off the campaign to bring real leadership and bold ideas to Texas’ 30th Congressional District! Enjoy great food\, engaging conversations\, and an inspiring message from Sholdon Daniels about the future of TX-30.\nThis is your chance to meet Sholdon\, share your vision for our community\, and join a growing team of neighbors working toward a brighter tomorrow. Together\, we’ll build a stronger district that empowers families\, supports small businesses\, and puts our values into action.
URL:https://dallasgop.org/event/sholden-daniels-for-congress-campaign-kickoff/
LOCATION:City Tavern\, 1514 Elm St.\, Dallas\, TX\, 75201
ATTACH;FMTTYPE=image/jpeg:https://dallasgop.org/wp-content/uploads/2025/01/Untitled-design-e1736192977372.jpg
END:VEVENT
BEGIN:VEVENT
DTSTART;TZID=America/Chicago:20250116T180000
DTEND;TZID=America/Chicago:20250116T210000
DTSTAMP:20260425T224033
CREATED:20241213T185842Z
LAST-MODIFIED:20241217T233535Z
UID:10002136-1737050400-1737061200@dallasgop.org
SUMMARY:DCRP Social Mixer
DESCRIPTION:Spend the evening with local Dallas residents who want to learn how they can make a difference in local policy\, safety and accountability. But best of all\, learn who to call or contact when you have an issue with your local officials. Get your tickets at the link!
URL:https://dallasgop.org/event/dcrp-social-mixer/
LOCATION:Dallas County Republican Party HQ\, 11617 No. Central Expy\, Ste 240\, Dallas\, TX\, 75243
ATTACH;FMTTYPE=image/jpeg:https://dallasgop.org/wp-content/uploads/2024/12/Pol.Adv_.Paid-for-by-the-Dallas-County-Republican-Party.jpeg
END:VEVENT
BEGIN:VEVENT
DTSTART;TZID=America/Chicago:20250114T050000
DTEND;TZID=America/Chicago:20250114T210000
DTSTAMP:20260425T224033
CREATED:20241217T232241Z
LAST-MODIFIED:20241217T232717Z
UID:10002137-1736830800-1736888400@dallasgop.org
SUMMARY:89th #TXLege Opening Day - Austin Bus Tour
DESCRIPTION:Join us as we travel to Austin for the Opening Day of the 89th Legislative Session! Meet your legislators and let them know you want committees chaired by principled conservative Republicans! Get your tickets today! \nThe cost includes round-trip fare\, with one rest break each way. Optional event T-shirts are not included in the ticket price\, and must be purchased from the third-party vendor in time to receive for event. Click here to order. Otherwise\, please wear a RED shirt! \nDallas pickup/drop-off point is listed on payment receipts. \nIMPORTANT NOTES: Tickets are NON-REFUNDABLE! If you are unable to make it\, please consider donating the seats to our scholarship fund for those who want to go but cannot due to cost. Ticket price does not include food or beverage. Riders are responsible for getting to the bus on time (Please see Dallas pickup and drop-off locations on your payment receipt). The Dallas County Republican Party assumes no liability or responsibility for injury\, loss\, or damage to persons or property\, inconvenience\, delay\, or expense related to the bus trip.
URL:https://dallasgop.org/event/89th-txlege-opening-day-austin-bus-tour/
ATTACH;FMTTYPE=image/jpeg:https://dallasgop.org/wp-content/uploads/2024/12/BDC-TXlege.jpg
END:VEVENT
BEGIN:VEVENT
DTSTART;TZID=America/Chicago:20250109T180000
DTEND;TZID=America/Chicago:20250109T200000
DTSTAMP:20260425T224033
CREATED:20241002T182332Z
LAST-MODIFIED:20241002T182332Z
UID:10001142-1736445600-1736452800@dallasgop.org
SUMMARY:True Texas Project Dallas County Monthly Meeting
DESCRIPTION:Motivating and Educating Dallas County people on being involved in their city\, schools\, county and state affairs.
URL:https://dallasgop.org/event/true-texas-project-dallas-county-monthly-meeting/2025-01-09/
LOCATION:Dallas County Republican Party HQ\, 11617 No. Central Expy\, Ste 240\, Dallas\, TX\, 75243
END:VEVENT
BEGIN:VEVENT
DTSTART;TZID=America/Chicago:20241205T180000
DTEND;TZID=America/Chicago:20241205T210000
DTSTAMP:20260425T224033
CREATED:20241018T073745Z
LAST-MODIFIED:20241201T211713Z
UID:10001293-1733421600-1733432400@dallasgop.org
SUMMARY:[SOLD OUT!] Christmas Celebration of Freedom
DESCRIPTION:Dallas County Republican Party Christmas Celebration of Freedom with Special Guest Tom Homan\, Former Trump Ice Director and Newly Appointed Border Czar. UPDATE: This event is now SOLD OUT!
URL:https://dallasgop.org/event/christmas-celebration-of-freedom/
LOCATION:Royal Oaks Country Club\, 7915 Greenville Avenue\, Dallas\, TX\, 75231
ATTACH;FMTTYPE=image/jpeg:https://dallasgop.org/wp-content/uploads/2024/10/EVENT-IS-SOLD-OUT.jpg
END:VEVENT
BEGIN:VEVENT
DTSTART;TZID=America/Chicago:20241202T183000
DTEND;TZID=America/Chicago:20241202T200000
DTSTAMP:20260425T224033
CREATED:20241118T181308Z
LAST-MODIFIED:20241118T181308Z
UID:10001981-1733164200-1733169600@dallasgop.org
SUMMARY:Election Oversight Committee
DESCRIPTION:Committee will review data collected during early voting and election day and develop an action plan as to best move forward.
URL:https://dallasgop.org/event/election-oversight-committee-2/
LOCATION:Dallas County Republican Party HQ\, 11617 No. Central Expy\, Ste 240\, Dallas\, TX\, 75243
END:VEVENT
BEGIN:VEVENT
DTSTART;TZID=America/Chicago:20241126T173000
DTEND;TZID=America/Chicago:20241126T190000
DTSTAMP:20260425T224033
CREATED:20241018T061037Z
LAST-MODIFIED:20241018T061038Z
UID:10001229-1732642200-1732647600@dallasgop.org
SUMMARY:New Precinct Chair Training
DESCRIPTION:For those new precinct chairs who have been sworn in and need a layout of the duties and resources available there is a New Precinct Chair Training available. Every 4th Tuesday of the month (not December) we will meet at the DCRP Headquarters in the large open area from 5:30-7:00pm. Bring your laptop if you have one\, or you may use your phone to look up resources we will discuss. This is a smaller training as it is just new chairs of less than 3 months. If you have questions please contact Deborah Arnett at 214-878-9803. It is ok to bring your block captain\, and/or vice chair.
URL:https://dallasgop.org/event/new-precinct-chair-training-6/
LOCATION:Dallas County Republican Party HQ\, 11617 No. Central Expy\, Ste 240\, Dallas\, TX\, 75243
END:VEVENT
END:VCALENDAR