BEGIN:VCALENDAR
VERSION:2.0
PRODID:-//Dallas County Republican Party - ECPv6.10.1//NONSGML v1.0//EN
CALSCALE:GREGORIAN
METHOD:PUBLISH
X-ORIGINAL-URL:https://dallasgop.org
X-WR-CALDESC:Events for Dallas County Republican Party
REFRESH-INTERVAL;VALUE=DURATION:PT1H
X-Robots-Tag:noindex
X-PUBLISHED-TTL:PT1H
BEGIN:VTIMEZONE
TZID:America/Chicago
BEGIN:DAYLIGHT
TZOFFSETFROM:-0600
TZOFFSETTO:-0500
TZNAME:CDT
DTSTART:20240310T080000
END:DAYLIGHT
BEGIN:STANDARD
TZOFFSETFROM:-0500
TZOFFSETTO:-0600
TZNAME:CST
DTSTART:20241103T070000
END:STANDARD
BEGIN:DAYLIGHT
TZOFFSETFROM:-0600
TZOFFSETTO:-0500
TZNAME:CDT
DTSTART:20250309T080000
END:DAYLIGHT
BEGIN:STANDARD
TZOFFSETFROM:-0500
TZOFFSETTO:-0600
TZNAME:CST
DTSTART:20251102T070000
END:STANDARD
BEGIN:DAYLIGHT
TZOFFSETFROM:-0600
TZOFFSETTO:-0500
TZNAME:CDT
DTSTART:20260308T080000
END:DAYLIGHT
BEGIN:STANDARD
TZOFFSETFROM:-0500
TZOFFSETTO:-0600
TZNAME:CST
DTSTART:20261101T070000
END:STANDARD
END:VTIMEZONE
BEGIN:VEVENT
DTSTART;TZID=America/Chicago:20260204T120000
DTEND;TZID=America/Chicago:20260204T140000
DTSTAMP:20260424T140253
CREATED:20260129T161803Z
LAST-MODIFIED:20260129T161803Z
UID:10004104-1770206400-1770213600@dallasgop.org
SUMMARY:Lunch-n-Learn with Mayes Middleton for Attorney General
DESCRIPTION:Join your True Texas Project Dallas friends for a Lunch-N-Learn with State Senator Mayes Middleton\, candidate for Texas Attorney General. Come be a truly informed voter before you head to the polls! \nWednesday\, Feb 4\n12-2pm\nSpring Creek Barbeque\, 270 N Central Expressway\, Richardson TX 75080
URL:https://dallasgop.org/event/lunch-n-learn-with-mayes-middleton-for-attorney-general/
LOCATION:Spring Creek BBQ-Richardson\, 270 N Central Expressway\, Richardson\, TX\, 75080
END:VEVENT
BEGIN:VEVENT
DTSTART;TZID=America/Chicago:20251211T183000
DTEND;TZID=America/Chicago:20251211T200000
DTSTAMP:20260424T140253
CREATED:20250512T201937Z
LAST-MODIFIED:20250724T223845Z
UID:10003481-1765477800-1765483200@dallasgop.org
SUMMARY:True Texas Project Dallas County Monthly Meeting
DESCRIPTION:Motivating and Educating Dallas County people on being involved in their city\, schools\, county and state affairs.
URL:https://dallasgop.org/event/true-texas-project-dallas-county-monthly-meeting-4/2025-12-11/
LOCATION:Dallas County Republican Party HQ\, 11617 No. Central Expy\, Ste 240\, Dallas\, TX\, 75243
END:VEVENT
BEGIN:VEVENT
DTSTART;TZID=America/Chicago:20251113T183000
DTEND;TZID=America/Chicago:20251113T200000
DTSTAMP:20260424T140253
CREATED:20250512T201937Z
LAST-MODIFIED:20250724T223845Z
UID:10003480-1763058600-1763064000@dallasgop.org
SUMMARY:True Texas Project Dallas County Monthly Meeting
DESCRIPTION:Motivating and Educating Dallas County people on being involved in their city\, schools\, county and state affairs.
URL:https://dallasgop.org/event/true-texas-project-dallas-county-monthly-meeting-4/2025-11-13/
LOCATION:Dallas County Republican Party HQ\, 11617 No. Central Expy\, Ste 240\, Dallas\, TX\, 75243
END:VEVENT
BEGIN:VEVENT
DTSTART;TZID=America/Chicago:20251018T120000
DTEND;TZID=America/Chicago:20251018T130000
DTSTAMP:20260424T140253
CREATED:20251011T170802Z
LAST-MODIFIED:20251011T170802Z
UID:10003909-1760788800-1760792400@dallasgop.org
SUMMARY:Lunch & Learn with Ajua Mason
DESCRIPTION:Lunch and Learn about getting Republican candidates and getting them elected with our talented Ajua Mason. Grab a sack lunch and come the DCRP headquarters.
URL:https://dallasgop.org/event/lunch-learn-with-ajua-mason/
LOCATION:DCRP Headquarters\, 11617 N. Central Expy Suite 240\, Dallas\, Texas
ATTACH;FMTTYPE=image/jpeg:https://dallasgop.org/wp-content/uploads/2025/10/10.18-DCRP.jpg
END:VEVENT
BEGIN:VEVENT
DTSTART;TZID=America/Chicago:20251009T183000
DTEND;TZID=America/Chicago:20251009T200000
DTSTAMP:20260424T140253
CREATED:20251008T132616Z
LAST-MODIFIED:20251008T132616Z
UID:10003479-1760034600-1760040000@dallasgop.org
SUMMARY:True Texas Project Dallas County Monthly Meeting
DESCRIPTION:Motivating and Educating Dallas County people on being involved in their city\, schools\, county and state affairs.
URL:https://dallasgop.org/event/true-texas-project-dallas-county-monthly-meeting-6/
LOCATION:Dallas County Republican Party HQ\, 11617 No. Central Expy\, Ste 240\, Dallas\, TX\, 75243
END:VEVENT
BEGIN:VEVENT
DTSTART;TZID=America/Chicago:20250911T183000
DTEND;TZID=America/Chicago:20250911T200000
DTSTAMP:20260424T140253
CREATED:20250512T201937Z
LAST-MODIFIED:20250724T223845Z
UID:10003478-1757615400-1757620800@dallasgop.org
SUMMARY:True Texas Project Dallas County Monthly Meeting
DESCRIPTION:Motivating and Educating Dallas County people on being involved in their city\, schools\, county and state affairs.
URL:https://dallasgop.org/event/true-texas-project-dallas-county-monthly-meeting-4/2025-09-11/
LOCATION:Dallas County Republican Party HQ\, 11617 No. Central Expy\, Ste 240\, Dallas\, TX\, 75243
END:VEVENT
BEGIN:VEVENT
DTSTART;TZID=America/Chicago:20250710T183000
DTEND;TZID=America/Chicago:20250710T200000
DTSTAMP:20260424T140253
CREATED:20250708T184915Z
LAST-MODIFIED:20250708T184917Z
UID:10003476-1752172200-1752177600@dallasgop.org
SUMMARY:True Texas Project Dallas County - Thursday\, July 10\, 2025
DESCRIPTION:Speaker is Mike Noriega\, Chief of Outreach for Glenn Beck’s American Journey Experience\, in this capacity\, he works to inspire future leaders and safe guard America’s history! Mike will be bringing artifacts & material\, don’t miss out – come view them & hear Mike’s inspiring talk on what makes America Exceptional! \nMotivating and Educating Dallas County people on being involved in their city\, schools\, county and state affairs.
URL:https://dallasgop.org/event/true-texas-project-dallas-county-monthly-meeting-4-2/
LOCATION:Dallas County Republican Party HQ\, 11617 No. Central Expy\, Ste 240\, Dallas\, TX\, 75243
END:VEVENT
BEGIN:VEVENT
DTSTART;TZID=America/Chicago:20250612T183000
DTEND;TZID=America/Chicago:20250612T200000
DTSTAMP:20260424T140253
CREATED:20250602T184327Z
LAST-MODIFIED:20250602T184716Z
UID:10001147-1749753000-1749758400@dallasgop.org
SUMMARY:True Texas Project Dallas County - Thursday\, June 12\, 2025
DESCRIPTION:Meeting – 6:30-8:00 pm – Speaker\, Rhonda Miller topic is “The Global Agenda for Education” she is the CEO of Purple for Parents United (formerly Purple for Parents of Indiana). As an independent researcher\, Rhonda has spent the last 13 years uncovering the truth of what was and is happening in American education. Her battles have taken her to the Indiana and Texas Capitols to testify before both the House and Senate Committees. She worked with legislators to finally overturn Indiana’s loophole that allowed our schools to legally distribute pornography as well as the defunding of the Kinsey Institute. Rhonda’s call to action inspires Americans across the country to get involved at the local level and begin pushing back against the enemy’s forces.
URL:https://dallasgop.org/event/true-texas-project-dallas-county-monthly-meeting-5/
LOCATION:Dallas County Republican Party HQ\, 11617 No. Central Expy\, Ste 240\, Dallas\, TX\, 75243
ATTACH;FMTTYPE=image/jpeg:https://dallasgop.org/wp-content/uploads/2025/06/June-2025-mtg-graphic-2.jpg
END:VEVENT
BEGIN:VEVENT
DTSTART;TZID=America/Chicago:20250508T183000
DTEND;TZID=America/Chicago:20250508T200000
DTSTAMP:20260424T140253
CREATED:20250505T150907Z
LAST-MODIFIED:20250512T181450Z
UID:10001146-1746729000-1746734400@dallasgop.org
SUMMARY:True Texas Project Dallas County - May 8\, 2025
DESCRIPTION:May monthly meeting speaker – Chris Woolsey – “Protesting your Property Appraisal” \, Chris Woolsey serves on the Corsicana City Council and works as a commercial real estate advisor and property tax consultant. Join us to hear him talk about how to protest your property appraisal as well as how you can affect your property tax bill at the local level.
URL:https://dallasgop.org/event/true-texas-project-dallas-county-monthly-meeting-3/
LOCATION:Dallas County Republican Party HQ\, 11617 No. Central Expy\, Ste 240\, Dallas\, TX\, 75243
ATTACH;FMTTYPE=image/jpeg:https://dallasgop.org/wp-content/uploads/2025/05/IMG_5630.jpg
END:VEVENT
BEGIN:VEVENT
DTSTART;TZID=America/Chicago:20250410T180000
DTEND;TZID=America/Chicago:20250410T200000
DTSTAMP:20260424T140253
CREATED:20250407T140305Z
LAST-MODIFIED:20250407T140306Z
UID:10001145-1744308000-1744315200@dallasgop.org
SUMMARY:True Texas Project Dallas County Monthly Meeting - Special Guest Terri Hall
DESCRIPTION:Motivating and Educating Dallas County people on being involved in their city\, schools\, county and state affairs.\nGuest Speaker for April: Terri Hall – founder of TURF (Texans Uniting for Reform & Freedom) – she will be telling us what we can be doing this legislative session in regards to the double taxation imposed on Texas drivers via toll roads. She will also talk about the “Biden kill switch” that’s mandated to go into all of our cars starting next year\, among other anti-car policies that threaten our travel freedom.
URL:https://dallasgop.org/event/true-texas-project-dallas-county-monthly-meeting-2/
LOCATION:Dallas County Republican Party HQ\, 11617 No. Central Expy\, Ste 240\, Dallas\, TX\, 75243
END:VEVENT
BEGIN:VEVENT
DTSTART;TZID=America/Chicago:20250213T180000
DTEND;TZID=America/Chicago:20250213T200000
DTSTAMP:20260424T140253
CREATED:20241002T182332Z
LAST-MODIFIED:20241002T182332Z
UID:10001143-1739469600-1739476800@dallasgop.org
SUMMARY:True Texas Project Dallas County Monthly Meeting
DESCRIPTION:Motivating and Educating Dallas County people on being involved in their city\, schools\, county and state affairs.
URL:https://dallasgop.org/event/true-texas-project-dallas-county-monthly-meeting/2025-02-13/
LOCATION:Dallas County Republican Party HQ\, 11617 No. Central Expy\, Ste 240\, Dallas\, TX\, 75243
END:VEVENT
BEGIN:VEVENT
DTSTART;TZID=America/Chicago:20250109T180000
DTEND;TZID=America/Chicago:20250109T200000
DTSTAMP:20260424T140253
CREATED:20241002T182332Z
LAST-MODIFIED:20241002T182332Z
UID:10001142-1736445600-1736452800@dallasgop.org
SUMMARY:True Texas Project Dallas County Monthly Meeting
DESCRIPTION:Motivating and Educating Dallas County people on being involved in their city\, schools\, county and state affairs.
URL:https://dallasgop.org/event/true-texas-project-dallas-county-monthly-meeting/2025-01-09/
LOCATION:Dallas County Republican Party HQ\, 11617 No. Central Expy\, Ste 240\, Dallas\, TX\, 75243
END:VEVENT
BEGIN:VEVENT
DTSTART;TZID=America/Chicago:20240808T183000
DTEND;TZID=America/Chicago:20240808T200000
DTSTAMP:20260424T140253
CREATED:20240729T194940Z
LAST-MODIFIED:20240729T194940Z
UID:10000570-1723141800-1723147200@dallasgop.org
SUMMARY:True Texas Project: Letter to the American Church
DESCRIPTION:Join us at the True Texas Project this month as we view the new film adaptation of the best-selling book\, “Letter to the American Church” written by Eric Metaxas. The film lays out the parallels between early 1930’s Nazi Germany and other totalitarian regimes with what i s happening in America today and how the church has been mostly silent facing this evil. Eric and several leading conservative voices of today\, explain how cultural Marxism has taken over America\, including the church. This film is a wake up call to the church to stand up and speak out against the evil that is manifesting in our country.
URL:https://dallasgop.org/event/true-texas-project-letter-to-the-american-church/
LOCATION:University Park Public Library\, 8383 Preston Center Plaza #200\, Dallas\, TX\, 75225
ATTACH;FMTTYPE=image/png:https://dallasgop.org/wp-content/uploads/2024/07/Screenshot-2024-07-29-144403.png
END:VEVENT
END:VCALENDAR