BEGIN:VCALENDAR
VERSION:2.0
PRODID:-//Dallas County Republican Party - ECPv6.10.1//NONSGML v1.0//EN
CALSCALE:GREGORIAN
METHOD:PUBLISH
X-ORIGINAL-URL:https://dallasgop.org
X-WR-CALDESC:Events for Dallas County Republican Party
REFRESH-INTERVAL;VALUE=DURATION:PT1H
X-Robots-Tag:noindex
X-PUBLISHED-TTL:PT1H
BEGIN:VTIMEZONE
TZID:UTC
BEGIN:STANDARD
TZOFFSETFROM:+0000
TZOFFSETTO:+0000
TZNAME:UTC
DTSTART:20260101T000000
END:STANDARD
TZID:America/Chicago
BEGIN:DAYLIGHT
TZOFFSETFROM:-0600
TZOFFSETTO:-0500
TZNAME:CDT
DTSTART:20260308T080000
END:DAYLIGHT
BEGIN:STANDARD
TZOFFSETFROM:-0500
TZOFFSETTO:-0600
TZNAME:CST
DTSTART:20261101T070000
END:STANDARD
BEGIN:DAYLIGHT
TZOFFSETFROM:-0600
TZOFFSETTO:-0500
TZNAME:CDT
DTSTART:20270314T080000
END:DAYLIGHT
BEGIN:STANDARD
TZOFFSETFROM:-0500
TZOFFSETTO:-0600
TZNAME:CST
DTSTART:20271107T070000
END:STANDARD
END:VTIMEZONE
BEGIN:VEVENT
DTSTART;TZID=UTC:20260427T180000
DTEND;TZID=UTC:20260427T200000
DTSTAMP:20260423T060910
CREATED:20240917T220055Z
LAST-MODIFIED:20240917T220056Z
UID:10000398-1777312800-1777320000@dallasgop.org
SUMMARY:Rowlett Republican Men
DESCRIPTION:Monthly Meeting. \n 
URL:https://dallasgop.org/event/rowlett-republican-men-2-2-2/2026-04-27/
LOCATION:Freedom Place Church\, 4111 Main Street\, Rowlett\, TX\, 75088
END:VEVENT
BEGIN:VEVENT
DTSTART;TZID=America/Chicago:20260427T180000
DTEND;TZID=America/Chicago:20260427T200000
DTSTAMP:20260423T060910
CREATED:20260324T195454Z
LAST-MODIFIED:20260324T195619Z
UID:10004230-1777312800-1777320000@dallasgop.org
SUMMARY:Rowlett Republican Men's Club April Meeting
DESCRIPTION: Special Guest This Month: Abraham George\n\nChairman of the Republican Party of Texas\nJoin the Rowlett Republican Men’s Club for an exciting evening with Abraham George\, Chairman of the Republican Party of Texas. \nAbraham will be sharing timely insights on the future of our party\, grassroots activism and key details about the upcoming Republican Party of Texas Convention. This will be a great opportunity to hear what’s ahead\, connect with fellow conservatives\, and enjoy an\nevening of fellowship and conversation. \n\n Monday\, April 27th 6:00 PM – 8:00 PM Freedom Place Church\nBring a friend and invite others who care about the future of Texas! \n Stay informed. Stay engaged.
URL:https://dallasgop.org/event/rowlett-republican-mens-club-april-meeting/
LOCATION:Freedom Place Church\, 4111 Main Street\, Rowlett\, TX\, 75088
ATTACH;FMTTYPE=image/jpeg:https://dallasgop.org/wp-content/uploads/2026/03/RRM-April.jpg
ORGANIZER;CN="Rowlett Republican Men's Club":MAILTO:rowlettgopmen@gmail.com
END:VEVENT
BEGIN:VEVENT
DTSTART;TZID=America/Chicago:20260507T183000
DTEND;TZID=America/Chicago:20260507T200000
DTSTAMP:20260423T060910
CREATED:20260422T144142Z
LAST-MODIFIED:20260422T144211Z
UID:10004111-1778178600-1778184000@dallasgop.org
SUMMARY:Rowlett Area Republican Women's Club
DESCRIPTION:Come join us for our monthly meeting!
URL:https://dallasgop.org/event/rowlett-area-republican-womens-club-5/
LOCATION:Freedom Place Church\, 4111 Main Street\, Rowlett\, TX\, 75088
ATTACH;FMTTYPE=image/jpeg:https://dallasgop.org/wp-content/uploads/2026/02/RARWC-May.jpg
END:VEVENT
BEGIN:VEVENT
DTSTART;TZID=UTC:20260525T180000
DTEND;TZID=UTC:20260525T200000
DTSTAMP:20260423T060910
CREATED:20240917T220055Z
LAST-MODIFIED:20240917T220056Z
UID:10000399-1779732000-1779739200@dallasgop.org
SUMMARY:Rowlett Republican Men
DESCRIPTION:Monthly Meeting. \n 
URL:https://dallasgop.org/event/rowlett-republican-men-2-2-2/2026-05-25/
LOCATION:Freedom Place Church\, 4111 Main Street\, Rowlett\, TX\, 75088
END:VEVENT
BEGIN:VEVENT
DTSTART;TZID=America/Chicago:20260604T183000
DTEND;TZID=America/Chicago:20260604T200000
DTSTAMP:20260423T060910
CREATED:20260202T194229Z
LAST-MODIFIED:20260202T194229Z
UID:10004112-1780597800-1780603200@dallasgop.org
SUMMARY:Rowlett Area Republican Women's Club
DESCRIPTION:Come join us for our monthly meeting!
URL:https://dallasgop.org/event/rowlett-area-republican-womens-club-4/2026-06-04/
LOCATION:Freedom Place Church\, 4111 Main Street\, Rowlett\, TX\, 75088
ATTACH;FMTTYPE=image/jpeg:https://dallasgop.org/wp-content/uploads/2024/07/RRWC-LOGO.jpeg
END:VEVENT
BEGIN:VEVENT
DTSTART;TZID=America/Chicago:20260608T183000
DTEND;TZID=America/Chicago:20260608T200000
DTSTAMP:20260423T060910
CREATED:20251202T202001Z
LAST-MODIFIED:20251202T202104Z
UID:10000519-1780943400-1780948800@dallasgop.org
SUMMARY:Rowlett Area Republican Women's Club
DESCRIPTION:Come join us for our monthly meeting! \n*Note – there is no July meeting\, but we will resume in August.
URL:https://dallasgop.org/event/rowlett-area-republican-womens-club-3/
LOCATION:Freedom Place Church\, 4111 Main Street\, Rowlett\, TX\, 75088
ATTACH;FMTTYPE=image/jpeg:https://dallasgop.org/wp-content/uploads/2024/07/RRWC-LOGO.jpeg
END:VEVENT
BEGIN:VEVENT
DTSTART;TZID=UTC:20260622T180000
DTEND;TZID=UTC:20260622T200000
DTSTAMP:20260423T060910
CREATED:20240917T220055Z
LAST-MODIFIED:20240917T220056Z
UID:10000400-1782151200-1782158400@dallasgop.org
SUMMARY:Rowlett Republican Men
DESCRIPTION:Monthly Meeting. \n 
URL:https://dallasgop.org/event/rowlett-republican-men-2-2-2/2026-06-22/
LOCATION:Freedom Place Church\, 4111 Main Street\, Rowlett\, TX\, 75088
END:VEVENT
BEGIN:VEVENT
DTSTART;TZID=America/Chicago:20260702T183000
DTEND;TZID=America/Chicago:20260702T200000
DTSTAMP:20260423T060910
CREATED:20260202T194229Z
LAST-MODIFIED:20260202T194229Z
UID:10004113-1783017000-1783022400@dallasgop.org
SUMMARY:Rowlett Area Republican Women's Club
DESCRIPTION:Come join us for our monthly meeting!
URL:https://dallasgop.org/event/rowlett-area-republican-womens-club-4/2026-07-02/
LOCATION:Freedom Place Church\, 4111 Main Street\, Rowlett\, TX\, 75088
ATTACH;FMTTYPE=image/jpeg:https://dallasgop.org/wp-content/uploads/2024/07/RRWC-LOGO.jpeg
END:VEVENT
BEGIN:VEVENT
DTSTART;TZID=UTC:20260727T180000
DTEND;TZID=UTC:20260727T200000
DTSTAMP:20260423T060910
CREATED:20240917T220055Z
LAST-MODIFIED:20240917T220056Z
UID:10000401-1785175200-1785182400@dallasgop.org
SUMMARY:Rowlett Republican Men
DESCRIPTION:Monthly Meeting. \n 
URL:https://dallasgop.org/event/rowlett-republican-men-2-2-2/2026-07-27/
LOCATION:Freedom Place Church\, 4111 Main Street\, Rowlett\, TX\, 75088
END:VEVENT
BEGIN:VEVENT
DTSTART;TZID=America/Chicago:20260806T183000
DTEND;TZID=America/Chicago:20260806T200000
DTSTAMP:20260423T060910
CREATED:20260202T194229Z
LAST-MODIFIED:20260202T194229Z
UID:10004114-1786041000-1786046400@dallasgop.org
SUMMARY:Rowlett Area Republican Women's Club
DESCRIPTION:Come join us for our monthly meeting!
URL:https://dallasgop.org/event/rowlett-area-republican-womens-club-4/2026-08-06/
LOCATION:Freedom Place Church\, 4111 Main Street\, Rowlett\, TX\, 75088
ATTACH;FMTTYPE=image/jpeg:https://dallasgop.org/wp-content/uploads/2024/07/RRWC-LOGO.jpeg
END:VEVENT
BEGIN:VEVENT
DTSTART;TZID=UTC:20260824T180000
DTEND;TZID=UTC:20260824T200000
DTSTAMP:20260423T060910
CREATED:20240917T220055Z
LAST-MODIFIED:20240917T220056Z
UID:10000402-1787594400-1787601600@dallasgop.org
SUMMARY:Rowlett Republican Men
DESCRIPTION:Monthly Meeting. \n 
URL:https://dallasgop.org/event/rowlett-republican-men-2-2-2/2026-08-24/
LOCATION:Freedom Place Church\, 4111 Main Street\, Rowlett\, TX\, 75088
END:VEVENT
BEGIN:VEVENT
DTSTART;TZID=America/Chicago:20260903T183000
DTEND;TZID=America/Chicago:20260903T200000
DTSTAMP:20260423T060910
CREATED:20260202T194229Z
LAST-MODIFIED:20260202T194229Z
UID:10004115-1788460200-1788465600@dallasgop.org
SUMMARY:Rowlett Area Republican Women's Club
DESCRIPTION:Come join us for our monthly meeting!
URL:https://dallasgop.org/event/rowlett-area-republican-womens-club-4/2026-09-03/
LOCATION:Freedom Place Church\, 4111 Main Street\, Rowlett\, TX\, 75088
ATTACH;FMTTYPE=image/jpeg:https://dallasgop.org/wp-content/uploads/2024/07/RRWC-LOGO.jpeg
END:VEVENT
BEGIN:VEVENT
DTSTART;TZID=UTC:20260928T180000
DTEND;TZID=UTC:20260928T200000
DTSTAMP:20260423T060910
CREATED:20240917T220055Z
LAST-MODIFIED:20240917T220056Z
UID:10000403-1790618400-1790625600@dallasgop.org
SUMMARY:Rowlett Republican Men
DESCRIPTION:Monthly Meeting. \n 
URL:https://dallasgop.org/event/rowlett-republican-men-2-2-2/2026-09-28/
LOCATION:Freedom Place Church\, 4111 Main Street\, Rowlett\, TX\, 75088
END:VEVENT
BEGIN:VEVENT
DTSTART;TZID=America/Chicago:20261001T183000
DTEND;TZID=America/Chicago:20261001T200000
DTSTAMP:20260423T060910
CREATED:20260202T194229Z
LAST-MODIFIED:20260202T194229Z
UID:10004116-1790879400-1790884800@dallasgop.org
SUMMARY:Rowlett Area Republican Women's Club
DESCRIPTION:Come join us for our monthly meeting!
URL:https://dallasgop.org/event/rowlett-area-republican-womens-club-4/2026-10-01/
LOCATION:Freedom Place Church\, 4111 Main Street\, Rowlett\, TX\, 75088
ATTACH;FMTTYPE=image/jpeg:https://dallasgop.org/wp-content/uploads/2024/07/RRWC-LOGO.jpeg
END:VEVENT
BEGIN:VEVENT
DTSTART;TZID=UTC:20261026T180000
DTEND;TZID=UTC:20261026T200000
DTSTAMP:20260423T060910
CREATED:20240917T220055Z
LAST-MODIFIED:20240917T220056Z
UID:10000404-1793037600-1793044800@dallasgop.org
SUMMARY:Rowlett Republican Men
DESCRIPTION:Monthly Meeting. \n 
URL:https://dallasgop.org/event/rowlett-republican-men-2-2-2/2026-10-26/
LOCATION:Freedom Place Church\, 4111 Main Street\, Rowlett\, TX\, 75088
END:VEVENT
BEGIN:VEVENT
DTSTART;TZID=America/Chicago:20261105T183000
DTEND;TZID=America/Chicago:20261105T200000
DTSTAMP:20260423T060910
CREATED:20260202T194229Z
LAST-MODIFIED:20260202T194229Z
UID:10004117-1793903400-1793908800@dallasgop.org
SUMMARY:Rowlett Area Republican Women's Club
DESCRIPTION:Come join us for our monthly meeting!
URL:https://dallasgop.org/event/rowlett-area-republican-womens-club-4/2026-11-05/
LOCATION:Freedom Place Church\, 4111 Main Street\, Rowlett\, TX\, 75088
ATTACH;FMTTYPE=image/jpeg:https://dallasgop.org/wp-content/uploads/2024/07/RRWC-LOGO.jpeg
END:VEVENT
BEGIN:VEVENT
DTSTART;TZID=UTC:20261123T180000
DTEND;TZID=UTC:20261123T200000
DTSTAMP:20260423T060910
CREATED:20240917T220055Z
LAST-MODIFIED:20240917T220056Z
UID:10000405-1795456800-1795464000@dallasgop.org
SUMMARY:Rowlett Republican Men
DESCRIPTION:Monthly Meeting. \n 
URL:https://dallasgop.org/event/rowlett-republican-men-2-2-2/2026-11-23/
LOCATION:Freedom Place Church\, 4111 Main Street\, Rowlett\, TX\, 75088
END:VEVENT
BEGIN:VEVENT
DTSTART;TZID=America/Chicago:20261203T183000
DTEND;TZID=America/Chicago:20261203T200000
DTSTAMP:20260423T060910
CREATED:20260202T194229Z
LAST-MODIFIED:20260202T194229Z
UID:10004118-1796322600-1796328000@dallasgop.org
SUMMARY:Rowlett Area Republican Women's Club
DESCRIPTION:Come join us for our monthly meeting!
URL:https://dallasgop.org/event/rowlett-area-republican-womens-club-4/2026-12-03/
LOCATION:Freedom Place Church\, 4111 Main Street\, Rowlett\, TX\, 75088
ATTACH;FMTTYPE=image/jpeg:https://dallasgop.org/wp-content/uploads/2024/07/RRWC-LOGO.jpeg
END:VEVENT
BEGIN:VEVENT
DTSTART;TZID=UTC:20261228T180000
DTEND;TZID=UTC:20261228T200000
DTSTAMP:20260423T060910
CREATED:20240917T220055Z
LAST-MODIFIED:20240917T220056Z
UID:10000406-1798480800-1798488000@dallasgop.org
SUMMARY:Rowlett Republican Men
DESCRIPTION:Monthly Meeting. \n 
URL:https://dallasgop.org/event/rowlett-republican-men-2-2-2/2026-12-28/
LOCATION:Freedom Place Church\, 4111 Main Street\, Rowlett\, TX\, 75088
END:VEVENT
BEGIN:VEVENT
DTSTART;TZID=America/Chicago:20270107T183000
DTEND;TZID=America/Chicago:20270107T200000
DTSTAMP:20260423T060910
CREATED:20260202T194229Z
LAST-MODIFIED:20260202T194229Z
UID:10004119-1799346600-1799352000@dallasgop.org
SUMMARY:Rowlett Area Republican Women's Club
DESCRIPTION:Come join us for our monthly meeting!
URL:https://dallasgop.org/event/rowlett-area-republican-womens-club-4/2027-01-07/
LOCATION:Freedom Place Church\, 4111 Main Street\, Rowlett\, TX\, 75088
ATTACH;FMTTYPE=image/jpeg:https://dallasgop.org/wp-content/uploads/2024/07/RRWC-LOGO.jpeg
END:VEVENT
BEGIN:VEVENT
DTSTART;TZID=UTC:20270125T180000
DTEND;TZID=UTC:20270125T200000
DTSTAMP:20260423T060910
CREATED:20240917T220055Z
LAST-MODIFIED:20240917T220056Z
UID:10000407-1800900000-1800907200@dallasgop.org
SUMMARY:Rowlett Republican Men
DESCRIPTION:Monthly Meeting. \n 
URL:https://dallasgop.org/event/rowlett-republican-men-2-2-2/2027-01-25/
LOCATION:Freedom Place Church\, 4111 Main Street\, Rowlett\, TX\, 75088
END:VEVENT
BEGIN:VEVENT
DTSTART;TZID=America/Chicago:20270204T183000
DTEND;TZID=America/Chicago:20270204T200000
DTSTAMP:20260423T060910
CREATED:20260202T194229Z
LAST-MODIFIED:20260202T194229Z
UID:10004120-1801765800-1801771200@dallasgop.org
SUMMARY:Rowlett Area Republican Women's Club
DESCRIPTION:Come join us for our monthly meeting!
URL:https://dallasgop.org/event/rowlett-area-republican-womens-club-4/2027-02-04/
LOCATION:Freedom Place Church\, 4111 Main Street\, Rowlett\, TX\, 75088
ATTACH;FMTTYPE=image/jpeg:https://dallasgop.org/wp-content/uploads/2024/07/RRWC-LOGO.jpeg
END:VEVENT
BEGIN:VEVENT
DTSTART;TZID=UTC:20270222T180000
DTEND;TZID=UTC:20270222T200000
DTSTAMP:20260423T060910
CREATED:20240917T220055Z
LAST-MODIFIED:20240917T220056Z
UID:10000408-1803319200-1803326400@dallasgop.org
SUMMARY:Rowlett Republican Men
DESCRIPTION:Monthly Meeting. \n 
URL:https://dallasgop.org/event/rowlett-republican-men-2-2-2/2027-02-22/
LOCATION:Freedom Place Church\, 4111 Main Street\, Rowlett\, TX\, 75088
END:VEVENT
BEGIN:VEVENT
DTSTART;TZID=America/Chicago:20270304T183000
DTEND;TZID=America/Chicago:20270304T200000
DTSTAMP:20260423T060910
CREATED:20260202T194229Z
LAST-MODIFIED:20260202T194229Z
UID:10004121-1804185000-1804190400@dallasgop.org
SUMMARY:Rowlett Area Republican Women's Club
DESCRIPTION:Come join us for our monthly meeting!
URL:https://dallasgop.org/event/rowlett-area-republican-womens-club-4/2027-03-04/
LOCATION:Freedom Place Church\, 4111 Main Street\, Rowlett\, TX\, 75088
ATTACH;FMTTYPE=image/jpeg:https://dallasgop.org/wp-content/uploads/2024/07/RRWC-LOGO.jpeg
END:VEVENT
BEGIN:VEVENT
DTSTART;TZID=UTC:20270322T180000
DTEND;TZID=UTC:20270322T200000
DTSTAMP:20260423T060910
CREATED:20240917T220055Z
LAST-MODIFIED:20240917T220056Z
UID:10000409-1805738400-1805745600@dallasgop.org
SUMMARY:Rowlett Republican Men
DESCRIPTION:Monthly Meeting. \n 
URL:https://dallasgop.org/event/rowlett-republican-men-2-2-2/2027-03-22/
LOCATION:Freedom Place Church\, 4111 Main Street\, Rowlett\, TX\, 75088
END:VEVENT
BEGIN:VEVENT
DTSTART;TZID=America/Chicago:20270401T183000
DTEND;TZID=America/Chicago:20270401T200000
DTSTAMP:20260423T060910
CREATED:20260202T194229Z
LAST-MODIFIED:20260202T194229Z
UID:10004122-1806604200-1806609600@dallasgop.org
SUMMARY:Rowlett Area Republican Women's Club
DESCRIPTION:Come join us for our monthly meeting!
URL:https://dallasgop.org/event/rowlett-area-republican-womens-club-4/2027-04-01/
LOCATION:Freedom Place Church\, 4111 Main Street\, Rowlett\, TX\, 75088
ATTACH;FMTTYPE=image/jpeg:https://dallasgop.org/wp-content/uploads/2024/07/RRWC-LOGO.jpeg
END:VEVENT
BEGIN:VEVENT
DTSTART;TZID=UTC:20270426T180000
DTEND;TZID=UTC:20270426T200000
DTSTAMP:20260423T060910
CREATED:20240917T220055Z
LAST-MODIFIED:20240917T220056Z
UID:10000410-1808762400-1808769600@dallasgop.org
SUMMARY:Rowlett Republican Men
DESCRIPTION:Monthly Meeting. \n 
URL:https://dallasgop.org/event/rowlett-republican-men-2-2-2/2027-04-26/
LOCATION:Freedom Place Church\, 4111 Main Street\, Rowlett\, TX\, 75088
END:VEVENT
BEGIN:VEVENT
DTSTART;TZID=America/Chicago:20270506T183000
DTEND;TZID=America/Chicago:20270506T200000
DTSTAMP:20260423T060910
CREATED:20260202T194229Z
LAST-MODIFIED:20260202T194229Z
UID:10004123-1809628200-1809633600@dallasgop.org
SUMMARY:Rowlett Area Republican Women's Club
DESCRIPTION:Come join us for our monthly meeting!
URL:https://dallasgop.org/event/rowlett-area-republican-womens-club-4/2027-05-06/
LOCATION:Freedom Place Church\, 4111 Main Street\, Rowlett\, TX\, 75088
ATTACH;FMTTYPE=image/jpeg:https://dallasgop.org/wp-content/uploads/2024/07/RRWC-LOGO.jpeg
END:VEVENT
BEGIN:VEVENT
DTSTART;TZID=UTC:20270524T180000
DTEND;TZID=UTC:20270524T200000
DTSTAMP:20260423T060910
CREATED:20240917T220055Z
LAST-MODIFIED:20240917T220056Z
UID:10000411-1811181600-1811188800@dallasgop.org
SUMMARY:Rowlett Republican Men
DESCRIPTION:Monthly Meeting. \n 
URL:https://dallasgop.org/event/rowlett-republican-men-2-2-2/2027-05-24/
LOCATION:Freedom Place Church\, 4111 Main Street\, Rowlett\, TX\, 75088
END:VEVENT
BEGIN:VEVENT
DTSTART;TZID=America/Chicago:20270603T183000
DTEND;TZID=America/Chicago:20270603T200000
DTSTAMP:20260423T060910
CREATED:20260202T194229Z
LAST-MODIFIED:20260202T194229Z
UID:10004124-1812047400-1812052800@dallasgop.org
SUMMARY:Rowlett Area Republican Women's Club
DESCRIPTION:Come join us for our monthly meeting!
URL:https://dallasgop.org/event/rowlett-area-republican-womens-club-4/2027-06-03/
LOCATION:Freedom Place Church\, 4111 Main Street\, Rowlett\, TX\, 75088
ATTACH;FMTTYPE=image/jpeg:https://dallasgop.org/wp-content/uploads/2024/07/RRWC-LOGO.jpeg
END:VEVENT
END:VCALENDAR