BEGIN:VCALENDAR
VERSION:2.0
PRODID:-//Dallas County Republican Party - ECPv6.10.1//NONSGML v1.0//EN
CALSCALE:GREGORIAN
METHOD:PUBLISH
X-ORIGINAL-URL:https://dallasgop.org
X-WR-CALDESC:Events for Dallas County Republican Party
REFRESH-INTERVAL;VALUE=DURATION:PT1H
X-Robots-Tag:noindex
X-PUBLISHED-TTL:PT1H
BEGIN:VTIMEZONE
TZID:America/Chicago
BEGIN:DAYLIGHT
TZOFFSETFROM:-0600
TZOFFSETTO:-0500
TZNAME:CDT
DTSTART:20250309T080000
END:DAYLIGHT
BEGIN:STANDARD
TZOFFSETFROM:-0500
TZOFFSETTO:-0600
TZNAME:CST
DTSTART:20251102T070000
END:STANDARD
END:VTIMEZONE
BEGIN:VEVENT
DTSTART;TZID=America/Chicago:20250618T120000
DTEND;TZID=America/Chicago:20250618T133000
DTSTAMP:20260422T112407
CREATED:20250616T142754Z
LAST-MODIFIED:20250616T161632Z
UID:10003813-1750248000-1750253400@dallasgop.org
SUMMARY:Texas Values' Collin & Denton County Legislative Update & Benefit Lunch
DESCRIPTION:We hope you can join us for this informative and engaging lunch event next Wednesday\, June 18 at Salt Grass Steak House from 12:00 noon – 1:30 p.m. featuring Keynote Speaker Senator Angela Paxton. Joining Senator Paxton will be Representative Candy Noble and Texas Values President & Attorney Jonathan Saenz. We will be sharing timely updates from the 2025 (89th) Legislative Session which concluded last week. \nCome hear all about the important bills passed this session that are now headed to the Governor’s desk for signing into law!\nDiscover which key issues still need our attention to further protect faith\, family\, and freedom in Texas!\n*PLEASE RSVP* > Click Here
URL:https://dallasgop.org/event/texas-values-collin-denton-county-legislative-update-benefit-lunch/
LOCATION:Salt Grass Steakhouse – The Colony\, 5899 TX-121\, The Colony\, TX\, 75056
ATTACH;FMTTYPE=image/jpeg:https://dallasgop.org/wp-content/uploads/2025/06/Collin-Denton-County-Texas-Values-Legislative-Update-and-Benefit-Lunch-4-1200-x-630.jpg
END:VEVENT
END:VCALENDAR