BEGIN:VCALENDAR
VERSION:2.0
PRODID:-//Dallas County Republican Party - ECPv6.10.1//NONSGML v1.0//EN
CALSCALE:GREGORIAN
METHOD:PUBLISH
X-WR-CALNAME:Dallas County Republican Party
X-ORIGINAL-URL:https://dallasgop.org
X-WR-CALDESC:Events for Dallas County Republican Party
REFRESH-INTERVAL;VALUE=DURATION:PT1H
X-Robots-Tag:noindex
X-PUBLISHED-TTL:PT1H
BEGIN:VTIMEZONE
TZID:UTC
BEGIN:STANDARD
TZOFFSETFROM:+0000
TZOFFSETTO:+0000
TZNAME:UTC
DTSTART:20270101T000000
END:STANDARD
END:VTIMEZONE
BEGIN:VEVENT
DTSTART;TZID=UTC:20270511T183000
DTEND;TZID=UTC:20270511T203000
DTSTAMP:20260419T102101
CREATED:20240606T131955Z
LAST-MODIFIED:20240709T182632Z
UID:10000348-1810060200-1810067400@dallasgop.org
SUMMARY:Greater Irving Republican Club
DESCRIPTION:Come and meet with like-minded Republicans for information\, speakers and fellowship.  Arrive at 6:15 – 6:30 pm for some tasty BBQ at Spring Creek BBQ Hwy 183 in Irving.  Meeting begins promptly at 7pm.
URL:https://dallasgop.org/event/greater-irving-republican-club-2/2027-05-11/
LOCATION:Spring Creek BBQ – Irving\, 3514 W Airport Fwy\,\, Irving\, TX\, 75062
END:VEVENT
BEGIN:VEVENT
DTSTART;TZID=UTC:20270608T183000
DTEND;TZID=UTC:20270608T203000
DTSTAMP:20260419T102101
CREATED:20240606T131955Z
LAST-MODIFIED:20240709T182632Z
UID:10000349-1812479400-1812486600@dallasgop.org
SUMMARY:Greater Irving Republican Club
DESCRIPTION:Come and meet with like-minded Republicans for information\, speakers and fellowship.  Arrive at 6:15 – 6:30 pm for some tasty BBQ at Spring Creek BBQ Hwy 183 in Irving.  Meeting begins promptly at 7pm.
URL:https://dallasgop.org/event/greater-irving-republican-club-2/2027-06-08/
LOCATION:Spring Creek BBQ – Irving\, 3514 W Airport Fwy\,\, Irving\, TX\, 75062
END:VEVENT
BEGIN:VEVENT
DTSTART;TZID=UTC:20270713T183000
DTEND;TZID=UTC:20270713T203000
DTSTAMP:20260419T102101
CREATED:20240606T131955Z
LAST-MODIFIED:20240709T182632Z
UID:10000350-1815503400-1815510600@dallasgop.org
SUMMARY:Greater Irving Republican Club
DESCRIPTION:Come and meet with like-minded Republicans for information\, speakers and fellowship.  Arrive at 6:15 – 6:30 pm for some tasty BBQ at Spring Creek BBQ Hwy 183 in Irving.  Meeting begins promptly at 7pm.
URL:https://dallasgop.org/event/greater-irving-republican-club-2/2027-07-13/
LOCATION:Spring Creek BBQ – Irving\, 3514 W Airport Fwy\,\, Irving\, TX\, 75062
END:VEVENT
BEGIN:VEVENT
DTSTART;TZID=UTC:20270810T183000
DTEND;TZID=UTC:20270810T203000
DTSTAMP:20260419T102101
CREATED:20240606T131955Z
LAST-MODIFIED:20240709T182632Z
UID:10000351-1817922600-1817929800@dallasgop.org
SUMMARY:Greater Irving Republican Club
DESCRIPTION:Come and meet with like-minded Republicans for information\, speakers and fellowship.  Arrive at 6:15 – 6:30 pm for some tasty BBQ at Spring Creek BBQ Hwy 183 in Irving.  Meeting begins promptly at 7pm.
URL:https://dallasgop.org/event/greater-irving-republican-club-2/2027-08-10/
LOCATION:Spring Creek BBQ – Irving\, 3514 W Airport Fwy\,\, Irving\, TX\, 75062
END:VEVENT
BEGIN:VEVENT
DTSTART;TZID=UTC:20270914T183000
DTEND;TZID=UTC:20270914T203000
DTSTAMP:20260419T102101
CREATED:20240606T131955Z
LAST-MODIFIED:20240709T182632Z
UID:10000352-1820946600-1820953800@dallasgop.org
SUMMARY:Greater Irving Republican Club
DESCRIPTION:Come and meet with like-minded Republicans for information\, speakers and fellowship.  Arrive at 6:15 – 6:30 pm for some tasty BBQ at Spring Creek BBQ Hwy 183 in Irving.  Meeting begins promptly at 7pm.
URL:https://dallasgop.org/event/greater-irving-republican-club-2/2027-09-14/
LOCATION:Spring Creek BBQ – Irving\, 3514 W Airport Fwy\,\, Irving\, TX\, 75062
END:VEVENT
BEGIN:VEVENT
DTSTART;TZID=UTC:20271012T183000
DTEND;TZID=UTC:20271012T203000
DTSTAMP:20260419T102101
CREATED:20240606T131955Z
LAST-MODIFIED:20240709T182632Z
UID:10000353-1823365800-1823373000@dallasgop.org
SUMMARY:Greater Irving Republican Club
DESCRIPTION:Come and meet with like-minded Republicans for information\, speakers and fellowship.  Arrive at 6:15 – 6:30 pm for some tasty BBQ at Spring Creek BBQ Hwy 183 in Irving.  Meeting begins promptly at 7pm.
URL:https://dallasgop.org/event/greater-irving-republican-club-2/2027-10-12/
LOCATION:Spring Creek BBQ – Irving\, 3514 W Airport Fwy\,\, Irving\, TX\, 75062
END:VEVENT
BEGIN:VEVENT
DTSTART;TZID=UTC:20271109T183000
DTEND;TZID=UTC:20271109T203000
DTSTAMP:20260419T102101
CREATED:20240606T131955Z
LAST-MODIFIED:20240709T182632Z
UID:10000354-1825785000-1825792200@dallasgop.org
SUMMARY:Greater Irving Republican Club
DESCRIPTION:Come and meet with like-minded Republicans for information\, speakers and fellowship.  Arrive at 6:15 – 6:30 pm for some tasty BBQ at Spring Creek BBQ Hwy 183 in Irving.  Meeting begins promptly at 7pm.
URL:https://dallasgop.org/event/greater-irving-republican-club-2/2027-11-09/
LOCATION:Spring Creek BBQ – Irving\, 3514 W Airport Fwy\,\, Irving\, TX\, 75062
END:VEVENT
BEGIN:VEVENT
DTSTART;TZID=UTC:20271214T183000
DTEND;TZID=UTC:20271214T203000
DTSTAMP:20260419T102101
CREATED:20240606T131955Z
LAST-MODIFIED:20240709T182632Z
UID:10000355-1828809000-1828816200@dallasgop.org
SUMMARY:Greater Irving Republican Club
DESCRIPTION:Come and meet with like-minded Republicans for information\, speakers and fellowship.  Arrive at 6:15 – 6:30 pm for some tasty BBQ at Spring Creek BBQ Hwy 183 in Irving.  Meeting begins promptly at 7pm.
URL:https://dallasgop.org/event/greater-irving-republican-club-2/2027-12-14/
LOCATION:Spring Creek BBQ – Irving\, 3514 W Airport Fwy\,\, Irving\, TX\, 75062
END:VEVENT
BEGIN:VEVENT
DTSTART;TZID=UTC:20280111T183000
DTEND;TZID=UTC:20280111T203000
DTSTAMP:20260419T102101
CREATED:20240606T131955Z
LAST-MODIFIED:20240709T182632Z
UID:10000356-1831228200-1831235400@dallasgop.org
SUMMARY:Greater Irving Republican Club
DESCRIPTION:Come and meet with like-minded Republicans for information\, speakers and fellowship.  Arrive at 6:15 – 6:30 pm for some tasty BBQ at Spring Creek BBQ Hwy 183 in Irving.  Meeting begins promptly at 7pm.
URL:https://dallasgop.org/event/greater-irving-republican-club-2/2028-01-11/
LOCATION:Spring Creek BBQ – Irving\, 3514 W Airport Fwy\,\, Irving\, TX\, 75062
END:VEVENT
BEGIN:VEVENT
DTSTART;TZID=UTC:20280208T183000
DTEND;TZID=UTC:20280208T203000
DTSTAMP:20260419T102101
CREATED:20240606T131955Z
LAST-MODIFIED:20240709T182632Z
UID:10000357-1833647400-1833654600@dallasgop.org
SUMMARY:Greater Irving Republican Club
DESCRIPTION:Come and meet with like-minded Republicans for information\, speakers and fellowship.  Arrive at 6:15 – 6:30 pm for some tasty BBQ at Spring Creek BBQ Hwy 183 in Irving.  Meeting begins promptly at 7pm.
URL:https://dallasgop.org/event/greater-irving-republican-club-2/2028-02-08/
LOCATION:Spring Creek BBQ – Irving\, 3514 W Airport Fwy\,\, Irving\, TX\, 75062
END:VEVENT
BEGIN:VEVENT
DTSTART;TZID=UTC:20280314T183000
DTEND;TZID=UTC:20280314T203000
DTSTAMP:20260419T102101
CREATED:20240606T131955Z
LAST-MODIFIED:20240709T182632Z
UID:10000358-1836671400-1836678600@dallasgop.org
SUMMARY:Greater Irving Republican Club
DESCRIPTION:Come and meet with like-minded Republicans for information\, speakers and fellowship.  Arrive at 6:15 – 6:30 pm for some tasty BBQ at Spring Creek BBQ Hwy 183 in Irving.  Meeting begins promptly at 7pm.
URL:https://dallasgop.org/event/greater-irving-republican-club-2/2028-03-14/
LOCATION:Spring Creek BBQ – Irving\, 3514 W Airport Fwy\,\, Irving\, TX\, 75062
END:VEVENT
BEGIN:VEVENT
DTSTART;TZID=UTC:20280411T183000
DTEND;TZID=UTC:20280411T203000
DTSTAMP:20260419T102101
CREATED:20240606T131955Z
LAST-MODIFIED:20240709T182632Z
UID:10000359-1839090600-1839097800@dallasgop.org
SUMMARY:Greater Irving Republican Club
DESCRIPTION:Come and meet with like-minded Republicans for information\, speakers and fellowship.  Arrive at 6:15 – 6:30 pm for some tasty BBQ at Spring Creek BBQ Hwy 183 in Irving.  Meeting begins promptly at 7pm.
URL:https://dallasgop.org/event/greater-irving-republican-club-2/2028-04-11/
LOCATION:Spring Creek BBQ – Irving\, 3514 W Airport Fwy\,\, Irving\, TX\, 75062
END:VEVENT
BEGIN:VEVENT
DTSTART;TZID=UTC:20280509T183000
DTEND;TZID=UTC:20280509T203000
DTSTAMP:20260419T102101
CREATED:20240606T131955Z
LAST-MODIFIED:20240709T182632Z
UID:10000360-1841509800-1841517000@dallasgop.org
SUMMARY:Greater Irving Republican Club
DESCRIPTION:Come and meet with like-minded Republicans for information\, speakers and fellowship.  Arrive at 6:15 – 6:30 pm for some tasty BBQ at Spring Creek BBQ Hwy 183 in Irving.  Meeting begins promptly at 7pm.
URL:https://dallasgop.org/event/greater-irving-republican-club-2/2028-05-09/
LOCATION:Spring Creek BBQ – Irving\, 3514 W Airport Fwy\,\, Irving\, TX\, 75062
END:VEVENT
BEGIN:VEVENT
DTSTART;TZID=UTC:20280613T183000
DTEND;TZID=UTC:20280613T203000
DTSTAMP:20260419T102101
CREATED:20240606T131955Z
LAST-MODIFIED:20240709T182632Z
UID:10000361-1844533800-1844541000@dallasgop.org
SUMMARY:Greater Irving Republican Club
DESCRIPTION:Come and meet with like-minded Republicans for information\, speakers and fellowship.  Arrive at 6:15 – 6:30 pm for some tasty BBQ at Spring Creek BBQ Hwy 183 in Irving.  Meeting begins promptly at 7pm.
URL:https://dallasgop.org/event/greater-irving-republican-club-2/2028-06-13/
LOCATION:Spring Creek BBQ – Irving\, 3514 W Airport Fwy\,\, Irving\, TX\, 75062
END:VEVENT
BEGIN:VEVENT
DTSTART;TZID=UTC:20280711T183000
DTEND;TZID=UTC:20280711T203000
DTSTAMP:20260419T102101
CREATED:20240606T131955Z
LAST-MODIFIED:20240709T182632Z
UID:10000362-1846953000-1846960200@dallasgop.org
SUMMARY:Greater Irving Republican Club
DESCRIPTION:Come and meet with like-minded Republicans for information\, speakers and fellowship.  Arrive at 6:15 – 6:30 pm for some tasty BBQ at Spring Creek BBQ Hwy 183 in Irving.  Meeting begins promptly at 7pm.
URL:https://dallasgop.org/event/greater-irving-republican-club-2/2028-07-11/
LOCATION:Spring Creek BBQ – Irving\, 3514 W Airport Fwy\,\, Irving\, TX\, 75062
END:VEVENT
BEGIN:VEVENT
DTSTART;TZID=UTC:20280808T183000
DTEND;TZID=UTC:20280808T203000
DTSTAMP:20260419T102101
CREATED:20240606T131955Z
LAST-MODIFIED:20240709T182632Z
UID:10000363-1849372200-1849379400@dallasgop.org
SUMMARY:Greater Irving Republican Club
DESCRIPTION:Come and meet with like-minded Republicans for information\, speakers and fellowship.  Arrive at 6:15 – 6:30 pm for some tasty BBQ at Spring Creek BBQ Hwy 183 in Irving.  Meeting begins promptly at 7pm.
URL:https://dallasgop.org/event/greater-irving-republican-club-2/2028-08-08/
LOCATION:Spring Creek BBQ – Irving\, 3514 W Airport Fwy\,\, Irving\, TX\, 75062
END:VEVENT
BEGIN:VEVENT
DTSTART;TZID=UTC:20280912T183000
DTEND;TZID=UTC:20280912T203000
DTSTAMP:20260419T102101
CREATED:20240606T131955Z
LAST-MODIFIED:20240709T182632Z
UID:10000364-1852396200-1852403400@dallasgop.org
SUMMARY:Greater Irving Republican Club
DESCRIPTION:Come and meet with like-minded Republicans for information\, speakers and fellowship.  Arrive at 6:15 – 6:30 pm for some tasty BBQ at Spring Creek BBQ Hwy 183 in Irving.  Meeting begins promptly at 7pm.
URL:https://dallasgop.org/event/greater-irving-republican-club-2/2028-09-12/
LOCATION:Spring Creek BBQ – Irving\, 3514 W Airport Fwy\,\, Irving\, TX\, 75062
END:VEVENT
BEGIN:VEVENT
DTSTART;TZID=UTC:20281010T183000
DTEND;TZID=UTC:20281010T203000
DTSTAMP:20260419T102101
CREATED:20240606T131955Z
LAST-MODIFIED:20240709T182632Z
UID:10000365-1854815400-1854822600@dallasgop.org
SUMMARY:Greater Irving Republican Club
DESCRIPTION:Come and meet with like-minded Republicans for information\, speakers and fellowship.  Arrive at 6:15 – 6:30 pm for some tasty BBQ at Spring Creek BBQ Hwy 183 in Irving.  Meeting begins promptly at 7pm.
URL:https://dallasgop.org/event/greater-irving-republican-club-2/2028-10-10/
LOCATION:Spring Creek BBQ – Irving\, 3514 W Airport Fwy\,\, Irving\, TX\, 75062
END:VEVENT
BEGIN:VEVENT
DTSTART;TZID=UTC:20281114T183000
DTEND;TZID=UTC:20281114T203000
DTSTAMP:20260419T102101
CREATED:20240606T131955Z
LAST-MODIFIED:20240709T182632Z
UID:10000366-1857839400-1857846600@dallasgop.org
SUMMARY:Greater Irving Republican Club
DESCRIPTION:Come and meet with like-minded Republicans for information\, speakers and fellowship.  Arrive at 6:15 – 6:30 pm for some tasty BBQ at Spring Creek BBQ Hwy 183 in Irving.  Meeting begins promptly at 7pm.
URL:https://dallasgop.org/event/greater-irving-republican-club-2/2028-11-14/
LOCATION:Spring Creek BBQ – Irving\, 3514 W Airport Fwy\,\, Irving\, TX\, 75062
END:VEVENT
BEGIN:VEVENT
DTSTART;TZID=UTC:20281212T183000
DTEND;TZID=UTC:20281212T203000
DTSTAMP:20260419T102101
CREATED:20240606T131955Z
LAST-MODIFIED:20240709T182632Z
UID:10000367-1860258600-1860265800@dallasgop.org
SUMMARY:Greater Irving Republican Club
DESCRIPTION:Come and meet with like-minded Republicans for information\, speakers and fellowship.  Arrive at 6:15 – 6:30 pm for some tasty BBQ at Spring Creek BBQ Hwy 183 in Irving.  Meeting begins promptly at 7pm.
URL:https://dallasgop.org/event/greater-irving-republican-club-2/2028-12-12/
LOCATION:Spring Creek BBQ – Irving\, 3514 W Airport Fwy\,\, Irving\, TX\, 75062
END:VEVENT
BEGIN:VEVENT
DTSTART;TZID=UTC:20290109T183000
DTEND;TZID=UTC:20290109T203000
DTSTAMP:20260419T102101
CREATED:20240606T131955Z
LAST-MODIFIED:20240709T182632Z
UID:10000368-1862677800-1862685000@dallasgop.org
SUMMARY:Greater Irving Republican Club
DESCRIPTION:Come and meet with like-minded Republicans for information\, speakers and fellowship.  Arrive at 6:15 – 6:30 pm for some tasty BBQ at Spring Creek BBQ Hwy 183 in Irving.  Meeting begins promptly at 7pm.
URL:https://dallasgop.org/event/greater-irving-republican-club-2/2029-01-09/
LOCATION:Spring Creek BBQ – Irving\, 3514 W Airport Fwy\,\, Irving\, TX\, 75062
END:VEVENT
BEGIN:VEVENT
DTSTART;TZID=UTC:20290213T183000
DTEND;TZID=UTC:20290213T203000
DTSTAMP:20260419T102101
CREATED:20240606T131955Z
LAST-MODIFIED:20240709T182632Z
UID:10000369-1865701800-1865709000@dallasgop.org
SUMMARY:Greater Irving Republican Club
DESCRIPTION:Come and meet with like-minded Republicans for information\, speakers and fellowship.  Arrive at 6:15 – 6:30 pm for some tasty BBQ at Spring Creek BBQ Hwy 183 in Irving.  Meeting begins promptly at 7pm.
URL:https://dallasgop.org/event/greater-irving-republican-club-2/2029-02-13/
LOCATION:Spring Creek BBQ – Irving\, 3514 W Airport Fwy\,\, Irving\, TX\, 75062
END:VEVENT
BEGIN:VEVENT
DTSTART;TZID=UTC:20290313T183000
DTEND;TZID=UTC:20290313T203000
DTSTAMP:20260419T102101
CREATED:20240606T131955Z
LAST-MODIFIED:20240709T182632Z
UID:10000370-1868121000-1868128200@dallasgop.org
SUMMARY:Greater Irving Republican Club
DESCRIPTION:Come and meet with like-minded Republicans for information\, speakers and fellowship.  Arrive at 6:15 – 6:30 pm for some tasty BBQ at Spring Creek BBQ Hwy 183 in Irving.  Meeting begins promptly at 7pm.
URL:https://dallasgop.org/event/greater-irving-republican-club-2/2029-03-13/
LOCATION:Spring Creek BBQ – Irving\, 3514 W Airport Fwy\,\, Irving\, TX\, 75062
END:VEVENT
BEGIN:VEVENT
DTSTART;TZID=UTC:20290410T183000
DTEND;TZID=UTC:20290410T203000
DTSTAMP:20260419T102101
CREATED:20240606T131955Z
LAST-MODIFIED:20240709T182632Z
UID:10000371-1870540200-1870547400@dallasgop.org
SUMMARY:Greater Irving Republican Club
DESCRIPTION:Come and meet with like-minded Republicans for information\, speakers and fellowship.  Arrive at 6:15 – 6:30 pm for some tasty BBQ at Spring Creek BBQ Hwy 183 in Irving.  Meeting begins promptly at 7pm.
URL:https://dallasgop.org/event/greater-irving-republican-club-2/2029-04-10/
LOCATION:Spring Creek BBQ – Irving\, 3514 W Airport Fwy\,\, Irving\, TX\, 75062
END:VEVENT
BEGIN:VEVENT
DTSTART;TZID=UTC:20290508T183000
DTEND;TZID=UTC:20290508T203000
DTSTAMP:20260419T102101
CREATED:20240606T131955Z
LAST-MODIFIED:20240709T182632Z
UID:10000372-1872959400-1872966600@dallasgop.org
SUMMARY:Greater Irving Republican Club
DESCRIPTION:Come and meet with like-minded Republicans for information\, speakers and fellowship.  Arrive at 6:15 – 6:30 pm for some tasty BBQ at Spring Creek BBQ Hwy 183 in Irving.  Meeting begins promptly at 7pm.
URL:https://dallasgop.org/event/greater-irving-republican-club-2/2029-05-08/
LOCATION:Spring Creek BBQ – Irving\, 3514 W Airport Fwy\,\, Irving\, TX\, 75062
END:VEVENT
BEGIN:VEVENT
DTSTART;TZID=UTC:20290612T183000
DTEND;TZID=UTC:20290612T203000
DTSTAMP:20260419T102101
CREATED:20240606T131955Z
LAST-MODIFIED:20240709T182632Z
UID:10000373-1875983400-1875990600@dallasgop.org
SUMMARY:Greater Irving Republican Club
DESCRIPTION:Come and meet with like-minded Republicans for information\, speakers and fellowship.  Arrive at 6:15 – 6:30 pm for some tasty BBQ at Spring Creek BBQ Hwy 183 in Irving.  Meeting begins promptly at 7pm.
URL:https://dallasgop.org/event/greater-irving-republican-club-2/2029-06-12/
LOCATION:Spring Creek BBQ – Irving\, 3514 W Airport Fwy\,\, Irving\, TX\, 75062
END:VEVENT
BEGIN:VEVENT
DTSTART;TZID=UTC:20290710T183000
DTEND;TZID=UTC:20290710T203000
DTSTAMP:20260419T102101
CREATED:20240606T131955Z
LAST-MODIFIED:20240709T182632Z
UID:10003821-1878402600-1878409800@dallasgop.org
SUMMARY:Greater Irving Republican Club
DESCRIPTION:Come and meet with like-minded Republicans for information\, speakers and fellowship.  Arrive at 6:15 – 6:30 pm for some tasty BBQ at Spring Creek BBQ Hwy 183 in Irving.  Meeting begins promptly at 7pm.
URL:https://dallasgop.org/event/greater-irving-republican-club-2/2029-07-10/
LOCATION:Spring Creek BBQ – Irving\, 3514 W Airport Fwy\,\, Irving\, TX\, 75062
END:VEVENT
BEGIN:VEVENT
DTSTART;TZID=UTC:20290814T183000
DTEND;TZID=UTC:20290814T203000
DTSTAMP:20260419T102101
CREATED:20240606T131955Z
LAST-MODIFIED:20240709T182632Z
UID:10003822-1881426600-1881433800@dallasgop.org
SUMMARY:Greater Irving Republican Club
DESCRIPTION:Come and meet with like-minded Republicans for information\, speakers and fellowship.  Arrive at 6:15 – 6:30 pm for some tasty BBQ at Spring Creek BBQ Hwy 183 in Irving.  Meeting begins promptly at 7pm.
URL:https://dallasgop.org/event/greater-irving-republican-club-2/2029-08-14/
LOCATION:Spring Creek BBQ – Irving\, 3514 W Airport Fwy\,\, Irving\, TX\, 75062
END:VEVENT
BEGIN:VEVENT
DTSTART;TZID=UTC:20290911T183000
DTEND;TZID=UTC:20290911T203000
DTSTAMP:20260419T102101
CREATED:20240606T131955Z
LAST-MODIFIED:20240709T182632Z
UID:10003823-1883845800-1883853000@dallasgop.org
SUMMARY:Greater Irving Republican Club
DESCRIPTION:Come and meet with like-minded Republicans for information\, speakers and fellowship.  Arrive at 6:15 – 6:30 pm for some tasty BBQ at Spring Creek BBQ Hwy 183 in Irving.  Meeting begins promptly at 7pm.
URL:https://dallasgop.org/event/greater-irving-republican-club-2/2029-09-11/
LOCATION:Spring Creek BBQ – Irving\, 3514 W Airport Fwy\,\, Irving\, TX\, 75062
END:VEVENT
BEGIN:VEVENT
DTSTART;TZID=UTC:20291009T183000
DTEND;TZID=UTC:20291009T203000
DTSTAMP:20260419T102101
CREATED:20240606T131955Z
LAST-MODIFIED:20240709T182632Z
UID:10003824-1886265000-1886272200@dallasgop.org
SUMMARY:Greater Irving Republican Club
DESCRIPTION:Come and meet with like-minded Republicans for information\, speakers and fellowship.  Arrive at 6:15 – 6:30 pm for some tasty BBQ at Spring Creek BBQ Hwy 183 in Irving.  Meeting begins promptly at 7pm.
URL:https://dallasgop.org/event/greater-irving-republican-club-2/2029-10-09/
LOCATION:Spring Creek BBQ – Irving\, 3514 W Airport Fwy\,\, Irving\, TX\, 75062
END:VEVENT
END:VCALENDAR