BEGIN:VCALENDAR
VERSION:2.0
PRODID:-//Dallas County Republican Party - ECPv6.10.1//NONSGML v1.0//EN
CALSCALE:GREGORIAN
METHOD:PUBLISH
X-ORIGINAL-URL:https://dallasgop.org
X-WR-CALDESC:Events for Dallas County Republican Party
REFRESH-INTERVAL;VALUE=DURATION:PT1H
X-Robots-Tag:noindex
X-PUBLISHED-TTL:PT1H
BEGIN:VTIMEZONE
TZID:America/Chicago
BEGIN:DAYLIGHT
TZOFFSETFROM:-0600
TZOFFSETTO:-0500
TZNAME:CDT
DTSTART:20250309T080000
END:DAYLIGHT
BEGIN:STANDARD
TZOFFSETFROM:-0500
TZOFFSETTO:-0600
TZNAME:CST
DTSTART:20251102T070000
END:STANDARD
END:VTIMEZONE
BEGIN:VEVENT
DTSTART;TZID=America/Chicago:20251211T190000
DTEND;TZID=America/Chicago:20251211T220000
DTSTAMP:20260419T072537
CREATED:20251209T035301Z
LAST-MODIFIED:20251210T135355Z
UID:10003958-1765479600-1765490400@dallasgop.org
SUMMARY:Kurt's Holiday Reception
DESCRIPTION:Join my campaign team and I as we celebrate Christmas! We’ll have appetizers on hand\, music and a cash bar along with a few speakers at The Wild Turkey. \nPlease RSVP and let us know you are coming at https://kurtschwab4congress.com/rsvp_holiday/
URL:https://dallasgop.org/event/kurts-holiday-reception/
LOCATION:The Wild Turkey\, 2470 Walnut Ln #5627\, Dallas\, Texas\, 75229
ATTACH;FMTTYPE=image/jpeg:https://dallasgop.org/wp-content/uploads/2025/12/IMG_0011.jpeg
END:VEVENT
BEGIN:VEVENT
DTSTART;TZID=America/Chicago:20251113T180000
DTEND;TZID=America/Chicago:20251113T210000
DTSTAMP:20260419T072537
CREATED:20251015T182653Z
LAST-MODIFIED:20251015T182653Z
UID:10003915-1763056800-1763067600@dallasgop.org
SUMMARY:Kurt Schwab for Congress CD33\, Campaign Kickoff
DESCRIPTION:Join us Thursday November 13 at: \nThe Wild Turkey Restaurant\n2470 Walnut Ln #5627\, Dallas\, TX 75229 \nFrom 6:00pm – 9:00pm \nRSVP – kurtschwab4congress.com
URL:https://dallasgop.org/event/kurt-schwab-for-congress-cd33-campaign-kickoff/
LOCATION:The Wild Turkey\, 2470 Walnut Ln #5627\, Dallas\, Texas\, 75229
ATTACH;FMTTYPE=image/jpeg:https://dallasgop.org/wp-content/uploads/2025/10/Kickoff-invitation-4.jpg
END:VEVENT
END:VCALENDAR